BEGIN:VCALENDAR
VERSION:2.0
PRODID:-//BEC Technologies, Inc. - ECPv6.15.20//NONSGML v1.0//EN
CALSCALE:GREGORIAN
METHOD:PUBLISH
X-ORIGINAL-URL:https://bectechnologies.net
X-WR-CALDESC:Events for BEC Technologies, Inc.
REFRESH-INTERVAL;VALUE=DURATION:PT1H
X-Robots-Tag:noindex
X-PUBLISHED-TTL:PT1H
BEGIN:VTIMEZONE
TZID:America/Chicago
BEGIN:DAYLIGHT
TZOFFSETFROM:-0600
TZOFFSETTO:-0500
TZNAME:CDT
DTSTART:20230312T080000
END:DAYLIGHT
BEGIN:STANDARD
TZOFFSETFROM:-0500
TZOFFSETTO:-0600
TZNAME:CST
DTSTART:20231105T070000
END:STANDARD
BEGIN:DAYLIGHT
TZOFFSETFROM:-0600
TZOFFSETTO:-0500
TZNAME:CDT
DTSTART:20240310T080000
END:DAYLIGHT
BEGIN:STANDARD
TZOFFSETFROM:-0500
TZOFFSETTO:-0600
TZNAME:CST
DTSTART:20241103T070000
END:STANDARD
BEGIN:DAYLIGHT
TZOFFSETFROM:-0600
TZOFFSETTO:-0500
TZNAME:CDT
DTSTART:20250309T080000
END:DAYLIGHT
BEGIN:STANDARD
TZOFFSETFROM:-0500
TZOFFSETTO:-0600
TZNAME:CST
DTSTART:20251102T070000
END:STANDARD
END:VTIMEZONE
BEGIN:VEVENT
DTSTART;VALUE=DATE:20240911
DTEND;VALUE=DATE:20240913
DTSTAMP:20260420T031608
CREATED:20240517T164418Z
LAST-MODIFIED:20240517T164418Z
UID:10000523-1726012800-1726185599@bectechnologies.net
SUMMARY:Connected Britain 2024 – Stand #34a
DESCRIPTION:Connected Britain is the UK’s most important digital economy event\, bringing together stakeholders from across the connectivity ecosystem. Excellent digital connectivity is crucial for unlocking positive socio-economic benefits for the UK’s people\, businesses\, and communities. Connected Britain 2024 will explore how the UK can capitalize on the opportunities that digital infrastructure and emerging technologies bring and will showcase the leaders who are making innovation happen. \nFind out at Connected Britain 2024 – the UK’s biggest connectivity event.
URL:https://bectechnologies.net/event/connected-britain-2024-stand-34a/
LOCATION:ExCeL London\, Royal Victoria Dock\, 1 Western Gateway\, London\, E16 1XL\, United Kingdom
CATEGORIES:Trade Show
ATTACH;FMTTYPE=image/png:https://bectechnologies.net/wp-content/uploads/2024/05/Connected-Britain-2024-banner.png
ORGANIZER;CN="total telecom":MAILTO:info@totaltele.com
END:VEVENT
END:VCALENDAR