BEGIN:VCALENDAR
VERSION:2.0
PRODID:-//BEC Technologies, Inc. - ECPv6.15.20//NONSGML v1.0//EN
CALSCALE:GREGORIAN
METHOD:PUBLISH
X-WR-CALNAME:BEC Technologies, Inc.
X-ORIGINAL-URL:https://bectechnologies.net
X-WR-CALDESC:Events for BEC Technologies, Inc.
REFRESH-INTERVAL;VALUE=DURATION:PT1H
X-Robots-Tag:noindex
X-PUBLISHED-TTL:PT1H
BEGIN:VTIMEZONE
TZID:America/Chicago
BEGIN:DAYLIGHT
TZOFFSETFROM:-0600
TZOFFSETTO:-0500
TZNAME:CDT
DTSTART:20230312T080000
END:DAYLIGHT
BEGIN:STANDARD
TZOFFSETFROM:-0500
TZOFFSETTO:-0600
TZNAME:CST
DTSTART:20231105T070000
END:STANDARD
BEGIN:DAYLIGHT
TZOFFSETFROM:-0600
TZOFFSETTO:-0500
TZNAME:CDT
DTSTART:20240310T080000
END:DAYLIGHT
BEGIN:STANDARD
TZOFFSETFROM:-0500
TZOFFSETTO:-0600
TZNAME:CST
DTSTART:20241103T070000
END:STANDARD
BEGIN:DAYLIGHT
TZOFFSETFROM:-0600
TZOFFSETTO:-0500
TZNAME:CDT
DTSTART:20250309T080000
END:DAYLIGHT
BEGIN:STANDARD
TZOFFSETFROM:-0500
TZOFFSETTO:-0600
TZNAME:CST
DTSTART:20251102T070000
END:STANDARD
END:VTIMEZONE
BEGIN:VEVENT
DTSTART;VALUE=DATE:20241105
DTEND;VALUE=DATE:20241108
DTSTAMP:20260419T230413
CREATED:20240627T155114Z
LAST-MODIFIED:20240627T155114Z
UID:10000527-1730764800-1731023999@bectechnologies.net
SUMMARY:UBBA Summit & Plugfest 2024 – Booth #511
DESCRIPTION:The Utility Broadband Alliance (UBBA) is a collaboration of utilities and ecosystem partners dedicated to championing the advancement and development of private broadband networks for America’s critical infrastructure industries. The Summit & Plugfest 2024 will be the not-to-be-missed in-person culmination UBBA work toward our mission. Join utility executives\, innovation leaders\, and utilities from across North America\, and beyond for this year’s Summit & Plugfest.
URL:https://bectechnologies.net/event/ubba-summit-plugfest-2024-booth-511/
LOCATION:Kansas City Convention Center\, 301 W 13th St #100\, Kansas City\, MO\, 64105\, United States
CATEGORIES:Trade Show
ATTACH;FMTTYPE=image/png:https://bectechnologies.net/wp-content/uploads/2024/06/UBBA-Summit-Plugfest-2024-banner.png
ORGANIZER;CN="UBBA":MAILTO:bharris@ubba.com
END:VEVENT
END:VCALENDAR