BEGIN:VCALENDAR
VERSION:2.0
PRODID:-//BEC Technologies, Inc. - ECPv6.15.20//NONSGML v1.0//EN
CALSCALE:GREGORIAN
METHOD:PUBLISH
X-ORIGINAL-URL:https://bectechnologies.net
X-WR-CALDESC:Events for BEC Technologies, Inc.
REFRESH-INTERVAL;VALUE=DURATION:PT1H
X-Robots-Tag:noindex
X-PUBLISHED-TTL:PT1H
BEGIN:VTIMEZONE
TZID:America/Chicago
BEGIN:DAYLIGHT
TZOFFSETFROM:-0600
TZOFFSETTO:-0500
TZNAME:CDT
DTSTART:20250309T080000
END:DAYLIGHT
BEGIN:STANDARD
TZOFFSETFROM:-0500
TZOFFSETTO:-0600
TZNAME:CST
DTSTART:20251102T070000
END:STANDARD
BEGIN:DAYLIGHT
TZOFFSETFROM:-0600
TZOFFSETTO:-0500
TZNAME:CDT
DTSTART:20260308T080000
END:DAYLIGHT
BEGIN:STANDARD
TZOFFSETFROM:-0500
TZOFFSETTO:-0600
TZNAME:CST
DTSTART:20261101T070000
END:STANDARD
BEGIN:DAYLIGHT
TZOFFSETFROM:-0600
TZOFFSETTO:-0500
TZNAME:CDT
DTSTART:20270314T080000
END:DAYLIGHT
BEGIN:STANDARD
TZOFFSETFROM:-0500
TZOFFSETTO:-0600
TZNAME:CST
DTSTART:20271107T070000
END:STANDARD
END:VTIMEZONE
BEGIN:VEVENT
DTSTART;VALUE=DATE:20260203
DTEND;VALUE=DATE:20260206
DTSTAMP:20260424T194649
CREATED:20251209T224046Z
LAST-MODIFIED:20260109T223958Z
UID:10000438-1770076800-1770335999@bectechnologies.net
SUMMARY:DistribuTech 2026 – Booth #4735
DESCRIPTION:From cutting-edge solutions in grid automation\, energy efficiency\, and demand response to breakthroughs in DER management\, smart cities\, transportation electrification\, and cybersecurity—DTECH® delivers the insights and connections that move the industry forward. Whether you’re focused on resiliency\, reliability\, sustainability\, or grid modernization\, DTECH® events offer unmatched value\, collaboration\, and opportunities to spark real transformation\, both today and tomorrow. Meet with us at booth #4735! We look forward to meeting you there!
URL:https://bectechnologies.net/event/distributech-2026-booth-1648/
LOCATION:San Diego Convention Center\, 111 W Harbor Dr.\, San Diego\, CA\, 92101\, United States
CATEGORIES:Trade Show
ATTACH;FMTTYPE=image/png:https://bectechnologies.net/wp-content/uploads/2025/12/DistribuTech-2026-banner.png
ORGANIZER;CN="Clarion Events US":MAILTO:USinfo@clarionevents.com
GEO:32.7063297;-117.1618414
X-APPLE-STRUCTURED-LOCATION;VALUE=URI;X-ADDRESS=San Diego Convention Center 111 W Harbor Dr. San Diego CA 92101 United States;X-APPLE-RADIUS=500;X-TITLE=111 W Harbor Dr.:geo:-117.1618414,32.7063297
END:VEVENT
BEGIN:VEVENT
DTSTART;VALUE=DATE:20260204
DTEND;VALUE=DATE:20260206
DTSTAMP:20260424T194649
CREATED:20251216T204221Z
LAST-MODIFIED:20251216T204221Z
UID:10000441-1770163200-1770335999@bectechnologies.net
SUMMARY:IoT TECH EXPO Global – Stand #76
DESCRIPTION:TechEx Global is where today’s technology leaders come for strategic clarity. Designed for CIOs\, CTOs\, IT Directors\, and enterprise architects\, TechEx delivers a high-level intelligence briefing across AI\, Cybersecurity\, IoT\, Data Infrastructure\, and Digital Transformation\, helping leaders understand what’s changing\, what matters\, and what to prioritize next. \nIn a single\, high-value environment\, you will gain the insight needed to refine your roadmap\, strengthen decision-making\, de-risk transformation\, and align your organization around the technologies shaping the next phase of digital evolution. \nMeet our team at Stand #76 to discuss how our connectivity solutions can help meet your company’s needs. We look forward to seeing you there.
URL:https://bectechnologies.net/event/iot-tech-expo-global-stand-76/
LOCATION:Olympia London\, Hammersmith Road\, Kensington\, London\, W14 8UX\, United Kingdom
CATEGORIES:Trade Show
ATTACH;FMTTYPE=image/png:https://bectechnologies.net/wp-content/uploads/2025/12/IoT-TECH-EXPO-Global-2026-banner.png
ORGANIZER;CN="TMCnet.com":MAILTO:tmc@tmcnet.com
END:VEVENT
BEGIN:VEVENT
DTSTART;VALUE=DATE:20260208
DTEND;VALUE=DATE:20260212
DTSTAMP:20260424T194649
CREATED:20251211T180825Z
LAST-MODIFIED:20251211T181143Z
UID:10000439-1770508800-1770854399@bectechnologies.net
SUMMARY:2026 Utilities Technology Forum Regions 8\, 9\, & 10 – Booth #211
DESCRIPTION:The 2026 Utilities Technology Forum’s education program is centered around engaging content tailored to the critical needs of our members and stakeholders\, along with other applicable industry themes that will benefit your organization. \nThis regional event is designed for individuals who need to stay abreast of changes and advancements in the utility and information technology industries. Sessions are relevant for IT managers\, telecommunications\, and wireless professionals from utility and energy companies\, as well as representatives from technology and service providers. \nVisit us at Booth 211 to meet our team and discuss how our connectivity solutions can meet your utility needs. We look forward to seeing you there!
URL:https://bectechnologies.net/event/2026-utilities-technology-forum-regions-8-9-10-booth-211/
LOCATION:Silver Legacy Resort Casino\, 407 North Virginia Street\, Reno\, NV\, 89501\, United States
CATEGORIES:Trade Show
ATTACH;FMTTYPE=image/png:https://bectechnologies.net/wp-content/uploads/2025/12/2026-Utilities-Technology-Forum-Regions-8-9-10-banner.png
ORGANIZER;CN="Utilities Technology Council":MAILTO:https://utc.org/get-in-touch-with-us/
END:VEVENT
BEGIN:VEVENT
DTSTART;VALUE=DATE:20260210
DTEND;VALUE=DATE:20260213
DTSTAMP:20260424T194649
CREATED:20251216T210740Z
LAST-MODIFIED:20251216T210740Z
UID:10000551-1770681600-1770940799@bectechnologies.net
SUMMARY:ITEXPO – Booth #1156
DESCRIPTION:Come to the ITEXPO #TECHSUPERSHOW to meet with the right business partners\, evaluate and choose the right technology options for your needs\, and stay ahead of threats by keeping an eye on today’s best-in-class cybersecurity tools. \nITEXPO is the one event that brings communications and technology professionals together across the entire ecosystem: \n\nEnterprise and SMB telecom and IT executives\nSmall business owners\nMSP and Channel C-levels and business owners\nService provider/carrier engineers and network executives\nIndustry suppliers and solutions providers\n\nWe look forward to meeting you at Booth 1156 to discuss how our connectivity solutions can meet your specific needs. See you there!
URL:https://bectechnologies.net/event/itexpo-booth-1156/
LOCATION:Fort Lauderdale Convention Center\, 1950 EISENHOWER BOULEVARD\,\, Florida\, 33316\, United States
CATEGORIES:Trade Show
ATTACH;FMTTYPE=image/jpeg:https://bectechnologies.net/wp-content/uploads/2025/12/ITEXPO-2026-banner.jpg
ORGANIZER;CN="TMCnet.com":MAILTO:tmc@tmcnet.com
GEO:26.098818;-80.122948
X-APPLE-STRUCTURED-LOCATION;VALUE=URI;X-ADDRESS=Fort Lauderdale Convention Center 1950 EISENHOWER BOULEVARD Florida 33316 United States;X-APPLE-RADIUS=500;X-TITLE=1950 EISENHOWER BOULEVARD\,:geo:-80.122948,26.098818
END:VEVENT
END:VCALENDAR