BEGIN:VCALENDAR
VERSION:2.0
PRODID:-//BEC Technologies, Inc. - ECPv6.15.20//NONSGML v1.0//EN
CALSCALE:GREGORIAN
METHOD:PUBLISH
X-ORIGINAL-URL:https://bectechnologies.net
X-WR-CALDESC:Events for BEC Technologies, Inc.
REFRESH-INTERVAL;VALUE=DURATION:PT1H
X-Robots-Tag:noindex
X-PUBLISHED-TTL:PT1H
BEGIN:VTIMEZONE
TZID:America/Chicago
BEGIN:DAYLIGHT
TZOFFSETFROM:-0600
TZOFFSETTO:-0500
TZNAME:CDT
DTSTART:20250309T080000
END:DAYLIGHT
BEGIN:STANDARD
TZOFFSETFROM:-0500
TZOFFSETTO:-0600
TZNAME:CST
DTSTART:20251102T070000
END:STANDARD
BEGIN:DAYLIGHT
TZOFFSETFROM:-0600
TZOFFSETTO:-0500
TZNAME:CDT
DTSTART:20260308T080000
END:DAYLIGHT
BEGIN:STANDARD
TZOFFSETFROM:-0500
TZOFFSETTO:-0600
TZNAME:CST
DTSTART:20261101T070000
END:STANDARD
BEGIN:DAYLIGHT
TZOFFSETFROM:-0600
TZOFFSETTO:-0500
TZNAME:CDT
DTSTART:20270314T080000
END:DAYLIGHT
BEGIN:STANDARD
TZOFFSETFROM:-0500
TZOFFSETTO:-0600
TZNAME:CST
DTSTART:20271107T070000
END:STANDARD
END:VTIMEZONE
BEGIN:VEVENT
DTSTART;VALUE=DATE:20260324
DTEND;VALUE=DATE:20260327
DTSTAMP:20260419T200723
CREATED:20260217T214351Z
LAST-MODIFIED:20260217T214351Z
UID:10000555-1774310400-1774569599@bectechnologies.net
SUMMARY:UTC Region 6 Meeting – exhibition
DESCRIPTION:Join BEC Technologies at the UTC Region 6 Meeting! \nPlease join us for the UTC Region 6 annual meeting and expo. We have an engaging event that is tailored to our members’ and stakeholders’ critical needs. \nThe UTC Region 6 meeting is where utility professionals and valued technology partners will collaborate on important issues such as technology\, market trends\, business strategies\, and industry solutions. See you there!
URL:https://bectechnologies.net/event/utc-region-6-meeting-exhibition/
LOCATION:DoubleTree by Hilton Hotel Kansas City – Overland Park\, 10100 College Boulevard\, Overland Park\, KS\, 66210\, United States
CATEGORIES:Conference,Trade Show
ATTACH;FMTTYPE=image/png:https://bectechnologies.net/wp-content/uploads/2026/02/UTC-Region-6-Meeting-banner.png
ORGANIZER;CN="Utilities Technology Council":MAILTO:https://utc.org/get-in-touch-with-us/
END:VEVENT
BEGIN:VEVENT
DTSTART;VALUE=DATE:20260413
DTEND;VALUE=DATE:20260417
DTSTAMP:20260419T200723
CREATED:20260217T224152Z
LAST-MODIFIED:20260312T220831Z
UID:10000556-1776038400-1776383999@bectechnologies.net
SUMMARY:Channel Partners Conference & Expo\, Booth #1560
DESCRIPTION:Channel Partners Conference & Expo\, the largest independent channel event in the world\, has united top partners\, providers\, and innovators to shape what’s next. Alongside it\, #MSPSummit has become a cornerstone for the managed-services community\, now expanding into a year-round series with spring and fall events. Together\, they deliver the most complete view of the channel’s evolution. \nIn 2026\, Channel Velocity: Acceleration Through Intelligence takes center stage: featuring the return of the AI Symposium\, a new CEO Track\, and sessions on automation\, data-driven strategy\, and customer intelligence. With partner playbooks and actionable frameworks to drive ROI\, this is where you’ll move faster\, think smarter\, and grow stronger. \nSpecial offer: Discount applied when you use promo code BEC  \n\nFREE Expo + Keynote Pass (Does not include meals)\n$269 Standard Pass (Includes meals)\n$429 Premium Pass (Includes meals)\n\nSee you there!
URL:https://bectechnologies.net/event/channel-partners-conference-expo-booth-1469/
LOCATION:The Venetian Convention Center & Expo\, 201 Sands Ave\, Las Vegas\, NV\, 89109\, United States
CATEGORIES:Trade Show
ATTACH;FMTTYPE=image/jpeg:https://bectechnologies.net/wp-content/uploads/2026/02/Channel-partners-expo-2026-banner.jpg
ORGANIZER;CN="Informa Telecoms &amp%3B Media":MAILTO: itmevents@informa.com
END:VEVENT
BEGIN:VEVENT
DTSTART;VALUE=DATE:20260414
DTEND;VALUE=DATE:20260417
DTSTAMP:20260419T200723
CREATED:20260217T233517Z
LAST-MODIFIED:20260217T233517Z
UID:10000557-1776124800-1776383999@bectechnologies.net
SUMMARY:2026 ENGINEERING & OPERATIONS CONFERENCE AND TRADE SHOW – Booth #233
DESCRIPTION:Join more than 1\,000 public power professionals from across the West for the region’s largest electric utility event. Over three days\, you’ll gain practical insights from 26 breakout sessions\, explore the latest products and innovations with more than 250 exhibitors\, and connect with peers from utilities across the Western U.S. Strengthen your skills\, earn continuing education credits\, and experience the energy of the industry through live equipment displays\, networking events\, and hands-on pre-conference workshops. \nMeet our team at Booth 233\, see you there!
URL:https://bectechnologies.net/event/2026-engineering-operations-conference-and-trade-show-booth-233/
LOCATION:Oregon Convention Center\, 777 NE Martin Luther King Jr. Blvd.\, Portland\, OR\, 97232\, United States
CATEGORIES:Trade Show
ATTACH;FMTTYPE=image/png:https://bectechnologies.net/wp-content/uploads/2026/02/EO2026-banner.png
ORGANIZER;CN="NWPPA":MAILTO:nwppa@nwppa.org
END:VEVENT
BEGIN:VEVENT
DTSTART;VALUE=DATE:20260601
DTEND;VALUE=DATE:20260605
DTSTAMP:20260419T200723
CREATED:20260218T213500Z
LAST-MODIFIED:20260218T213500Z
UID:10000558-1780272000-1780617599@bectechnologies.net
SUMMARY:2026 UTC Telecom & Technology Conference – Booth 408
DESCRIPTION:The UTC Annual Conference is your opportunity to join thousands of information and communications technology (ICT) professionals and technology partners. Each day is filled with opportunities to learn from global experts who aren’t just talking about modernizing utilities — they’re putting it to work. \nAttendees can participate in pre-conference training\, workshops\, roundtables\, and summits\, plus three full days of ICT education. The event also features an exhibit hall where you’ll build powerful professional connections and explore innovative solutions. \nMeet the BEC team at booth 408. We look forward to seeing you there : )
URL:https://bectechnologies.net/event/2026-utc-telecom-technology-conference-booth-408/
LOCATION:Minneapolis Convention Center\, 1301 2nd Ave S\, Minneapolis\, MN\, 55404\, United States
CATEGORIES:Trade Show
ATTACH;FMTTYPE=image/png:https://bectechnologies.net/wp-content/uploads/2026/02/UTC-2026-banner.png
ORGANIZER;CN="Utilities Technology Council":MAILTO:https://utc.org/get-in-touch-with-us/
END:VEVENT
BEGIN:VEVENT
DTSTART;VALUE=DATE:20260603
DTEND;VALUE=DATE:20260605
DTSTAMP:20260419T200723
CREATED:20260324T210655Z
LAST-MODIFIED:20260324T210655Z
UID:10000559-1780444800-1780617599@bectechnologies.net
SUMMARY:ElectroneX 2026\, Booth # C31
DESCRIPTION:Explore breakthrough technologies\, design solutions\, and manufacturing advances. \nThe competitive future of nearly every Australian industry sector is increasingly dependent on the integration of the latest electronics into all aspects of manufacturing\, production\, assembly\, and systems development. At Electronex\, designers\, managers\, engineers\, and system integrators can discuss their specific requirements with industry experts and see\, test\, and compare the latest products to future-proof their business. \nMeet the BEC team at Booth #C31 to see how our connectivity and IoT solutions can help your business!
URL:https://bectechnologies.net/event/electronex-2026-booth-c31/
LOCATION:Rosehill Gardens Event Centre\, James Ruse Dr\, Rosehill NSW 2142\, Australia\, Rosehill\, NSW 2142\, Australia
CATEGORIES:Trade Show
ATTACH;FMTTYPE=image/png:https://bectechnologies.net/wp-content/uploads/2026/03/ElectroneX-2026-banner.png
ORGANIZER;CN="Australasian Exhibitions & Events":MAILTO:info@auexhibitions.com.au
END:VEVENT
BEGIN:VEVENT
DTSTART;VALUE=DATE:20260922
DTEND;VALUE=DATE:20260925
DTSTAMP:20260419T200723
CREATED:20260413T192932Z
LAST-MODIFIED:20260413T192932Z
UID:10000561-1790035200-1790294399@bectechnologies.net
SUMMARY:Smart Cities Connect Conference & EXPO – Booth 813
DESCRIPTION:Smart cities have evolved from a futuristic vision into a tangible reality\, creating a fundamental impact on both people and the planet. From pilot projects showcasing innovative technologies to enduring infrastructure investments\, smart city solutions are now directly addressing modern urban challenges. \nThis conference brings together thought leaders\, urban planners\, technologists\, policymakers\, researchers\, and industry experts to discuss the multifaceted dimensions of catalyzing lasting change in urban settings. Please stop by Booth #813 to meet our team and discuss how we can help your business grow
URL:https://bectechnologies.net/event/smart-cities-connect-conference-expo-booth-813/
LOCATION:Gaylord National Hotel & Convention Center\, 201 Waterfront St\, Oxon Hill\, 20745\, United States
CATEGORIES:Trade Show
ATTACH;FMTTYPE=image/png:https://bectechnologies.net/wp-content/uploads/2026/04/Smart-Cities-Connect-EXPO-Fall-banner.png
ORGANIZER;CN="TechConnect":MAILTO:rerb@techconnect.org
END:VEVENT
BEGIN:VEVENT
DTSTART;VALUE=DATE:20261014
DTEND;VALUE=DATE:20261016
DTSTAMP:20260419T200723
CREATED:20260324T213949Z
LAST-MODIFIED:20260324T213949Z
UID:10000560-1791936000-1792108799@bectechnologies.net
SUMMARY:Comms Connect\, Booth #31
DESCRIPTION:Comms Connect brings together the professionals who select\, purchase\, install\, and maintain critical commercial communications and public safety equipment. \nAs the premier conference and expo for the Southern Hemisphere\, Comms Connect attracts serious buyers with significant budgets from a broad range of industries—including marine\, aviation\, utilities\, mining\, and emergency services. Attendees visit the event to network with peers\, learn from industry leaders\, and discover the latest technology from existing and new suppliers. \nEndorsed by leading industry bodies such as ARCIA\, ACCF\, and RFUANZ\, the events are part of the WF Media network\, which also publishes Critical Comms. \nMeet the BEC Team at Booth #31! We would love to discuss how our connectivity solutions can help your business.
URL:https://bectechnologies.net/event/comms-connect-booth-31/
LOCATION:Melbourne Convention and Exhibition Centre\, 1 Convention Centre Pl\, South Wharf\, VIC\, 3006\, Australia
CATEGORIES:Trade Show
ATTACH;FMTTYPE=image/jpeg:https://bectechnologies.net/wp-content/uploads/2026/03/Comms-Connect-2026-banner.jpg
END:VEVENT
END:VCALENDAR