BEGIN:VCALENDAR
VERSION:2.0
PRODID:-//BEC Technologies, Inc. - ECPv6.15.20//NONSGML v1.0//EN
CALSCALE:GREGORIAN
METHOD:PUBLISH
X-WR-CALNAME:BEC Technologies, Inc.
X-ORIGINAL-URL:https://bectechnologies.net
X-WR-CALDESC:Events for BEC Technologies, Inc.
REFRESH-INTERVAL;VALUE=DURATION:PT1H
X-Robots-Tag:noindex
X-PUBLISHED-TTL:PT1H
BEGIN:VTIMEZONE
TZID:America/Chicago
BEGIN:DAYLIGHT
TZOFFSETFROM:-0600
TZOFFSETTO:-0500
TZNAME:CDT
DTSTART:20230312T080000
END:DAYLIGHT
BEGIN:STANDARD
TZOFFSETFROM:-0500
TZOFFSETTO:-0600
TZNAME:CST
DTSTART:20231105T070000
END:STANDARD
BEGIN:DAYLIGHT
TZOFFSETFROM:-0600
TZOFFSETTO:-0500
TZNAME:CDT
DTSTART:20240310T080000
END:DAYLIGHT
BEGIN:STANDARD
TZOFFSETFROM:-0500
TZOFFSETTO:-0600
TZNAME:CST
DTSTART:20241103T070000
END:STANDARD
BEGIN:DAYLIGHT
TZOFFSETFROM:-0600
TZOFFSETTO:-0500
TZNAME:CDT
DTSTART:20250309T080000
END:DAYLIGHT
BEGIN:STANDARD
TZOFFSETFROM:-0500
TZOFFSETTO:-0600
TZNAME:CST
DTSTART:20251102T070000
END:STANDARD
END:VTIMEZONE
BEGIN:VEVENT
DTSTART;VALUE=DATE:20241008
DTEND;VALUE=DATE:20241011
DTSTAMP:20260420T051727
CREATED:20240626T214217Z
LAST-MODIFIED:20240626T214217Z
UID:10000525-1728345600-1728604799@bectechnologies.net
SUMMARY:MWC Las Vegas 2024 – Booth #1017
DESCRIPTION:MWC Las Vegas 2024 will feature the biggest names and current leaders in 5G-enabled technology. The event will showcase real-life use cases and case studies demonstrating how 5G is essential to the future of enterprise across three themes: Enterprise Transformation\, AI Networks\, and 5G EdgeCloud. \nExperience firsthand how this technology can solve your biggest current challenges at MWC Las Vegas. Insights will be shared by 5G leaders\, architects\, systems integrators\, and CIOs from successful 5G enterprises.
URL:https://bectechnologies.net/event/mwc-las-vegas-2024-booth-1017/
LOCATION:Las Vegas Convention Center\, 3150 Paradise Rd\, Las Vegas\, NV\, 89109\, United States
CATEGORIES:Trade Show
ATTACH;FMTTYPE=image/png:https://bectechnologies.net/wp-content/uploads/2024/06/MWC-Las-Vegas-2024.png
ORGANIZER;CN="GSMA":MAILTO:info@gsma.com
GEO:36.1311282;-115.1511192
X-APPLE-STRUCTURED-LOCATION;VALUE=URI;X-ADDRESS=Las Vegas Convention Center 3150 Paradise Rd Las Vegas NV 89109 United States;X-APPLE-RADIUS=500;X-TITLE=3150 Paradise Rd:geo:-115.1511192,36.1311282
END:VEVENT
BEGIN:VEVENT
DTSTART;VALUE=DATE:20241008
DTEND;VALUE=DATE:20241011
DTSTAMP:20260420T051727
CREATED:20240627T150840Z
LAST-MODIFIED:20240627T150840Z
UID:10000526-1728345600-1728604799@bectechnologies.net
SUMMARY:Network X 2024 – Stand #C36
DESCRIPTION:Network X 2024\, taking place in Paris from October 8-10\, will bring together over 5\,000 senior network infrastructure and service professionals from telcos\, leading vendors\, industry bodies\, governments\, analysts\, and media. This includes more than 1\,500 telcos\, all looking to reinvent the telecoms business model and go-to-market approach to better monetize network investments. \nWith 5G and fiber network rollouts\, the enhancement of transport networks\, and investments in complementary cloud-based technologies\, AI\, APIs\, and more\, telcos are future-proofing their networks. To monetize these investments\, the industry is now reinventing services\, network design\, and operating models to meet shifting consumer and B2B demands in today’s connected world.
URL:https://bectechnologies.net/event/network-x-2024-stand-c36/
LOCATION:Paris Expo Porte de Versailles\, 1 Place de la Porte de Versailles\, Paris\, 75015\, France
CATEGORIES:Trade Show
ATTACH;FMTTYPE=image/png:https://bectechnologies.net/wp-content/uploads/2024/06/Network-X-2024.png
ORGANIZER;CN="Informa Telecoms &amp%3B Media":MAILTO: itmevents@informa.com
END:VEVENT
END:VCALENDAR