BEGIN:VCALENDAR
VERSION:2.0
PRODID:-//BEC Technologies, Inc. - ECPv6.15.20//NONSGML v1.0//EN
CALSCALE:GREGORIAN
METHOD:PUBLISH
X-WR-CALNAME:BEC Technologies, Inc.
X-ORIGINAL-URL:https://bectechnologies.net
X-WR-CALDESC:Events for BEC Technologies, Inc.
REFRESH-INTERVAL;VALUE=DURATION:PT1H
X-Robots-Tag:noindex
X-PUBLISHED-TTL:PT1H
BEGIN:VTIMEZONE
TZID:America/Chicago
BEGIN:DAYLIGHT
TZOFFSETFROM:-0600
TZOFFSETTO:-0500
TZNAME:CDT
DTSTART:20230312T080000
END:DAYLIGHT
BEGIN:STANDARD
TZOFFSETFROM:-0500
TZOFFSETTO:-0600
TZNAME:CST
DTSTART:20231105T070000
END:STANDARD
BEGIN:DAYLIGHT
TZOFFSETFROM:-0600
TZOFFSETTO:-0500
TZNAME:CDT
DTSTART:20240310T080000
END:DAYLIGHT
BEGIN:STANDARD
TZOFFSETFROM:-0500
TZOFFSETTO:-0600
TZNAME:CST
DTSTART:20241103T070000
END:STANDARD
BEGIN:DAYLIGHT
TZOFFSETFROM:-0600
TZOFFSETTO:-0500
TZNAME:CDT
DTSTART:20250309T080000
END:DAYLIGHT
BEGIN:STANDARD
TZOFFSETFROM:-0500
TZOFFSETTO:-0600
TZNAME:CST
DTSTART:20251102T070000
END:STANDARD
END:VTIMEZONE
BEGIN:VEVENT
DTSTART;VALUE=DATE:20241021
DTEND;VALUE=DATE:20241024
DTSTAMP:20260420T031601
CREATED:20240912T204319Z
LAST-MODIFIED:20240912T204319Z
UID:10000529-1729468800-1729727999@bectechnologies.net
SUMMARY:MATSS 2024 – Booth #525
DESCRIPTION:MATSS (Mid-America Telecom Showcase & Seminar) is the annual gathering of independent telecommunication company professionals and vendors\, hosted by the telecommunications associations of Nebraska\, Kansas\, and Oklahoma\, and welcoming telecom officials from those states plus Arkansas and Missouri. \nThis event keeps members and associates up to date on the evolving needs\, services\, and technologies in the telecommunications industry. Sponsors and members ensure MATSS remains relevant year after year. \nVisit us at booth #525 – we look forward to meeting you there!
URL:https://bectechnologies.net/event/matss-2024-booth-525/
LOCATION:Sheraton Crown Center\, 2345 McGee St\, Kansas\, MO\, 64108\, United States
CATEGORIES:Trade Show
ATTACH;FMTTYPE=image/jpeg:https://bectechnologies.net/wp-content/uploads/2024/09/MATSS-2024-1.jpg
ORGANIZER;CN="MATSS":MAILTO:info@matss.org
GEO:39.0850658;-94.5809001
X-APPLE-STRUCTURED-LOCATION;VALUE=URI;X-ADDRESS=Sheraton Crown Center 2345 McGee St Kansas MO 64108 United States;X-APPLE-RADIUS=500;X-TITLE=2345 McGee St:geo:-94.5809001,39.0850658
END:VEVENT
END:VCALENDAR