BEGIN:VCALENDAR
VERSION:2.0
PRODID:-//BEC Technologies, Inc. - ECPv6.15.20//NONSGML v1.0//EN
CALSCALE:GREGORIAN
METHOD:PUBLISH
X-ORIGINAL-URL:https://bectechnologies.net
X-WR-CALDESC:Events for BEC Technologies, Inc.
REFRESH-INTERVAL;VALUE=DURATION:PT1H
X-Robots-Tag:noindex
X-PUBLISHED-TTL:PT1H
BEGIN:VTIMEZONE
TZID:America/Chicago
BEGIN:DAYLIGHT
TZOFFSETFROM:-0600
TZOFFSETTO:-0500
TZNAME:CDT
DTSTART:20240310T080000
END:DAYLIGHT
BEGIN:STANDARD
TZOFFSETFROM:-0500
TZOFFSETTO:-0600
TZNAME:CST
DTSTART:20241103T070000
END:STANDARD
BEGIN:DAYLIGHT
TZOFFSETFROM:-0600
TZOFFSETTO:-0500
TZNAME:CDT
DTSTART:20250309T080000
END:DAYLIGHT
BEGIN:STANDARD
TZOFFSETFROM:-0500
TZOFFSETTO:-0600
TZNAME:CST
DTSTART:20251102T070000
END:STANDARD
BEGIN:DAYLIGHT
TZOFFSETFROM:-0600
TZOFFSETTO:-0500
TZNAME:CDT
DTSTART:20260308T080000
END:DAYLIGHT
BEGIN:STANDARD
TZOFFSETFROM:-0500
TZOFFSETTO:-0600
TZNAME:CST
DTSTART:20261101T070000
END:STANDARD
END:VTIMEZONE
BEGIN:VEVENT
DTSTART;VALUE=DATE:20250305
DTEND;VALUE=DATE:20250308
DTSTAMP:20260419T121811
CREATED:20250115T205658Z
LAST-MODIFIED:20250115T205658Z
UID:10000532-1741132800-1741391999@bectechnologies.net
SUMMARY:UTC Region 3 2025 Meeting – Booth #29
DESCRIPTION:UTC continues to advocate at the FCC and Congress\, as well as the states to promote the telecommunications and information technology interests of utilities. This session will provide an update on the latest developments in wireless\, broadband\, infrastructure and security policies. On the wireless front\, there are emerging threats in terms of potential radiofrequency interference and there are new opportunities to access spectrum. Meanwhile\, broadband funding presents opportunities for utilities and challenges from additional demands for access to utility pole\, ducts\, conduit and rights-of-way. Finally\, additional security requirements are under consideration\, including cyber incident reporting for critical infrastructure. Don’t miss this important presentation from UTC\, where you can ask your questions and provide your ideas on these emerging advocacy issues. \n  \nPlease visit the Exhibit Hall at booth #29 between 3:30 PM and 6:00 PM on March 5\, 2025. We look forward to seeing you there!
URL:https://bectechnologies.net/event/utc-region-3-2025-meeting-booth-29/
LOCATION:Hyatt Jacksonville Riverfront\, 225 E Coastline Drive\, Jacksonville\, FL\, 32202\, United States
CATEGORIES:Trade Show
ATTACH;FMTTYPE=image/png:https://bectechnologies.net/wp-content/uploads/2025/01/UTC-Region-3-Meeting.png
ORGANIZER;CN="Utilities Technology Council":MAILTO:https://utc.org/get-in-touch-with-us/
END:VEVENT
END:VCALENDAR