BEGIN:VCALENDAR
VERSION:2.0
PRODID:-//BEC Technologies, Inc. - ECPv6.15.20//NONSGML v1.0//EN
CALSCALE:GREGORIAN
METHOD:PUBLISH
X-ORIGINAL-URL:https://bectechnologies.net
X-WR-CALDESC:Events for BEC Technologies, Inc.
REFRESH-INTERVAL;VALUE=DURATION:PT1H
X-Robots-Tag:noindex
X-PUBLISHED-TTL:PT1H
BEGIN:VTIMEZONE
TZID:America/Chicago
BEGIN:DAYLIGHT
TZOFFSETFROM:-0600
TZOFFSETTO:-0500
TZNAME:CDT
DTSTART:20240310T080000
END:DAYLIGHT
BEGIN:STANDARD
TZOFFSETFROM:-0500
TZOFFSETTO:-0600
TZNAME:CST
DTSTART:20241103T070000
END:STANDARD
BEGIN:DAYLIGHT
TZOFFSETFROM:-0600
TZOFFSETTO:-0500
TZNAME:CDT
DTSTART:20250309T080000
END:DAYLIGHT
BEGIN:STANDARD
TZOFFSETFROM:-0500
TZOFFSETTO:-0600
TZNAME:CST
DTSTART:20251102T070000
END:STANDARD
BEGIN:DAYLIGHT
TZOFFSETFROM:-0600
TZOFFSETTO:-0500
TZNAME:CDT
DTSTART:20260308T080000
END:DAYLIGHT
BEGIN:STANDARD
TZOFFSETFROM:-0500
TZOFFSETTO:-0600
TZNAME:CST
DTSTART:20261101T070000
END:STANDARD
END:VTIMEZONE
BEGIN:VEVENT
DTSTART;VALUE=DATE:20250616
DTEND;VALUE=DATE:20250620
DTSTAMP:20260420T042751
CREATED:20250116T161409Z
LAST-MODIFIED:20250411T193741Z
UID:10000537-1750032000-1750377599@bectechnologies.net
SUMMARY:2025 UTC TELECOM & TECHNOLOGY CONFERENCE – Booth #748
DESCRIPTION:The UTC Annual Conference is your opportunity to join hundreds of information and communications technology (ICT) professionals and technology partners. Each day is filled with opportunities to learn from global experts who aren’t solely talking about modernizing utilities – they’re putting it to work. \nYou’ll have opportunities to learn at pre-conference training\, workshops\, roundtables\, Summits\, four days of education covering all aspects of the ICT industry\, and build powerful professional resources in the Exhibit Hall. Don’t miss the opportunity to meet with us at Booth #748! We look forward to connecting with you.
URL:https://bectechnologies.net/event/2025-utc-telecom-technology-conference-booth-549/
LOCATION:Long Beach Convention Center\, 300 East Ocean Boulevard\, Long Beach\, CA\, 90802\, United States
CATEGORIES:Trade Show
ATTACH;FMTTYPE=image/jpeg:https://bectechnologies.net/wp-content/uploads/2025/01/UTC-2025-banner.jpg
ORGANIZER;CN="Utilities Technology Council":MAILTO:https://utc.org/get-in-touch-with-us/
END:VEVENT
END:VCALENDAR