BEGIN:VCALENDAR
VERSION:2.0
PRODID:-//BEC Technologies, Inc. - ECPv6.15.20//NONSGML v1.0//EN
CALSCALE:GREGORIAN
METHOD:PUBLISH
X-WR-CALNAME:BEC Technologies, Inc.
X-ORIGINAL-URL:https://bectechnologies.net
X-WR-CALDESC:Events for BEC Technologies, Inc.
REFRESH-INTERVAL;VALUE=DURATION:PT1H
X-Robots-Tag:noindex
X-PUBLISHED-TTL:PT1H
BEGIN:VTIMEZONE
TZID:America/Chicago
BEGIN:DAYLIGHT
TZOFFSETFROM:-0600
TZOFFSETTO:-0500
TZNAME:CDT
DTSTART:20250309T080000
END:DAYLIGHT
BEGIN:STANDARD
TZOFFSETFROM:-0500
TZOFFSETTO:-0600
TZNAME:CST
DTSTART:20251102T070000
END:STANDARD
BEGIN:DAYLIGHT
TZOFFSETFROM:-0600
TZOFFSETTO:-0500
TZNAME:CDT
DTSTART:20260308T080000
END:DAYLIGHT
BEGIN:STANDARD
TZOFFSETFROM:-0500
TZOFFSETTO:-0600
TZNAME:CST
DTSTART:20261101T070000
END:STANDARD
BEGIN:DAYLIGHT
TZOFFSETFROM:-0600
TZOFFSETTO:-0500
TZNAME:CDT
DTSTART:20270314T080000
END:DAYLIGHT
BEGIN:STANDARD
TZOFFSETFROM:-0500
TZOFFSETTO:-0600
TZNAME:CST
DTSTART:20271107T070000
END:STANDARD
END:VTIMEZONE
BEGIN:VEVENT
DTSTART;VALUE=DATE:20260309
DTEND;VALUE=DATE:20260312
DTSTAMP:20260424T213421
CREATED:20251216T220435Z
LAST-MODIFIED:20251216T220435Z
UID:10000552-1773014400-1773273599@bectechnologies.net
SUMMARY:2026 TechAdvantage – Booth #234
DESCRIPTION:TechAdvantage is the premier conference and expo for electric cooperative engineering\, operations\, information technology\, purchasing\, and supply management professionals. \nThe Expo at PowerXchange and TechAdvantage offers electric cooperative technology leaders an unparalleled view of the technologies\, solutions\, and strategies that promise to drive co-op efficiency\, improve performance\, and enhance strategic planning. \nMeet our team at Booth 234! Let’s discuss how our connectivity solutions can help meet your specific needs.
URL:https://bectechnologies.net/event/2026-techadvantage-booth-234/
LOCATION:Music City Center\, 201 Fifth Avenue South\, Nashville\, 37203\, United States
CATEGORIES:Trade Show
ATTACH;FMTTYPE=image/jpeg:https://bectechnologies.net/wp-content/uploads/2025/12/TechAdvantage-2026-banner.jpeg
ORGANIZER;CN="NRECA":MAILTO:ConferenceCenter@nreca.coop
GEO:36.1566085;-86.778491
X-APPLE-STRUCTURED-LOCATION;VALUE=URI;X-ADDRESS=Music City Center 201 Fifth Avenue South Nashville 37203 United States;X-APPLE-RADIUS=500;X-TITLE=201 Fifth Avenue South:geo:-86.778491,36.1566085
END:VEVENT
BEGIN:VEVENT
DTSTART;VALUE=DATE:20260311
DTEND;VALUE=DATE:20260314
DTSTAMP:20260424T213421
CREATED:20251216T231245Z
LAST-MODIFIED:20251216T231245Z
UID:10000553-1773187200-1773446399@bectechnologies.net
SUMMARY:UTC Region 3 Meeting--Booth #31
DESCRIPTION:We are looking forward to meeting you at the Region 3 2026 Meeting! Visit us at Booth 31! \nThe Region 3 Meeting is your essential connection to local utility telecommunications professionals and events\, offering opportunities to: \n\nMeet other telecom professionals from the utilities.\nFind educational opportunities for you\, your staff\, and your employees.\nGet involved in local telecom issues that affect us all.\nAttend events at both the regional and national level.\nGrow your own leadership skills by volunteering on one of our UTC Committees.
URL:https://bectechnologies.net/event/utc-region-3-meeting-booth-31/
LOCATION:Omni Richmond Hotel\, 100 S 12th St.\,\, Richmond\, VA\, 23219\, United States
CATEGORIES:Trade Show
ATTACH;FMTTYPE=image/png:https://bectechnologies.net/wp-content/uploads/2025/12/UTC-Region-3-Meeting-banner.png
ORGANIZER;CN="Utilities Technology Council":MAILTO:https://utc.org/get-in-touch-with-us/
END:VEVENT
END:VCALENDAR