BEGIN:VCALENDAR
VERSION:2.0
PRODID:-//BEC Technologies, Inc. - ECPv6.15.20//NONSGML v1.0//EN
CALSCALE:GREGORIAN
METHOD:PUBLISH
X-ORIGINAL-URL:https://bectechnologies.net
X-WR-CALDESC:Events for BEC Technologies, Inc.
REFRESH-INTERVAL;VALUE=DURATION:PT1H
X-Robots-Tag:noindex
X-PUBLISHED-TTL:PT1H
BEGIN:VTIMEZONE
TZID:America/Chicago
BEGIN:DAYLIGHT
TZOFFSETFROM:-0600
TZOFFSETTO:-0500
TZNAME:CDT
DTSTART:20190310T080000
END:DAYLIGHT
BEGIN:STANDARD
TZOFFSETFROM:-0500
TZOFFSETTO:-0600
TZNAME:CST
DTSTART:20191103T070000
END:STANDARD
BEGIN:DAYLIGHT
TZOFFSETFROM:-0600
TZOFFSETTO:-0500
TZNAME:CDT
DTSTART:20200308T080000
END:DAYLIGHT
BEGIN:STANDARD
TZOFFSETFROM:-0500
TZOFFSETTO:-0600
TZNAME:CST
DTSTART:20201101T070000
END:STANDARD
BEGIN:DAYLIGHT
TZOFFSETFROM:-0600
TZOFFSETTO:-0500
TZNAME:CDT
DTSTART:20210314T080000
END:DAYLIGHT
BEGIN:STANDARD
TZOFFSETFROM:-0500
TZOFFSETTO:-0600
TZNAME:CST
DTSTART:20211107T070000
END:STANDARD
BEGIN:DAYLIGHT
TZOFFSETFROM:-0600
TZOFFSETTO:-0500
TZNAME:CDT
DTSTART:20220313T080000
END:DAYLIGHT
BEGIN:STANDARD
TZOFFSETFROM:-0500
TZOFFSETTO:-0600
TZNAME:CST
DTSTART:20221106T070000
END:STANDARD
BEGIN:DAYLIGHT
TZOFFSETFROM:-0600
TZOFFSETTO:-0500
TZNAME:CDT
DTSTART:20230312T080000
END:DAYLIGHT
BEGIN:STANDARD
TZOFFSETFROM:-0500
TZOFFSETTO:-0600
TZNAME:CST
DTSTART:20231105T070000
END:STANDARD
BEGIN:DAYLIGHT
TZOFFSETFROM:-0600
TZOFFSETTO:-0500
TZNAME:CDT
DTSTART:20240310T080000
END:DAYLIGHT
BEGIN:STANDARD
TZOFFSETFROM:-0500
TZOFFSETTO:-0600
TZNAME:CST
DTSTART:20241103T070000
END:STANDARD
BEGIN:DAYLIGHT
TZOFFSETFROM:-0600
TZOFFSETTO:-0500
TZNAME:CDT
DTSTART:20250309T080000
END:DAYLIGHT
BEGIN:STANDARD
TZOFFSETFROM:-0500
TZOFFSETTO:-0600
TZNAME:CST
DTSTART:20251102T070000
END:STANDARD
BEGIN:DAYLIGHT
TZOFFSETFROM:-0600
TZOFFSETTO:-0500
TZNAME:CDT
DTSTART:20260308T080000
END:DAYLIGHT
BEGIN:STANDARD
TZOFFSETFROM:-0500
TZOFFSETTO:-0600
TZNAME:CST
DTSTART:20261101T070000
END:STANDARD
END:VTIMEZONE
BEGIN:VEVENT
DTSTART;VALUE=DATE:20250915
DTEND;VALUE=DATE:20250918
DTSTAMP:20260419T191031
CREATED:20250618T220253Z
LAST-MODIFIED:20250618T220253Z
UID:10000550-1757894400-1758153599@bectechnologies.net
SUMMARY:CCA Annual Convention – Booth #231
DESCRIPTION:CCA’s Annual Convention is the only North American event dedicated exclusively to smart strategies\, technology innovations\, and business opportunities for communications service providers. It attracts more senior decision-makers from more carrier organizations than any other U.S. trade show. \nThe 2025 educational program\, networking opportunities\, and exhibit hall will spotlight emerging technology trends that are transforming how we live and work. It’s also a premier platform to engage with the competitive carrier market\, which spends over $15 billion annually on products and services. \n Visit us at Booth 231 to discover our latest connectivity solutions and discuss how we can help meet your network needs. \nSee you there!
URL:https://bectechnologies.net/event/cca-annual-convention-booth-231/
LOCATION:Hyatt Regency Hill Country Resort & Spa\, 9800 Hyatt Resort Dr.\, San Antonio\, 78251\, United States
CATEGORIES:Trade Show
ATTACH;FMTTYPE=image/png:https://bectechnologies.net/wp-content/uploads/2025/06/cca_convention-banner.png
ORGANIZER;CN="Competitive Carriers Association (CCA)":MAILTO:administrator@competitivecarriers.org
END:VEVENT
BEGIN:VEVENT
DTSTART;VALUE=DATE:20250414
DTEND;VALUE=DATE:20250417
DTSTAMP:20260419T191031
CREATED:20250115T220801Z
LAST-MODIFIED:20250115T220801Z
UID:10000535-1744588800-1744847999@bectechnologies.net
SUMMARY:CCA MCS 2025 – Booth #216
DESCRIPTION:CCA’s Mobile Carriers Show 2025 is the only North American event dedicated exclusively to smart strategies\, technological innovations\, and business opportunities for communications service providers. This event attracts more senior decision-makers from a greater number of carrier organizations than any other trade show in the United States. \nThe educational program at MCS 2025\, combined with unparalleled networking opportunities and a dynamic exhibit hall\, will spotlight technology trends transforming the way we work and live. It also offers a prime platform for companies to engage with the competitive carrier market\, which invests $15 billion annually in products and services. \nVisit us at Booth #216—we look forward to connecting with you!
URL:https://bectechnologies.net/event/cca-mcs-2025-booth-216/
LOCATION:Gaylord Rockies Resort & Convention Center\, 6700 N Gaylord Rockies Blvd\, Aurora\, CO\, 80019\, United States
CATEGORIES:Trade Show
ATTACH;FMTTYPE=image/jpeg:https://bectechnologies.net/wp-content/uploads/2025/01/CCA-MCS-2025-banner.jpg
ORGANIZER;CN="Competitive Carriers Association (CCA)":MAILTO:administrator@competitivecarriers.org
END:VEVENT
BEGIN:VEVENT
DTSTART;VALUE=DATE:20240416
DTEND;VALUE=DATE:20240419
DTSTAMP:20260419T191031
CREATED:20240315T152753Z
LAST-MODIFIED:20240326T150213Z
UID:10000418-1713225600-1713484799@bectechnologies.net
SUMMARY:2024 CCA’s Mobile Carriers Show – Booth #112
DESCRIPTION:CCA’s Mobile Carriers Show is the only North American event to focus exclusively on smart strategies\, technology innovations\, and business opportunities for carriers in this increasingly mobile world. As a result\, it brings together more senior decision-makers from more carrier organizations than any other trade show in the United States. \n\nMCS 2024 brings together more carriers than any other conference and is the best venue for meeting and networking with the decision-makers of carrier companies.
URL:https://bectechnologies.net/event/2024-ccas-mobile-carriers-show-booth-112/
LOCATION:JW Marriott Desert Springs\, 74-855 Country Club Dr.\, Palm Desert\, CA\, 92260\, United States
CATEGORIES:Trade Show
ATTACH;FMTTYPE=image/jpeg:https://bectechnologies.net/wp-content/uploads/2024/03/MCS24_Banner.jpg
ORGANIZER;CN="Competitive Carriers Association (CCA)":MAILTO:administrator@competitivecarriers.org
END:VEVENT
BEGIN:VEVENT
DTSTART;VALUE=DATE:20220411
DTEND;VALUE=DATE:20220414
DTSTAMP:20260419T191031
CREATED:20211206T195559Z
LAST-MODIFIED:20211206T204439Z
UID:10000376-1649635200-1649894399@bectechnologies.net
SUMMARY:CCA's Mobile Carriers Show 2022 Booth #319
DESCRIPTION:CCA’s Mobile Carriers Show (MCS 2022) provides the ideal opportunity for competitive carriers and wireless stakeholders to network\, attend tons of educational sessions\, and share the latest and greatest in the world of wireless. CCA’s events bring together more C-Level executives from more wireless carrier organizations than any other business event in the United States. Attendees have the opportunity to learn firsthand how smart strategies and technology innovations in the telecom industry present new business opportunities for your organization\, and how you can help your business adapt to this increasingly mobile world.
URL:https://bectechnologies.net/event/ccas-mobile-carriers-show/
LOCATION:JW Marriott Tampa Water Street\, 510 Water St\, Tampa\, FL\, 33602\, United States
CATEGORIES:Trade Show
ATTACH;FMTTYPE=image/png:https://bectechnologies.net/wp-content/uploads/2020/01/CCA.png
ORGANIZER;CN="Competitive Carriers Association (CCA)":MAILTO:administrator@competitivecarriers.org
END:VEVENT
BEGIN:VEVENT
DTSTART;VALUE=DATE:20210920
DTEND;VALUE=DATE:20210923
DTSTAMP:20260419T191031
CREATED:20210701T212507Z
LAST-MODIFIED:20210803T194213Z
UID:10000483-1632096000-1632355199@bectechnologies.net
SUMMARY:CCA Annual Convention 2021 Booth #2807
DESCRIPTION:CCA’s Annual Convention is the only North American event to focus exclusively on smart strategies\, technology innovations\, and business opportunities for carriers in this increasingly mobile world. \nThe educational program at CCA 2021\, along with its networking opportunities and exhibit hall\, will explore technology trends that are changing the way we work and live\, and will provide a platform for companies to reach the lucrative competitive carrier market\, which spends $15 billion annually on products and services.
URL:https://bectechnologies.net/event/cca-annual-convention-2021-booth-2807/
LOCATION:Phoenix Convention Center\, 100 N 3rd St\,\, Phoenix\, AZ\, 85004\, United States
CATEGORIES:Trade Show
ATTACH;FMTTYPE=image/png:https://bectechnologies.net/wp-content/uploads/2020/09/CCA-annual-convention-Virtual.png
ORGANIZER;CN="Competitive Carriers Association (CCA)":MAILTO:administrator@competitivecarriers.org
END:VEVENT
BEGIN:VEVENT
DTSTART;VALUE=DATE:20210330
DTEND;VALUE=DATE:20210401
DTSTAMP:20260419T191031
CREATED:20210303T215203Z
LAST-MODIFIED:20210303T215203Z
UID:10000475-1617062400-1617235199@bectechnologies.net
SUMMARY:CCA’s Mobile Carriers Show 2021 Virtual
DESCRIPTION:CCA’s Mobile Carriers Show is the only North American event to focus exclusively on smart strategies\, technology innovations\, and business opportunities for carriers in this increasingly mobile world. As a result\, it brings together more senior decision-makers from more carrier organizations than any other tradeshow in the United States. \nThe educational program at MCS 2021\, along with its networking opportunities and exhibit hall\, will explore technology trends that are changing the way we work and live\, and will provide a platform for companies to reach the lucrative competitive carrier market\, which spends $15 billion annually on products and services.
URL:https://bectechnologies.net/event/ccas-mobile-carriers-show-2021-virtual/
LOCATION:Virtual Event
CATEGORIES:Trade Show
ATTACH;FMTTYPE=image/png:https://bectechnologies.net/wp-content/uploads/2020/01/CCA.png
ORGANIZER;CN="Competitive Carriers Association (CCA)":MAILTO:administrator@competitivecarriers.org
END:VEVENT
BEGIN:VEVENT
DTSTART;VALUE=DATE:20201021
DTEND;VALUE=DATE:20201022
DTSTAMP:20260419T191031
CREATED:20200927T221400Z
LAST-MODIFIED:20200927T221424Z
UID:10000470-1603238400-1603324799@bectechnologies.net
SUMMARY:CCA Annual Convention
DESCRIPTION:CCA’s Annual Convention is the only North American event to focus exclusively on smart strategies\, technology innovations\, and business opportunities for carriers in this increasingly mobile world. As a result\, it brings together more senior decision-makers from more carrier organizations than any other tradeshow in the United States.\n​\nCCA’s Annual Convention educational program\, networking opportunities\, and exhibit floor will explore technology trends that are changing the way we work and live\, and will provide a platform for companies to reach the lucrative competitive carrier market\, which spends $15 billion annually on products and services.
URL:https://bectechnologies.net/event/cca-convention/
LOCATION:Virtual Event
CATEGORIES:Trade Show
ATTACH;FMTTYPE=image/png:https://bectechnologies.net/wp-content/uploads/2020/09/CCA-annual-convention-Virtual.png
ORGANIZER;CN="Competitive Carriers Association (CCA)":MAILTO:administrator@competitivecarriers.org
END:VEVENT
END:VCALENDAR