BEGIN:VCALENDAR
VERSION:2.0
PRODID:-//BEC Technologies, Inc. - ECPv6.15.20//NONSGML v1.0//EN
CALSCALE:GREGORIAN
METHOD:PUBLISH
X-WR-CALNAME:BEC Technologies, Inc.
X-ORIGINAL-URL:https://bectechnologies.net
X-WR-CALDESC:Events for BEC Technologies, Inc.
REFRESH-INTERVAL;VALUE=DURATION:PT1H
X-Robots-Tag:noindex
X-PUBLISHED-TTL:PT1H
BEGIN:VTIMEZONE
TZID:America/Chicago
BEGIN:DAYLIGHT
TZOFFSETFROM:-0600
TZOFFSETTO:-0500
TZNAME:CDT
DTSTART:20200308T080000
END:DAYLIGHT
BEGIN:STANDARD
TZOFFSETFROM:-0500
TZOFFSETTO:-0600
TZNAME:CST
DTSTART:20201101T070000
END:STANDARD
BEGIN:DAYLIGHT
TZOFFSETFROM:-0600
TZOFFSETTO:-0500
TZNAME:CDT
DTSTART:20210314T080000
END:DAYLIGHT
BEGIN:STANDARD
TZOFFSETFROM:-0500
TZOFFSETTO:-0600
TZNAME:CST
DTSTART:20211107T070000
END:STANDARD
BEGIN:DAYLIGHT
TZOFFSETFROM:-0600
TZOFFSETTO:-0500
TZNAME:CDT
DTSTART:20220313T080000
END:DAYLIGHT
BEGIN:STANDARD
TZOFFSETFROM:-0500
TZOFFSETTO:-0600
TZNAME:CST
DTSTART:20221106T070000
END:STANDARD
BEGIN:DAYLIGHT
TZOFFSETFROM:-0600
TZOFFSETTO:-0500
TZNAME:CDT
DTSTART:20230312T080000
END:DAYLIGHT
BEGIN:STANDARD
TZOFFSETFROM:-0500
TZOFFSETTO:-0600
TZNAME:CST
DTSTART:20231105T070000
END:STANDARD
END:VTIMEZONE
BEGIN:VEVENT
DTSTART;VALUE=DATE:20220426
DTEND;VALUE=DATE:20220429
DTSTAMP:20260419T165432
CREATED:20211206T202518Z
LAST-MODIFIED:20220415T144919Z
UID:10000378-1650931200-1651190399@bectechnologies.net
SUMMARY:2022 ENTELEC Conference & EXPO Booth #424
DESCRIPTION:The ENTELEC Association is the world-leading energy operator member association. The Annual Spring Conference & Expo is the gathering of ENTELEC members who deliver compliance\, efficiency\, security\, and innovation to the business units of energy companies such as petroleum\, pipeline\, natural gas\, and electric utilities by leveraging all aspects and interaction of telecom\, information technology\, the internet\, digital transformation\, IIoT\, automation\, cybersecurity\, AI/ML and computing from the edge to the cloud. \nThe ENTELEC Conference & Expo is the forum for industry thought leaders and pioneers to discuss these applications\, solutions\, new ideas\, and related challenges.
URL:https://bectechnologies.net/event/entelec-conference-expo-2022/
LOCATION:George R. Brown Convention Center\, 	1001 Avenida De Las Americas\, Houston\, TX\, 77010\, United States
CATEGORIES:Trade Show
ATTACH;FMTTYPE=image/png:https://bectechnologies.net/wp-content/uploads/2021/12/ENTELEC_ConfExpo.png
ORGANIZER;CN="ENTELEC Association":MAILTO:info@entelec.org
GEO:29.7521422;-95.3578364
X-APPLE-STRUCTURED-LOCATION;VALUE=URI;X-ADDRESS=George R. Brown Convention Center 	1001 Avenida De Las Americas Houston TX 77010 United States;X-APPLE-RADIUS=500;X-TITLE=1001 Avenida De Las Americas:geo:-95.3578364,29.7521422
END:VEVENT
BEGIN:VEVENT
DTSTART;VALUE=DATE:20210810
DTEND;VALUE=DATE:20210813
DTSTAMP:20260419T165432
CREATED:20210428T205917Z
LAST-MODIFIED:20210628T152051Z
UID:10000478-1628553600-1628812799@bectechnologies.net
SUMMARY:ENTELEC CONFERENCE & EXPO 2021 Booth #712
DESCRIPTION:The ENTELEC Association is the world-leading energy operator member association. The Annual Spring Conference & Expo is the gathering of ENTELEC members who deliver compliance\, efficiency\, security and innovation to the business units of energy companies such as petroleum\, pipeline\, natural gas\, and electric utilities by leveraging all aspects and interaction of: telecom\, information technology\, the internet\, digital transformation\, IIoT\, automation\, cybersecurity\, AI/ML and computing from the edge to the cloud. \nThe ENTELEC Conference & Expo is the forum for industry thought leaders and pioneers to discuss these applications\, solutions\, new ideas\, and the related challenges. \nThe ENTELEC Conference & Expo is your resource for: \n\nTechnical Education Programs\, Panel Discussions & Case Studies\nIn-Depth Industry Training Opportunities\nIndustry Networking\, Engagement and the Exchange of Ideas\nExperience the Latest Emerging Technologies\, Applications & Solutions\nVendor Resources in a Solutions Based Exhibit Hall\n\nENTELEC Corporate / Operator Membership covers everyone at your organization and operator members are allowed to bring as many team members as they wish to attend the ENTELEC Conference & Expo including the technical education\, industry training programs\, and exhibit and networking events. Consider joining the ENTELEC Association today and bring your team to the Annual Conference & Expo at no additional registration charges!
URL:https://bectechnologies.net/event/entelec-conference-expo-2021/
LOCATION:George R. Brown Convention Center\, 	1001 Avenida De Las Americas\, Houston\, TX\, 77010\, United States
CATEGORIES:Trade Show
ATTACH;FMTTYPE=image/jpeg:https://bectechnologies.net/wp-content/uploads/2021/04/ENTELEC_ConfExpo_color_date_with_location_2021_aug-01.jpg
ORGANIZER;CN="ENTELEC Association":MAILTO:info@entelec.org
GEO:29.7521422;-95.3578364
X-APPLE-STRUCTURED-LOCATION;VALUE=URI;X-ADDRESS=George R. Brown Convention Center 	1001 Avenida De Las Americas Houston TX 77010 United States;X-APPLE-RADIUS=500;X-TITLE=1001 Avenida De Las Americas:geo:-95.3578364,29.7521422
END:VEVENT
END:VCALENDAR