BEGIN:VCALENDAR
VERSION:2.0
PRODID:-//BEC Technologies, Inc. - ECPv6.15.20//NONSGML v1.0//EN
CALSCALE:GREGORIAN
METHOD:PUBLISH
X-ORIGINAL-URL:https://bectechnologies.net
X-WR-CALDESC:Events for BEC Technologies, Inc.
REFRESH-INTERVAL;VALUE=DURATION:PT1H
X-Robots-Tag:noindex
X-PUBLISHED-TTL:PT1H
BEGIN:VTIMEZONE
TZID:UTC
BEGIN:STANDARD
TZOFFSETFROM:+0000
TZOFFSETTO:+0000
TZNAME:UTC
DTSTART:20150101T000000
END:STANDARD
END:VTIMEZONE
BEGIN:VEVENT
DTSTART;VALUE=DATE:20160510
DTEND;VALUE=DATE:20160513
DTSTAMP:20260419T230153
CREATED:20160426T023739Z
LAST-MODIFIED:20160426T023739Z
UID:10000370-1462838400-1463097599@bectechnologies.net
SUMMARY:2016 TOC Conference & Showcase
DESCRIPTION:North Dakota Telephone Association was organized in 1982. NDTA has 15 Local Exchange Carriers as Active members\, 10 companies serving as Affiliate/Sustaining members\, and 121 Vendor and Supplier companies as Associate Members.\nThe Association is governed by a 9 member Board of Directors serving 3 year terms with 3 directors elected each year. The Board consists of 4 directors elected from 4 cooperative member companies\, of which 2 are directors; 3 directors elected from 3 commercial company members; and two 2 directors elected At-Large.
URL:https://bectechnologies.net/event/2016-toc-conference-showcase/
LOCATION:Holiday Inn Fargo\, 3803 13th Ave S\, Fargo\, ND\, 58103\, United States
CATEGORIES:Trade Show
ATTACH;FMTTYPE=:
ORGANIZER;CN="North Dakota Telephone Association":MAILTO:admin@ndta.net
GEO:46.86324;-96.846245
X-APPLE-STRUCTURED-LOCATION;VALUE=URI;X-ADDRESS=Holiday Inn Fargo 3803 13th Ave S Fargo ND 58103 United States;X-APPLE-RADIUS=500;X-TITLE=3803 13th Ave S:geo:-96.846245,46.86324
END:VEVENT
END:VCALENDAR