BEGIN:VCALENDAR
VERSION:2.0
PRODID:-//BEC Technologies, Inc. - ECPv6.15.20//NONSGML v1.0//EN
CALSCALE:GREGORIAN
METHOD:PUBLISH
X-ORIGINAL-URL:https://bectechnologies.net
X-WR-CALDESC:Events for BEC Technologies, Inc.
REFRESH-INTERVAL;VALUE=DURATION:PT1H
X-Robots-Tag:noindex
X-PUBLISHED-TTL:PT1H
BEGIN:VTIMEZONE
TZID:America/Chicago
BEGIN:DAYLIGHT
TZOFFSETFROM:-0600
TZOFFSETTO:-0500
TZNAME:CDT
DTSTART:20190310T080000
END:DAYLIGHT
BEGIN:STANDARD
TZOFFSETFROM:-0500
TZOFFSETTO:-0600
TZNAME:CST
DTSTART:20191103T070000
END:STANDARD
BEGIN:DAYLIGHT
TZOFFSETFROM:-0600
TZOFFSETTO:-0500
TZNAME:CDT
DTSTART:20200308T080000
END:DAYLIGHT
BEGIN:STANDARD
TZOFFSETFROM:-0500
TZOFFSETTO:-0600
TZNAME:CST
DTSTART:20201101T070000
END:STANDARD
BEGIN:DAYLIGHT
TZOFFSETFROM:-0600
TZOFFSETTO:-0500
TZNAME:CDT
DTSTART:20210314T080000
END:DAYLIGHT
BEGIN:STANDARD
TZOFFSETFROM:-0500
TZOFFSETTO:-0600
TZNAME:CST
DTSTART:20211107T070000
END:STANDARD
END:VTIMEZONE
BEGIN:VTIMEZONE
TZID:UTC
BEGIN:STANDARD
TZOFFSETFROM:+0000
TZOFFSETTO:+0000
TZNAME:UTC
DTSTART:20150101T000000
END:STANDARD
END:VTIMEZONE
BEGIN:VEVENT
DTSTART;VALUE=DATE:20200216
DTEND;VALUE=DATE:20200220
DTSTAMP:20260419T212721
CREATED:20191011T234211Z
LAST-MODIFIED:20200106T221148Z
UID:10000468-1581811200-1582156799@bectechnologies.net
SUMMARY:NTCA 2020 RTIME - Booth # 25
DESCRIPTION:Rural Telecom Industry Meeting and Expo (RTIME) is NTCA’s signature event\, drawing more than 2\,200 attendees from rural telecom companies across the country every year. The meeting features educational seminars\, general session keynote addresses\, workshops\, and other presentations. Association business is also conducted at the meeting. This conference includes our largest exposition of the year\, featuring nearly 100 exhibitors.\nKey decision-makers representing nearly 850 ILECs are in attendance each year\, including:\n• Directors\n• CEOs\n• Owners\n• General Managers
URL:https://bectechnologies.net/event/ntca-2020-rtime/
LOCATION:Phoenix Convention Center\, 100 N 3rd St\,\, Phoenix\, AZ\, 85004\, United States
CATEGORIES:Conference,Trade Show
ATTACH;FMTTYPE=image/png:https://bectechnologies.net/wp-content/uploads/2020/01/2020rtime_expo.png
END:VEVENT
BEGIN:VEVENT
DTSTART;TZID=UTC:20180423T080000
DTEND;TZID=UTC:20180425T170000
DTSTAMP:20260419T212721
CREATED:20180409T215300Z
LAST-MODIFIED:20180409T215300Z
UID:10000410-1524470400-1524675600@bectechnologies.net
SUMMARY:IP Vision
DESCRIPTION:IP Vision Conference & Expo is where business and technology meet the rapidly-changing demands of consumers today and tomorrow. Join industry leaders as they share their knowledge on enhancing network functionality and security\, and leveraging your network to generate new products\, services and revenue.\nIP Vision sessions are designed to take an in-depth look at strategies for all areas—including voice/video/data\, IT\, and wireless—needed to sustain the momentum of your business growth.
URL:https://bectechnologies.net/event/ip-vision/
ATTACH;FMTTYPE=:
END:VEVENT
BEGIN:VEVENT
DTSTART;VALUE=DATE:20160125
DTEND;VALUE=DATE:20160128
DTSTAMP:20260419T212721
CREATED:20160115T045014Z
LAST-MODIFIED:20160115T045014Z
UID:10000345-1453680000-1453939199@bectechnologies.net
SUMMARY:2016 Wireless Symposium & WiExpo
DESCRIPTION:Competition is fierce. You need to learn how to navigate the waters to catch the wireless wave of new opportunities. To keep your business afloat\, you must devise a plan to provide quality\, affordable service to your customers. The Wireless Symposium & WiExpo will show you the future of Wi-Fi\, 5G\, mobile and fixed wireless broadband and strategies to build an advanced network. Bring your team ashore in Fort Lauderdale to meet with industry leaders and wireless representatives for a three-day conference of networking\, education and solution-seeking. \nNEW THIS YEAR\nThe Wireless Symposium & WiExpo is co-located with the ITEXPO. As an attendee of the Wireless Symposium & WiExpo\, you receive access to ITEXPO\, including keynotes\, general sessions\, selected workshops\, networking receptions and exhibit hall access.\nAccess to both events maximizes your opportunity to:\n[checklist type=”eg. checked\, dotted\, arrowed”] \n\nExplore a wider range of solutions for rural service providers.\nBroaden your scope of education and networking.\nLearn from your peers and ITEXPO attendees as they share their success stories.\n\n[/checklist]
URL:https://bectechnologies.net/event/2016-wireless-symposium-wiexpo/
LOCATION:Hyatt Regency Pier Sixty-Six\, 2301 S.E. 17th Street\, Fort Lauderdale\, FL\, 33316\, United States
CATEGORIES:Trade Show
ATTACH;FMTTYPE=:
GEO:26.1015594;-80.1153016
X-APPLE-STRUCTURED-LOCATION;VALUE=URI;X-ADDRESS=Hyatt Regency Pier Sixty-Six 2301 S.E. 17th Street Fort Lauderdale FL 33316 United States;X-APPLE-RADIUS=500;X-TITLE=2301 S.E. 17th Street:geo:-80.1153016,26.1015594
END:VEVENT
END:VCALENDAR