BEGIN:VCALENDAR
VERSION:2.0
PRODID:-//BEC Technologies, Inc. - ECPv6.15.20//NONSGML v1.0//EN
CALSCALE:GREGORIAN
METHOD:PUBLISH
X-ORIGINAL-URL:https://bectechnologies.net
X-WR-CALDESC:Events for BEC Technologies, Inc.
REFRESH-INTERVAL;VALUE=DURATION:PT1H
X-Robots-Tag:noindex
X-PUBLISHED-TTL:PT1H
BEGIN:VTIMEZONE
TZID:America/Chicago
BEGIN:DAYLIGHT
TZOFFSETFROM:-0600
TZOFFSETTO:-0500
TZNAME:CDT
DTSTART:20220313T080000
END:DAYLIGHT
BEGIN:STANDARD
TZOFFSETFROM:-0500
TZOFFSETTO:-0600
TZNAME:CST
DTSTART:20221106T070000
END:STANDARD
BEGIN:DAYLIGHT
TZOFFSETFROM:-0600
TZOFFSETTO:-0500
TZNAME:CDT
DTSTART:20230312T080000
END:DAYLIGHT
BEGIN:STANDARD
TZOFFSETFROM:-0500
TZOFFSETTO:-0600
TZNAME:CST
DTSTART:20231105T070000
END:STANDARD
BEGIN:DAYLIGHT
TZOFFSETFROM:-0600
TZOFFSETTO:-0500
TZNAME:CDT
DTSTART:20240310T080000
END:DAYLIGHT
BEGIN:STANDARD
TZOFFSETFROM:-0500
TZOFFSETTO:-0600
TZNAME:CST
DTSTART:20241103T070000
END:STANDARD
BEGIN:DAYLIGHT
TZOFFSETFROM:-0600
TZOFFSETTO:-0500
TZNAME:CDT
DTSTART:20250309T080000
END:DAYLIGHT
BEGIN:STANDARD
TZOFFSETFROM:-0500
TZOFFSETTO:-0600
TZNAME:CST
DTSTART:20251102T070000
END:STANDARD
BEGIN:DAYLIGHT
TZOFFSETFROM:-0600
TZOFFSETTO:-0500
TZNAME:CDT
DTSTART:20260308T080000
END:DAYLIGHT
BEGIN:STANDARD
TZOFFSETFROM:-0500
TZOFFSETTO:-0600
TZNAME:CST
DTSTART:20261101T070000
END:STANDARD
END:VTIMEZONE
BEGIN:VEVENT
DTSTART;VALUE=DATE:20250827
DTEND;VALUE=DATE:20250830
DTSTAMP:20260419T114048
CREATED:20250509T161508Z
LAST-MODIFIED:20250509T161508Z
UID:10000547-1756252800-1756511999@bectechnologies.net
SUMMARY:TVPPA Engineering\, Operations\, & Technology Conference – Booth #716
DESCRIPTION:Connect with peers and explore the latest trends\, tools\, and strategies shaping the future of the industry through engaging educational sessions and a dynamic tradeshow. \nReturning to Chattanooga\, TN\, this year’s conference will cover a wide range of topics—from AI in utility operations and system control room modernization to protective relaying\, vegetation management\, and workforce retention. \nHighlights include a keynote on personal and professional resilience\, as well as real-world case studies on outage prediction\, power quality\, and storm restoration. \nSchedule a meeting with us at Booth 716—we look forward to seeing you there!
URL:https://bectechnologies.net/event/tvppa-engineering-operations-technology-conference-booth-716/
LOCATION:Chattanooga Convention Center\, 1 Carter Plaza\, Chattanooga\, TN\, 37402\, United States
CATEGORIES:Trade Show
ATTACH;FMTTYPE=image/png:https://bectechnologies.net/wp-content/uploads/2025/05/TVPPA-2025.png
ORGANIZER;CN="Tennessee Valley Public Power Association":MAILTO:conferences@tvppa.com
END:VEVENT
BEGIN:VEVENT
DTSTART;VALUE=DATE:20240821
DTEND;VALUE=DATE:20240824
DTSTAMP:20260419T114048
CREATED:20240626T211353Z
LAST-MODIFIED:20240626T211353Z
UID:10000524-1724198400-1724457599@bectechnologies.net
SUMMARY:2024 TVPPA Engineering\, Operations & Technology Conference – Booth #4
DESCRIPTION:Join us at the 2024 TVPPA Engineering\, Operations & Technology Conference in Huntsville\, AL\, from August 21-23. Meet us at booth #4! \nThe Tennessee Valley region comes together for nearly three days of information\, educational content\, networking with peers\, and an expansive trade show with more than 120 vendors. \nThis event is designed to assist utility engineers\, operations professionals\, and others working to keep their communities powered for life and work.
URL:https://bectechnologies.net/event/2024-tvppa-engineering-operations-technology-conference-booth-4/
LOCATION:Von Braun Center\, 700 Monroe St SW\, Huntsville\, AL\, 35801\, United States
CATEGORIES:Trade Show
ATTACH;FMTTYPE=image/png:https://bectechnologies.net/wp-content/uploads/2024/06/TVPPA-2024.png
ORGANIZER;CN="Tennessee Valley Public Power Association":MAILTO:conferences@tvppa.com
END:VEVENT
BEGIN:VEVENT
DTSTART;VALUE=DATE:20230816
DTEND;VALUE=DATE:20230819
DTSTAMP:20260419T114048
CREATED:20230710T223711Z
LAST-MODIFIED:20230710T223711Z
UID:10000521-1692144000-1692403199@bectechnologies.net
SUMMARY:TVPPA Engineering\, Operations & Technology Conference 2023 – Booth #712
DESCRIPTION:The Tennessee Valley region comes together for nearly three days of content and connection with peers\, with an expansive trade show of more than 120 vendors\, designed to assist utility engineers\, operations professionals\, and others working to keep their communities powered for life and work. The conference will be held at the Chattanooga\, TN Convention Center with preconference sessions and tours beginning Wednesday afternoon followed by a reception in the tradeshow hall.
URL:https://bectechnologies.net/event/tvppa-engineering-operations-technology-conference-2023-booth-712/
LOCATION:Chattanooga Convention Center\, 1 Carter Plaza\, Chattanooga\, TN\, 37402\, United States
CATEGORIES:Trade Show
ATTACH;FMTTYPE=image/png:https://bectechnologies.net/wp-content/uploads/2023/07/TVPPA-conference-2023.png
ORGANIZER;CN="Tennessee Valley Public Power Association":MAILTO:conferences@tvppa.com
END:VEVENT
END:VCALENDAR