BEGIN:VCALENDAR
VERSION:2.0
PRODID:-//BEC Technologies, Inc. - ECPv6.15.20//NONSGML v1.0//EN
CALSCALE:GREGORIAN
METHOD:PUBLISH
X-WR-CALNAME:BEC Technologies, Inc.
X-ORIGINAL-URL:https://bectechnologies.net
X-WR-CALDESC:Events for BEC Technologies, Inc.
REFRESH-INTERVAL;VALUE=DURATION:PT1H
X-Robots-Tag:noindex
X-PUBLISHED-TTL:PT1H
BEGIN:VTIMEZONE
TZID:America/Chicago
BEGIN:DAYLIGHT
TZOFFSETFROM:-0600
TZOFFSETTO:-0500
TZNAME:CDT
DTSTART:20190310T080000
END:DAYLIGHT
BEGIN:STANDARD
TZOFFSETFROM:-0500
TZOFFSETTO:-0600
TZNAME:CST
DTSTART:20191103T070000
END:STANDARD
BEGIN:DAYLIGHT
TZOFFSETFROM:-0600
TZOFFSETTO:-0500
TZNAME:CDT
DTSTART:20200308T080000
END:DAYLIGHT
BEGIN:STANDARD
TZOFFSETFROM:-0500
TZOFFSETTO:-0600
TZNAME:CST
DTSTART:20201101T070000
END:STANDARD
BEGIN:DAYLIGHT
TZOFFSETFROM:-0600
TZOFFSETTO:-0500
TZNAME:CDT
DTSTART:20210314T080000
END:DAYLIGHT
BEGIN:STANDARD
TZOFFSETFROM:-0500
TZOFFSETTO:-0600
TZNAME:CST
DTSTART:20211107T070000
END:STANDARD
BEGIN:DAYLIGHT
TZOFFSETFROM:-0600
TZOFFSETTO:-0500
TZNAME:CDT
DTSTART:20220313T080000
END:DAYLIGHT
BEGIN:STANDARD
TZOFFSETFROM:-0500
TZOFFSETTO:-0600
TZNAME:CST
DTSTART:20221106T070000
END:STANDARD
BEGIN:DAYLIGHT
TZOFFSETFROM:-0600
TZOFFSETTO:-0500
TZNAME:CDT
DTSTART:20230312T080000
END:DAYLIGHT
BEGIN:STANDARD
TZOFFSETFROM:-0500
TZOFFSETTO:-0600
TZNAME:CST
DTSTART:20231105T070000
END:STANDARD
BEGIN:DAYLIGHT
TZOFFSETFROM:-0600
TZOFFSETTO:-0500
TZNAME:CDT
DTSTART:20240310T080000
END:DAYLIGHT
BEGIN:STANDARD
TZOFFSETFROM:-0500
TZOFFSETTO:-0600
TZNAME:CST
DTSTART:20241103T070000
END:STANDARD
END:VTIMEZONE
BEGIN:VTIMEZONE
TZID:UTC
BEGIN:STANDARD
TZOFFSETFROM:+0000
TZOFFSETTO:+0000
TZNAME:UTC
DTSTART:20150101T000000
END:STANDARD
END:VTIMEZONE
BEGIN:VEVENT
DTSTART;VALUE=DATE:20230404
DTEND;VALUE=DATE:20230407
DTSTAMP:20260419T173037
CREATED:20230309T210007Z
LAST-MODIFIED:20230309T210007Z
UID:10000508-1680566400-1680825599@bectechnologies.net
SUMMARY:TCEI EXPO 2023
DESCRIPTION:The TCEI EXPO is held each year in early April. It provides vendors from across the nation and around the world an opportunity to present their products and services to operating companies engaged in the business of providing telecommunication services to end users. In addition to the product displays\, vendors can perform training seminars for their products. Certificates of attendance are provided to all seminar participants. \nThe Texas Communications Expo\, Inc. operates under the direction of a sixteen-member Board who are volunteers from throughout the communications industry. Eight members are from operating companies while the other eight are from the vendor community.
URL:https://bectechnologies.net/event/tcei-expo-2023/
LOCATION:Bell County Expo Center\, 301 W. Loop 121\, Belton\, TX\, 76513\, United States
CATEGORIES:Trade Show
ATTACH;FMTTYPE=image/jpeg:https://bectechnologies.net/wp-content/uploads/2020/01/TCEI.jpg
ORGANIZER;CN="Texas Communications Expo%2C Inc.":MAILTO:tcei.expo@gmail.com
GEO:31.0295605;-97.4795707
X-APPLE-STRUCTURED-LOCATION;VALUE=URI;X-ADDRESS=Bell County Expo Center 301 W. Loop 121 Belton TX 76513 United States;X-APPLE-RADIUS=500;X-TITLE=301 W. Loop 121:geo:-97.4795707,31.0295605
END:VEVENT
BEGIN:VEVENT
DTSTART;VALUE=DATE:20220405
DTEND;VALUE=DATE:20220408
DTSTAMP:20260419T173037
CREATED:20211207T215017Z
LAST-MODIFIED:20220309T210743Z
UID:10000384-1649116800-1649375999@bectechnologies.net
SUMMARY:TCEI EXPO 2022 Booth #417
DESCRIPTION:Texas Communications Expo\, Inc. is a not-for-profit corporation chartered to engage in charitable\, educational\, scientific\, civil\, or similar purposes including the promotion\, advancement\, development\, and dissemination of knowledge and information relating to the communications industry. \nThe EXPO is held each year in early April and provides vendors from across the nation and around the world an opportunity to present their products and services to operating companies engaged in the business of providing telecommunication services to end-users. In addition to the product displays\, vendors can perform training seminars for their products. Certificates of attendance are provided to all seminar participants.
URL:https://bectechnologies.net/event/tcei-expo-2022/
LOCATION:Bell County Expo Center\, 301 W. Loop 121\, Belton\, TX\, 76513\, United States
CATEGORIES:Trade Show
ATTACH;FMTTYPE=image/png:https://bectechnologies.net/wp-content/uploads/2021/07/texas-comm-logo-1024x334-1.png
ORGANIZER;CN="Texas Communications Expo%2C Inc.":MAILTO:tcei.expo@gmail.com
GEO:31.0295605;-97.4795707
X-APPLE-STRUCTURED-LOCATION;VALUE=URI;X-ADDRESS=Bell County Expo Center 301 W. Loop 121 Belton TX 76513 United States;X-APPLE-RADIUS=500;X-TITLE=301 W. Loop 121:geo:-97.4795707,31.0295605
END:VEVENT
BEGIN:VEVENT
DTSTART;VALUE=DATE:20210914
DTEND;VALUE=DATE:20210918
DTSTAMP:20260419T173037
CREATED:20210722T153212Z
LAST-MODIFIED:20210819T203733Z
UID:10000487-1631577600-1631923199@bectechnologies.net
SUMMARY:Texas Communications Expo 2021 Booth #109
DESCRIPTION:Texas Communications Expo\, Inc. is a not-for-profit corporation chartered to engage in charitable\, educational\, scientific\, civil\, or similar purposes including the promotion\, advancement\, development\, and dissemination of knowledge and information relating to the communications industry. \nThe EXPO is held each year provides vendors from across the nation and around the world an opportunity to present their products and services to operating companies engaged in the business of providing telecommunication services to end-users. In addition to the product displays\, vendors can perform training seminars for their products. Certificates of attendance are provided to all seminar participants.
URL:https://bectechnologies.net/event/texas-communications-expo-2021/
LOCATION:Bell County Expo Center\, 301 W. Loop 121\, Belton\, TX\, 76513\, United States
CATEGORIES:Trade Show
ATTACH;FMTTYPE=image/png:https://bectechnologies.net/wp-content/uploads/2021/07/texas-comm-logo-1024x334-1.png
ORGANIZER;CN="Texas Communications Expo%2C Inc.":MAILTO:tcei.expo@gmail.com
GEO:31.0295605;-97.4795707
X-APPLE-STRUCTURED-LOCATION;VALUE=URI;X-ADDRESS=Bell County Expo Center 301 W. Loop 121 Belton TX 76513 United States;X-APPLE-RADIUS=500;X-TITLE=301 W. Loop 121:geo:-97.4795707,31.0295605
END:VEVENT
BEGIN:VEVENT
DTSTART;VALUE=DATE:20200407
DTEND;VALUE=DATE:20200410
DTSTAMP:20260419T173037
CREATED:20200106T222104Z
LAST-MODIFIED:20200309T220104Z
UID:10000362-1586217600-1586476799@bectechnologies.net
SUMMARY:TCEI Expo – Booth#: 802
DESCRIPTION:Texas Communications Expo\, Inc. is a not-for-profit corporation chartered to engage in charitable\, educational\, scientific\, civil or similar purposes including the promotion\, advancement\, development and dissemination of knowledge and information relating to the communications industry.
URL:https://bectechnologies.net/event/tcei-expo/
LOCATION:Bell County Expo Center\, 301 W. Loop 121\, Belton\, TX\, 76513\, United States
CATEGORIES:Trade Show
ATTACH;FMTTYPE=image/jpeg:https://bectechnologies.net/wp-content/uploads/2020/01/TCEI.jpg
ORGANIZER;CN="Texas Communications Expo%2C Inc.":MAILTO:tcei.expo@gmail.com
GEO:31.0295605;-97.4795707
X-APPLE-STRUCTURED-LOCATION;VALUE=URI;X-ADDRESS=Bell County Expo Center 301 W. Loop 121 Belton TX 76513 United States;X-APPLE-RADIUS=500;X-TITLE=301 W. Loop 121:geo:-97.4795707,31.0295605
END:VEVENT
BEGIN:VEVENT
DTSTART;VALUE=DATE:20160405
DTEND;VALUE=DATE:20160408
DTSTAMP:20260419T173037
CREATED:20160321T205638Z
LAST-MODIFIED:20160321T205638Z
UID:10000352-1459814400-1460073599@bectechnologies.net
SUMMARY:Texas Communications Expo Booth806
DESCRIPTION:Texas Communications Expo\, Inc. is a not-for-profit corporation chartered to engage in charitable\, educational\, scientific\, civil or similar purposes including the promotion\, advancement\, development and dissemination of knowledge and information relating to the communications industry. Since 1995\, TCEI has contributed over $500\,000 to organizations in the communications industry.
URL:https://bectechnologies.net/event/texas-communications-expo-tcei/
LOCATION:Bell County Expo Center\, 301 W. Loop 121\, Belton\, TX\, 76513\, United States
CATEGORIES:Trade Show
ATTACH;FMTTYPE=:
ORGANIZER;CN="Texas Communications Expo%2C Inc.":MAILTO:tcei.expo@gmail.com
GEO:31.0295605;-97.4795707
X-APPLE-STRUCTURED-LOCATION;VALUE=URI;X-ADDRESS=Bell County Expo Center 301 W. Loop 121 Belton TX 76513 United States;X-APPLE-RADIUS=500;X-TITLE=301 W. Loop 121:geo:-97.4795707,31.0295605
END:VEVENT
END:VCALENDAR