BEGIN:VCALENDAR
VERSION:2.0
PRODID:-//BEC Technologies, Inc. - ECPv6.15.20//NONSGML v1.0//EN
CALSCALE:GREGORIAN
METHOD:PUBLISH
X-WR-CALNAME:BEC Technologies, Inc.
X-ORIGINAL-URL:https://bectechnologies.net
X-WR-CALDESC:Events for BEC Technologies, Inc.
REFRESH-INTERVAL;VALUE=DURATION:PT1H
X-Robots-Tag:noindex
X-PUBLISHED-TTL:PT1H
BEGIN:VTIMEZONE
TZID:America/Chicago
BEGIN:DAYLIGHT
TZOFFSETFROM:-0600
TZOFFSETTO:-0500
TZNAME:CDT
DTSTART:20200308T080000
END:DAYLIGHT
BEGIN:STANDARD
TZOFFSETFROM:-0500
TZOFFSETTO:-0600
TZNAME:CST
DTSTART:20201101T070000
END:STANDARD
BEGIN:DAYLIGHT
TZOFFSETFROM:-0600
TZOFFSETTO:-0500
TZNAME:CDT
DTSTART:20210314T080000
END:DAYLIGHT
BEGIN:STANDARD
TZOFFSETFROM:-0500
TZOFFSETTO:-0600
TZNAME:CST
DTSTART:20211107T070000
END:STANDARD
BEGIN:DAYLIGHT
TZOFFSETFROM:-0600
TZOFFSETTO:-0500
TZNAME:CDT
DTSTART:20220313T080000
END:DAYLIGHT
BEGIN:STANDARD
TZOFFSETFROM:-0500
TZOFFSETTO:-0600
TZNAME:CST
DTSTART:20221106T070000
END:STANDARD
END:VTIMEZONE
BEGIN:VEVENT
DTSTART;VALUE=DATE:20211108
DTEND;VALUE=DATE:20211112
DTSTAMP:20260419T192743
CREATED:20210303T221506Z
LAST-MODIFIED:20211007T151823Z
UID:10000477-1636329600-1636675199@bectechnologies.net
SUMMARY:TribalNet 2021 Conference & Trade Show Booth #202
DESCRIPTION:TribalNet is a division of TribalHub\, which also includes TribalWise- dedicated to training and education; TribalValue- our partner and solution platform; TribalFocus- a consulting and managed service provider. TribalNet was formed in 1999 with the primary purpose of bringing tribes\, tribal employees\, and resources together. This objective is achieved under the direction of our four Advisory Boards\, and delivered through our bi-annual magazine\, the Industry Information Portal\, and the Annual Conference and Tradeshow. Over the past two decades\, TribalNet has grown to become the platform to connect and seek opportunities in solutions\, best practices\, and technology among tribal government\, gaming\, and healthcare industries. These organizations and enterprises use TribalNet as a go-to guide for making well-informed decisions. Furthermore\, solution providers and vendors work with TribalNet to create solid partnerships within the tribal market by becoming further educated on how to best service this one-of-a-kind market. For over 20 years\, TribalNet has fostered many long-lasting peer-to-peer relationships as well as profitable connections.
URL:https://bectechnologies.net/event/tribalnet-2021-conference-trade-show/
LOCATION:Gaylord Texan Resort & Convention Center\, 1501 Gaylord Trail\, Grapevine\, TX\, 76051\, United States
CATEGORIES:Trade Show
ATTACH;FMTTYPE=image/jpeg:https://bectechnologies.net/wp-content/uploads/2021/03/ConferenceLogo_homePage_rotatingImage_TNet_2021-01.jpg
ORGANIZER;CN="TribalNet is a division of TribalHub":MAILTO:contactus@tribalnetonline.com
END:VEVENT
END:VCALENDAR