BEGIN:VCALENDAR
VERSION:2.0
PRODID:-//BEC Technologies, Inc. - ECPv6.15.20//NONSGML v1.0//EN
CALSCALE:GREGORIAN
METHOD:PUBLISH
X-ORIGINAL-URL:https://bectechnologies.net
X-WR-CALDESC:Events for BEC Technologies, Inc.
REFRESH-INTERVAL;VALUE=DURATION:PT1H
X-Robots-Tag:noindex
X-PUBLISHED-TTL:PT1H
BEGIN:VTIMEZONE
TZID:America/Chicago
BEGIN:DAYLIGHT
TZOFFSETFROM:-0600
TZOFFSETTO:-0500
TZNAME:CDT
DTSTART:20220313T080000
END:DAYLIGHT
BEGIN:STANDARD
TZOFFSETFROM:-0500
TZOFFSETTO:-0600
TZNAME:CST
DTSTART:20221106T070000
END:STANDARD
BEGIN:DAYLIGHT
TZOFFSETFROM:-0600
TZOFFSETTO:-0500
TZNAME:CDT
DTSTART:20230312T080000
END:DAYLIGHT
BEGIN:STANDARD
TZOFFSETFROM:-0500
TZOFFSETTO:-0600
TZNAME:CST
DTSTART:20231105T070000
END:STANDARD
BEGIN:DAYLIGHT
TZOFFSETFROM:-0600
TZOFFSETTO:-0500
TZNAME:CDT
DTSTART:20240310T080000
END:DAYLIGHT
BEGIN:STANDARD
TZOFFSETFROM:-0500
TZOFFSETTO:-0600
TZNAME:CST
DTSTART:20241103T070000
END:STANDARD
END:VTIMEZONE
BEGIN:VEVENT
DTSTART;VALUE=DATE:20230524
DTEND;VALUE=DATE:20230527
DTSTAMP:20260419T113319
CREATED:20230403T165408Z
LAST-MODIFIED:20230403T165408Z
UID:10000514-1684886400-1685145599@bectechnologies.net
SUMMARY:Winncom EMEA Broadband Summit 2023
DESCRIPTION:We are proud to announce our first Winncom EMEA Broadband Summit in sunny Athens. The event will be held at Divani Apollon Palace & Thalasso\, Athens\, Greece. The Divani Hotel is a one-of-a-kind seafront location with stunning views and a beautiful beach nearby. Opening day is Wednesday\, May 24th. Breakout sessions begin at 1:00 PM and run through 4:15 PM.  Be sure to arrive on-site by 12:30 PM for breakouts.
URL:https://bectechnologies.net/event/winncom-emea-broadband-summit-2023/
LOCATION:Divani Apollon Palace & Thalasso\, 10 Agiou Nikolaou Str.\, Athens\, Athens\, 166 71\, Greece
CATEGORIES:Trade Show
ATTACH;FMTTYPE=image/jpeg:https://bectechnologies.net/wp-content/uploads/2023/04/Winncom_EMEA.jpg
ORGANIZER;CN="Winncom Technologies":MAILTO:sales@winncom.com
END:VEVENT
BEGIN:VEVENT
DTSTART;VALUE=DATE:20230510
DTEND;VALUE=DATE:20230513
DTSTAMP:20260419T113319
CREATED:20230403T163627Z
LAST-MODIFIED:20230403T163627Z
UID:10000512-1683676800-1683935999@bectechnologies.net
SUMMARY:Winncom UnWired
DESCRIPTION:After a few years off we are thrilled to be back hosting our 11th Annual Winncom UnWired event in sunny Orlando Florida!  This year\, reconnecting with current partners and colleagues while forming and growing new working relationships is the focus. Opening day is Wednesday\, May 10th\, breakout sessions begin at 11:30 AM and run through 5:00 PM.  Be sure to arrive on-site by 11 AM for CALA Spanish breakouts\, and by 12:30 PM for NA English breakouts.
URL:https://bectechnologies.net/event/winncom-unwired/
LOCATION:JW Marriott Orlando Grande Lakes\, 4040 Central Florida Parkway\, Orlando\, FL\, 32837\, United States
CATEGORIES:Trade Show
ATTACH;FMTTYPE=image/webp:https://bectechnologies.net/wp-content/uploads/2023/04/Winncom-Unwired.webp
ORGANIZER;CN="Winncom Technologies":MAILTO:sales@winncom.com
END:VEVENT
END:VCALENDAR