BEGIN:VCALENDAR
VERSION:2.0
PRODID:-//BEC Technologies, Inc. - ECPv6.15.20//NONSGML v1.0//EN
CALSCALE:GREGORIAN
METHOD:PUBLISH
X-ORIGINAL-URL:https://bectechnologies.net
X-WR-CALDESC:Events for BEC Technologies, Inc.
REFRESH-INTERVAL;VALUE=DURATION:PT1H
X-Robots-Tag:noindex
X-PUBLISHED-TTL:PT1H
BEGIN:VTIMEZONE
TZID:America/Chicago
BEGIN:DAYLIGHT
TZOFFSETFROM:-0600
TZOFFSETTO:-0500
TZNAME:CDT
DTSTART:20220313T080000
END:DAYLIGHT
BEGIN:STANDARD
TZOFFSETFROM:-0500
TZOFFSETTO:-0600
TZNAME:CST
DTSTART:20221106T070000
END:STANDARD
BEGIN:DAYLIGHT
TZOFFSETFROM:-0600
TZOFFSETTO:-0500
TZNAME:CDT
DTSTART:20230312T080000
END:DAYLIGHT
BEGIN:STANDARD
TZOFFSETFROM:-0500
TZOFFSETTO:-0600
TZNAME:CST
DTSTART:20231105T070000
END:STANDARD
BEGIN:DAYLIGHT
TZOFFSETFROM:-0600
TZOFFSETTO:-0500
TZNAME:CDT
DTSTART:20240310T080000
END:DAYLIGHT
BEGIN:STANDARD
TZOFFSETFROM:-0500
TZOFFSETTO:-0600
TZNAME:CST
DTSTART:20241103T070000
END:STANDARD
END:VTIMEZONE
BEGIN:VEVENT
DTSTART;VALUE=DATE:20230605
DTEND;VALUE=DATE:20230610
DTSTAMP:20260419T140606
CREATED:20230403T165904Z
LAST-MODIFIED:20230403T165904Z
UID:10000515-1685923200-1686355199@bectechnologies.net
SUMMARY:2023 UTC Telecom & Technology Conference
DESCRIPTION:The UTC Annual Conference is your opportunity to join thousands of information and communications technology (ICT) professionals and technology partners. Each day is filled with opportunities to learn from global experts who aren’t solely talking about modernizing utilities – they’re putting it to work. You’ll have opportunities to learn at pre-conference training\, workshops\, roundtables\, Summits\, four days of education covering all aspects of the ICT industry\, and build powerful professional resources in the Exhibit Hall.
URL:https://bectechnologies.net/event/2023-utc-telecom-technology-conference/
LOCATION:Broward County Convention Center\, 1950 Eisenhower Blvd\, Fort Lauderdale\, FL\, 33316\, United States
CATEGORIES:Trade Show
ATTACH;FMTTYPE=image/jpeg:https://bectechnologies.net/wp-content/uploads/2023/04/utc.jpg
ORGANIZER;CN="Utilities Technology Council":MAILTO:https://utc.org/get-in-touch-with-us/
GEO:26.098818;-80.122948
X-APPLE-STRUCTURED-LOCATION;VALUE=URI;X-ADDRESS=Broward County Convention Center 1950 Eisenhower Blvd Fort Lauderdale FL 33316 United States;X-APPLE-RADIUS=500;X-TITLE=1950 Eisenhower Blvd:geo:-80.122948,26.098818
END:VEVENT
BEGIN:VEVENT
DTSTART;VALUE=DATE:20230214
DTEND;VALUE=DATE:20230218
DTSTAMP:20260419T140606
CREATED:20221116T214627Z
LAST-MODIFIED:20221130T170622Z
UID:10000504-1676332800-1676678399@bectechnologies.net
SUMMARY:IT EXPO – Booth #835
DESCRIPTION:This year’s ITEXPO theme is CONNECT-SELECT-PROTECT. Come meet with the right people\, choose the right technology options for your needs\, and always keep an eye on protecting your assets with best-in-class cybersecurity tools. \nSince its launch in 1999\, ITEXPO is the one event that brings communications and technology professionals together across the entire eco-system: \n\nEnterprise and SMB telecom and IT professionals\nMSP and Channel C-levels and business owners\nService providers/carriers\nIndustry suppliers and solutions providers\n\nITEXPO and the collocated events in the #TECHSUPERSHOW provide the forum where technology decisions are made to produce better business outcomes – for tech buyers\, resellers\, and solutions providers alike.
URL:https://bectechnologies.net/event/it-expo-booth-835/
LOCATION:Broward County Convention Center\, 1950 Eisenhower Blvd\, Fort Lauderdale\, FL\, 33316\, United States
CATEGORIES:Trade Show
ATTACH;FMTTYPE=image/png:https://bectechnologies.net/wp-content/uploads/2020/01/itexpo-logo.png
ORGANIZER;CN="TMCnet.com":MAILTO:tmc@tmcnet.com
GEO:26.098818;-80.122948
X-APPLE-STRUCTURED-LOCATION;VALUE=URI;X-ADDRESS=Broward County Convention Center 1950 Eisenhower Blvd Fort Lauderdale FL 33316 United States;X-APPLE-RADIUS=500;X-TITLE=1950 Eisenhower Blvd:geo:-80.122948,26.098818
END:VEVENT
END:VCALENDAR