BEGIN:VCALENDAR
VERSION:2.0
PRODID:-//BEC Technologies, Inc. - ECPv6.15.20//NONSGML v1.0//EN
CALSCALE:GREGORIAN
METHOD:PUBLISH
X-ORIGINAL-URL:https://bectechnologies.net
X-WR-CALDESC:Events for BEC Technologies, Inc.
REFRESH-INTERVAL;VALUE=DURATION:PT1H
X-Robots-Tag:noindex
X-PUBLISHED-TTL:PT1H
BEGIN:VTIMEZONE
TZID:America/Chicago
BEGIN:DAYLIGHT
TZOFFSETFROM:-0600
TZOFFSETTO:-0500
TZNAME:CDT
DTSTART:20210314T080000
END:DAYLIGHT
BEGIN:STANDARD
TZOFFSETFROM:-0500
TZOFFSETTO:-0600
TZNAME:CST
DTSTART:20211107T070000
END:STANDARD
BEGIN:DAYLIGHT
TZOFFSETFROM:-0600
TZOFFSETTO:-0500
TZNAME:CDT
DTSTART:20220313T080000
END:DAYLIGHT
BEGIN:STANDARD
TZOFFSETFROM:-0500
TZOFFSETTO:-0600
TZNAME:CST
DTSTART:20221106T070000
END:STANDARD
BEGIN:DAYLIGHT
TZOFFSETFROM:-0600
TZOFFSETTO:-0500
TZNAME:CDT
DTSTART:20230312T080000
END:DAYLIGHT
BEGIN:STANDARD
TZOFFSETFROM:-0500
TZOFFSETTO:-0600
TZNAME:CST
DTSTART:20231105T070000
END:STANDARD
END:VTIMEZONE
BEGIN:VTIMEZONE
TZID:UTC
BEGIN:STANDARD
TZOFFSETFROM:+0000
TZOFFSETTO:+0000
TZNAME:UTC
DTSTART:20150101T000000
END:STANDARD
END:VTIMEZONE
BEGIN:VEVENT
DTSTART;VALUE=DATE:20220523
DTEND;VALUE=DATE:20220527
DTSTAMP:20260419T153531
CREATED:20211206T205449Z
LAST-MODIFIED:20211206T205449Z
UID:10000382-1653264000-1653609599@bectechnologies.net
SUMMARY:Connect(X) 2022 Booth #708
DESCRIPTION:Connect (X) will feature fascinating keynotes\, interactive breakout sessions\, and additional chances to socialize via the event’s annual golf tournament and evening activities.The event will bring together professionals and stakeholders from across the industry\, including carriers\, neutral host networks\, industrial enterprises\, and investors.Whether your organization signs up to exhibit\, sponsor\, or simply attend Connect (X)\, there will be unparalleled opportunities to interact with influential thought leaders.
URL:https://bectechnologies.net/event/connectx-2022-booth-708/
LOCATION:Colorado Convention Center\, 700 14th St\, Denver\, CO\, 80202\, United States
CATEGORIES:Trade Show
ATTACH;FMTTYPE=image/png:https://bectechnologies.net/wp-content/uploads/2021/06/ConnectX_logo.png
ORGANIZER;CN="The Wireless Infrastructure Association (WIA)":MAILTO:matt.mandel@wia.org
GEO:39.742615;-104.9965725
X-APPLE-STRUCTURED-LOCATION;VALUE=URI;X-ADDRESS=Colorado Convention Center 700 14th St Denver CO 80202 United States;X-APPLE-RADIUS=500;X-TITLE=700 14th St:geo:-104.9965725,39.742615
END:VEVENT
BEGIN:VEVENT
DTSTART;VALUE=DATE:20160503
DTEND;VALUE=DATE:20160507
DTSTAMP:20260419T153531
CREATED:20160321T210933Z
LAST-MODIFIED:20160321T210933Z
UID:10000354-1462233600-1462579199@bectechnologies.net
SUMMARY:UTC Telecom & Technology 2016
DESCRIPTION:With a record-breaking number of submissions\, this year’s conference is jam-packed with content. Be prepared for dynamic presentations that will tackle the leading-edge issues of the IT & Telecom programs in the water\, electric\, and gas utility industry\, and that will motivate the pursuit of excellence within the modern utility.
URL:https://bectechnologies.net/event/utc-telecom-technology-2016/
LOCATION:Colorado Convention Center\, 700 14th St\, Denver\, CO\, 80202\, United States
CATEGORIES:Trade Show
ATTACH;FMTTYPE=:
ORGANIZER;CN="Utilities Technology Council":MAILTO:https://utc.org/get-in-touch-with-us/
GEO:39.742615;-104.9965725
X-APPLE-STRUCTURED-LOCATION;VALUE=URI;X-ADDRESS=Colorado Convention Center 700 14th St Denver CO 80202 United States;X-APPLE-RADIUS=500;X-TITLE=700 14th St:geo:-104.9965725,39.742615
END:VEVENT
END:VCALENDAR