BEGIN:VCALENDAR
VERSION:2.0
PRODID:-//BEC Technologies, Inc. - ECPv6.15.20//NONSGML v1.0//EN
CALSCALE:GREGORIAN
METHOD:PUBLISH
X-ORIGINAL-URL:https://bectechnologies.net
X-WR-CALDESC:Events for BEC Technologies, Inc.
REFRESH-INTERVAL;VALUE=DURATION:PT1H
X-Robots-Tag:noindex
X-PUBLISHED-TTL:PT1H
BEGIN:VTIMEZONE
TZID:America/Chicago
BEGIN:DAYLIGHT
TZOFFSETFROM:-0600
TZOFFSETTO:-0500
TZNAME:CDT
DTSTART:20240310T080000
END:DAYLIGHT
BEGIN:STANDARD
TZOFFSETFROM:-0500
TZOFFSETTO:-0600
TZNAME:CST
DTSTART:20241103T070000
END:STANDARD
BEGIN:DAYLIGHT
TZOFFSETFROM:-0600
TZOFFSETTO:-0500
TZNAME:CDT
DTSTART:20250309T080000
END:DAYLIGHT
BEGIN:STANDARD
TZOFFSETFROM:-0500
TZOFFSETTO:-0600
TZNAME:CST
DTSTART:20251102T070000
END:STANDARD
BEGIN:DAYLIGHT
TZOFFSETFROM:-0600
TZOFFSETTO:-0500
TZNAME:CDT
DTSTART:20260308T080000
END:DAYLIGHT
BEGIN:STANDARD
TZOFFSETFROM:-0500
TZOFFSETTO:-0600
TZNAME:CST
DTSTART:20261101T070000
END:STANDARD
BEGIN:DAYLIGHT
TZOFFSETFROM:-0600
TZOFFSETTO:-0500
TZNAME:CDT
DTSTART:20270314T080000
END:DAYLIGHT
BEGIN:STANDARD
TZOFFSETFROM:-0500
TZOFFSETTO:-0600
TZNAME:CST
DTSTART:20271107T070000
END:STANDARD
END:VTIMEZONE
BEGIN:VEVENT
DTSTART;VALUE=DATE:20260324
DTEND;VALUE=DATE:20260327
DTSTAMP:20260424T214335
CREATED:20260217T214351Z
LAST-MODIFIED:20260217T214351Z
UID:10000555-1774310400-1774569599@bectechnologies.net
SUMMARY:UTC Region 6 Meeting – exhibition
DESCRIPTION:Join BEC Technologies at the UTC Region 6 Meeting! \nPlease join us for the UTC Region 6 annual meeting and expo. We have an engaging event that is tailored to our members’ and stakeholders’ critical needs. \nThe UTC Region 6 meeting is where utility professionals and valued technology partners will collaborate on important issues such as technology\, market trends\, business strategies\, and industry solutions. See you there!
URL:https://bectechnologies.net/event/utc-region-6-meeting-exhibition/
LOCATION:DoubleTree by Hilton Hotel Kansas City – Overland Park\, 10100 College Boulevard\, Overland Park\, KS\, 66210\, United States
CATEGORIES:Conference,Trade Show
ATTACH;FMTTYPE=image/png:https://bectechnologies.net/wp-content/uploads/2026/02/UTC-Region-6-Meeting-banner.png
ORGANIZER;CN="Utilities Technology Council":MAILTO:https://utc.org/get-in-touch-with-us/
END:VEVENT
BEGIN:VEVENT
DTSTART;VALUE=DATE:20250401
DTEND;VALUE=DATE:20250404
DTSTAMP:20260424T214335
CREATED:20250305T231552Z
LAST-MODIFIED:20250305T232036Z
UID:10000543-1743465600-1743724799@bectechnologies.net
SUMMARY:UTC Region 6 2025 Meeting - exhibit
DESCRIPTION:Join Us for the UTC Region 6 Meeting! \n\n\nThe UTC Region 6 Meeting brings together utility professionals and valued technology partners to collaborate on key industry topics\, including:✔️ Technology Innovations✔️ Market Trends✔️ Business Strategies✔️ Industry Solutions \n\n\nWe look forward to connecting with you at the event!
URL:https://bectechnologies.net/event/utc-region-6-2025-meeting-exhibit/
LOCATION:DoubleTree by Hilton Hotel Kansas City – Overland Park\, 10100 College Boulevard\, Overland Park\, KS\, 66210\, United States
CATEGORIES:Trade Show
ATTACH;FMTTYPE=image/png:https://bectechnologies.net/wp-content/uploads/2025/03/UTC-Region-6-Meeting-banner.png
ORGANIZER;CN="Utilities Technology Council":MAILTO:https://utc.org/get-in-touch-with-us/
END:VEVENT
END:VCALENDAR