BEGIN:VCALENDAR
VERSION:2.0
PRODID:-//BEC Technologies, Inc. - ECPv6.15.20//NONSGML v1.0//EN
CALSCALE:GREGORIAN
METHOD:PUBLISH
X-WR-CALNAME:BEC Technologies, Inc.
X-ORIGINAL-URL:https://bectechnologies.net
X-WR-CALDESC:Events for BEC Technologies, Inc.
REFRESH-INTERVAL;VALUE=DURATION:PT1H
X-Robots-Tag:noindex
X-PUBLISHED-TTL:PT1H
BEGIN:VTIMEZONE
TZID:UTC
BEGIN:STANDARD
TZOFFSETFROM:+0000
TZOFFSETTO:+0000
TZNAME:UTC
DTSTART:20150101T000000
END:STANDARD
END:VTIMEZONE
BEGIN:VEVENT
DTSTART;VALUE=DATE:20160223
DTEND;VALUE=DATE:20160226
DTSTAMP:20260420T052832
CREATED:20160204T014112Z
LAST-MODIFIED:20160204T014112Z
UID:10000346-1456185600-1456444799@bectechnologies.net
SUMMARY:CalCom Showcase & Tech Expo Booth 217
DESCRIPTION:The 32nd Annual CalCom Showcase & Tech Expo provides personnel from ILECs\, CLECs\, ISPs\, Wireless\, and CATV with the opportunity to learn about the latest in technology\, industry trends\, and products on the market. CalCom’s show also offers a full schedule of educational training seminars and networking events…AND IT’S FREE TO ATTEND!!  We hope you will join us!
URL:https://bectechnologies.net/event/calcom-showcase-tech-expo-booth-217/
LOCATION:DoubleTree by Hilton Sacramento\, 2001 Point W Way\, Sacramento\, CA\, 95815\, United States
CATEGORIES:Trade Show
ATTACH;FMTTYPE=:
ORGANIZER;CN="California Communication Association":MAILTO:mariann@CalComAssn.org
GEO:38.6010834;-121.4330502
X-APPLE-STRUCTURED-LOCATION;VALUE=URI;X-ADDRESS=DoubleTree by Hilton Sacramento 2001 Point W Way Sacramento CA 95815 United States;X-APPLE-RADIUS=500;X-TITLE=2001 Point W Way:geo:-121.4330502,38.6010834
END:VEVENT
END:VCALENDAR