BEGIN:VCALENDAR
VERSION:2.0
PRODID:-//BEC Technologies, Inc. - ECPv6.15.20//NONSGML v1.0//EN
CALSCALE:GREGORIAN
METHOD:PUBLISH
X-WR-CALNAME:BEC Technologies, Inc.
X-ORIGINAL-URL:https://bectechnologies.net
X-WR-CALDESC:Events for BEC Technologies, Inc.
REFRESH-INTERVAL;VALUE=DURATION:PT1H
X-Robots-Tag:noindex
X-PUBLISHED-TTL:PT1H
BEGIN:VTIMEZONE
TZID:UTC
BEGIN:STANDARD
TZOFFSETFROM:+0000
TZOFFSETTO:+0000
TZNAME:UTC
DTSTART:20160101T000000
END:STANDARD
END:VTIMEZONE
BEGIN:VEVENT
DTSTART;VALUE=DATE:20181014
DTEND;VALUE=DATE:20181019
DTSTAMP:20260420T060256
CREATED:20180802T213102Z
LAST-MODIFIED:20180802T213102Z
UID:10000422-1539475200-1539907199@bectechnologies.net
SUMMARY:GITEX
DESCRIPTION:For 38 years\, the most renowned names in technology have come alive at GITEX Technology Week. One week showcasing the global technology and innovations that are converging sectors and industries 365 days a year.  Especially if you’re talking technology within the Middle East\, Africa and Asia. Right from world-famous industry names to Silicon Valley’s hottest startups\, everyone heads to GITEX in anticipation of big business partnerships\, future-ready gear and booming successes.
URL:https://bectechnologies.net/event/gitex/
LOCATION:Dubai World Trade Center\, Sheikh Zayed Rd\, Dubai\, United Arab Emirates
ATTACH;FMTTYPE=:
GEO:25.0609246;55.1289795
X-APPLE-STRUCTURED-LOCATION;VALUE=URI;X-ADDRESS=Dubai World Trade Center Sheikh Zayed Rd Dubai United Arab Emirates;X-APPLE-RADIUS=500;X-TITLE=Sheikh Zayed Rd:geo:55.1289795,25.0609246
END:VEVENT
BEGIN:VEVENT
DTSTART;TZID=UTC:20171008T080000
DTEND;TZID=UTC:20171012T170000
DTSTAMP:20260420T060256
CREATED:20170711T193928Z
LAST-MODIFIED:20170711T193928Z
UID:10000383-1507449600-1507827600@bectechnologies.net
SUMMARY:GITEX Technology Week
DESCRIPTION:GITEX Technology Week is a game-changing\, must-attend event located in Dubai – the world’s fastest growing technology hub\nFor 37 years\, visionaries and tech pioneers have been descending on Dubai to witness first-hand the technology that has inspired generations and innovations that are set to change the world.\nVisit BEC on the show floor!
URL:https://bectechnologies.net/event/gitex-technology-week/
LOCATION:Dubai World Trade Center\, Sheikh Zayed Rd\, Dubai\, United Arab Emirates
ATTACH;FMTTYPE=:
GEO:25.0609246;55.1289795
X-APPLE-STRUCTURED-LOCATION;VALUE=URI;X-ADDRESS=Dubai World Trade Center Sheikh Zayed Rd Dubai United Arab Emirates;X-APPLE-RADIUS=500;X-TITLE=Sheikh Zayed Rd:geo:55.1289795,25.0609246
END:VEVENT
END:VCALENDAR