BEGIN:VCALENDAR
VERSION:2.0
PRODID:-//BEC Technologies, Inc. - ECPv6.15.20//NONSGML v1.0//EN
CALSCALE:GREGORIAN
METHOD:PUBLISH
X-WR-CALNAME:BEC Technologies, Inc.
X-ORIGINAL-URL:https://bectechnologies.net
X-WR-CALDESC:Events for BEC Technologies, Inc.
REFRESH-INTERVAL;VALUE=DURATION:PT1H
X-Robots-Tag:noindex
X-PUBLISHED-TTL:PT1H
BEGIN:VTIMEZONE
TZID:America/Chicago
BEGIN:DAYLIGHT
TZOFFSETFROM:-0600
TZOFFSETTO:-0500
TZNAME:CDT
DTSTART:20210314T080000
END:DAYLIGHT
BEGIN:STANDARD
TZOFFSETFROM:-0500
TZOFFSETTO:-0600
TZNAME:CST
DTSTART:20211107T070000
END:STANDARD
BEGIN:DAYLIGHT
TZOFFSETFROM:-0600
TZOFFSETTO:-0500
TZNAME:CDT
DTSTART:20220313T080000
END:DAYLIGHT
BEGIN:STANDARD
TZOFFSETFROM:-0500
TZOFFSETTO:-0600
TZNAME:CST
DTSTART:20221106T070000
END:STANDARD
BEGIN:DAYLIGHT
TZOFFSETFROM:-0600
TZOFFSETTO:-0500
TZNAME:CDT
DTSTART:20230312T080000
END:DAYLIGHT
BEGIN:STANDARD
TZOFFSETFROM:-0500
TZOFFSETTO:-0600
TZNAME:CST
DTSTART:20231105T070000
END:STANDARD
END:VTIMEZONE
BEGIN:VEVENT
DTSTART;VALUE=DATE:20220627
DTEND;VALUE=DATE:20220630
DTSTAMP:20260419T153117
CREATED:20220601T222811Z
LAST-MODIFIED:20220601T222829Z
UID:10000496-1656288000-1656547199@bectechnologies.net
SUMMARY:Rural Wireless Infrastructure Summit Booth #19
DESCRIPTION:The Infrastructure Investment and Jobs Act earmarks $42.4B for a state broadband infrastructure grant program for fiber and wireless deployment. Network operators are working to ensure that they build smart and secure communications networks in both their brownfield and greenfield deployments. \nTo provide timely analysis and critical information needed to take advantage of these opportunities\, RINA Wireless and the Rural Wireless Association have joined forces to host the Rural Wireless Infrastructure Summit in Park City\, Utah on June 27-29\, 2022. \nThe gathering will bring together mobile and fixed rural wireless network operators from across the country\, infrastructure providers\, and the vendors that do business with them. Attendees will gain up-to-the-minute expert analysis and essential information.
URL:https://bectechnologies.net/event/rural-wireless-infrastructure-summit/
LOCATION:Grand Summit Resort\, 4000 Canyons Resort Drive\, Park City\, UT\, 84098\, United States
CATEGORIES:Trade Show
ATTACH;FMTTYPE=image/png:https://bectechnologies.net/wp-content/uploads/2022/06/rural-Wireless-infrastructure-summit.png
ORGANIZER;CN="RWA - Rural Wireless Association":MAILTO:info@ruralwireless.org
END:VEVENT
END:VCALENDAR