BEGIN:VCALENDAR
VERSION:2.0
PRODID:-//BEC Technologies, Inc. - ECPv6.15.20//NONSGML v1.0//EN
CALSCALE:GREGORIAN
METHOD:PUBLISH
X-ORIGINAL-URL:https://bectechnologies.net
X-WR-CALDESC:Events for BEC Technologies, Inc.
REFRESH-INTERVAL;VALUE=DURATION:PT1H
X-Robots-Tag:noindex
X-PUBLISHED-TTL:PT1H
BEGIN:VTIMEZONE
TZID:America/Chicago
BEGIN:DAYLIGHT
TZOFFSETFROM:-0600
TZOFFSETTO:-0500
TZNAME:CDT
DTSTART:20180311T080000
END:DAYLIGHT
BEGIN:STANDARD
TZOFFSETFROM:-0500
TZOFFSETTO:-0600
TZNAME:CST
DTSTART:20181104T070000
END:STANDARD
BEGIN:DAYLIGHT
TZOFFSETFROM:-0600
TZOFFSETTO:-0500
TZNAME:CDT
DTSTART:20190310T080000
END:DAYLIGHT
BEGIN:STANDARD
TZOFFSETFROM:-0500
TZOFFSETTO:-0600
TZNAME:CST
DTSTART:20191103T070000
END:STANDARD
BEGIN:DAYLIGHT
TZOFFSETFROM:-0600
TZOFFSETTO:-0500
TZNAME:CDT
DTSTART:20200308T080000
END:DAYLIGHT
BEGIN:STANDARD
TZOFFSETFROM:-0500
TZOFFSETTO:-0600
TZNAME:CST
DTSTART:20201101T070000
END:STANDARD
END:VTIMEZONE
BEGIN:VEVENT
DTSTART;VALUE=DATE:20191106
DTEND;VALUE=DATE:20191107
DTSTAMP:20260420T000319
CREATED:20191011T233651Z
LAST-MODIFIED:20191011T233651Z
UID:10000467-1572998400-1573084799@bectechnologies.net
SUMMARY:BlueStar IST Anaheim
DESCRIPTION:BlueStar is excited to bring you\, our value-added resellers\, the Channel’s ONLY Solutions Tour! Our customers spoke\, and we listened – you want more vendors\, more solutions\, round table discussions\, and an exciting venue! Well\, we’re here to deliver with the Innovative Solutions Tour.\nWith 6 shows planned in the US\, we’ll be highlighting solutions for POS\, ADC\, RFID\, Digital Signage and more\, all while featuring IoT\, Mobility\, and mPOS products from our top manufacturers! And new to our roadshow agenda this year are industry expert-led presentations on payment processing and networking\, as well as interactive round table discussions.\nGrowth Snapshot – Condensed Presentation on Top Line Growth in Payments and Networking Solutions\nEvery reseller is looking for ways to grow their top-line sales and improving their bottom line without adding costs. These short 15 minute sessions will deliver BlueStar’s initiative in Payments and Networking\, giving you key insights on how to expand your business and solutions to make it even easier!
URL:https://bectechnologies.net/event/bluestar-ist-anaheim/
LOCATION:Hanger 21\, 3970 Artesia Ave\,\, Fullerton\,\, CA\, 92833\, United States
CATEGORIES:Conference,Trade Show
ATTACH;FMTTYPE=:
ORGANIZER;CN="BlueStar":MAILTO:sales@bluestarinc.com
END:VEVENT
END:VCALENDAR