BEGIN:VCALENDAR
VERSION:2.0
PRODID:-//BEC Technologies, Inc. - ECPv6.15.20//NONSGML v1.0//EN
CALSCALE:GREGORIAN
METHOD:PUBLISH
X-WR-CALNAME:BEC Technologies, Inc.
X-ORIGINAL-URL:https://bectechnologies.net
X-WR-CALDESC:Events for BEC Technologies, Inc.
REFRESH-INTERVAL;VALUE=DURATION:PT1H
X-Robots-Tag:noindex
X-PUBLISHED-TTL:PT1H
BEGIN:VTIMEZONE
TZID:UTC
BEGIN:STANDARD
TZOFFSETFROM:+0000
TZOFFSETTO:+0000
TZNAME:UTC
DTSTART:20150101T000000
END:STANDARD
END:VTIMEZONE
BEGIN:VEVENT
DTSTART;VALUE=DATE:20160223
DTEND;VALUE=DATE:20160226
DTSTAMP:20260420T012140
CREATED:20151112T233141Z
LAST-MODIFIED:20151112T233141Z
UID:10000343-1456185600-1456444799@bectechnologies.net
SUMMARY:ATMIA  US Conference 2016 Booth 712
DESCRIPTION:ATMIA USA’s annual conference and expo is the largest ATM-focused event in the world. Make plans now to attend the 2016 conference in New Orleans! The theme for this next ATMIA USA conference is:  “Connecting Consumers and their Money to the ATM.”
URL:https://bectechnologies.net/event/atmia-us-conference/
LOCATION:Hilton New Orleans Riverside\,  Two Poydras Street\, New Orleans\, LA\, 70140\, United States
CATEGORIES:Trade Show
ATTACH;FMTTYPE=:
GEO:29.9468229;-90.0635318
X-APPLE-STRUCTURED-LOCATION;VALUE=URI;X-ADDRESS=Hilton New Orleans Riverside  Two Poydras Street New Orleans LA 70140 United States;X-APPLE-RADIUS=500;X-TITLE=Two Poydras Street:geo:-90.0635318,29.9468229
END:VEVENT
END:VCALENDAR