BEGIN:VCALENDAR
VERSION:2.0
PRODID:-//BEC Technologies, Inc. - ECPv6.15.20//NONSGML v1.0//EN
CALSCALE:GREGORIAN
METHOD:PUBLISH
X-WR-CALNAME:BEC Technologies, Inc.
X-ORIGINAL-URL:https://bectechnologies.net
X-WR-CALDESC:Events for BEC Technologies, Inc.
REFRESH-INTERVAL;VALUE=DURATION:PT1H
X-Robots-Tag:noindex
X-PUBLISHED-TTL:PT1H
BEGIN:VTIMEZONE
TZID:America/Chicago
BEGIN:DAYLIGHT
TZOFFSETFROM:-0600
TZOFFSETTO:-0500
TZNAME:CDT
DTSTART:20190310T080000
END:DAYLIGHT
BEGIN:STANDARD
TZOFFSETFROM:-0500
TZOFFSETTO:-0600
TZNAME:CST
DTSTART:20191103T070000
END:STANDARD
BEGIN:DAYLIGHT
TZOFFSETFROM:-0600
TZOFFSETTO:-0500
TZNAME:CDT
DTSTART:20200308T080000
END:DAYLIGHT
BEGIN:STANDARD
TZOFFSETFROM:-0500
TZOFFSETTO:-0600
TZNAME:CST
DTSTART:20201101T070000
END:STANDARD
BEGIN:DAYLIGHT
TZOFFSETFROM:-0600
TZOFFSETTO:-0500
TZNAME:CDT
DTSTART:20210314T080000
END:DAYLIGHT
BEGIN:STANDARD
TZOFFSETFROM:-0500
TZOFFSETTO:-0600
TZNAME:CST
DTSTART:20211107T070000
END:STANDARD
END:VTIMEZONE
BEGIN:VEVENT
DTSTART;VALUE=DATE:20200511
DTEND;VALUE=DATE:20200515
DTSTAMP:20260419T230320
CREATED:20200309T154116Z
LAST-MODIFIED:20200309T155127Z
UID:10000365-1589155200-1589500799@bectechnologies.net
SUMMARY:2020 NDTA TOC Showcase
DESCRIPTION:The purpose of the organization is to collectively address common telephone industry needs by: Providing to its members information and assistance in matters of industry-wide importance; Providing workshops\, seminars\, and conferences as a means of establishing a forum for the expression of ideas\, discussion of  problems of the member companies and educational opportunities;  Providing a clearinghouse for the compilation\, publication and distribution of information affecting\, or of interest to its member companies.
URL:https://bectechnologies.net/event/2020-ndta-toc-showcase/
LOCATION:Holiday Inn Fargo\, 3803 13th Ave S\, Fargo\, ND\, 58103\, United States\, 401 13 Ave S\, United States
CATEGORIES:Trade Show
ATTACH;FMTTYPE=image/jpeg:https://bectechnologies.net/wp-content/uploads/2020/03/TOC-Logo.jpg
GEO:46.86159;-96.785607
X-APPLE-STRUCTURED-LOCATION;VALUE=URI;X-ADDRESS=Holiday Inn Fargo 3803 13th Ave S Fargo ND 58103 United States 401 13 Ave S United States;X-APPLE-RADIUS=500;X-TITLE=401 13 Ave S:geo:-96.785607,46.86159
END:VEVENT
END:VCALENDAR