BEGIN:VCALENDAR
VERSION:2.0
PRODID:-//BEC Technologies, Inc. - ECPv6.15.20//NONSGML v1.0//EN
CALSCALE:GREGORIAN
METHOD:PUBLISH
X-WR-CALNAME:BEC Technologies, Inc.
X-ORIGINAL-URL:https://bectechnologies.net
X-WR-CALDESC:Events for BEC Technologies, Inc.
REFRESH-INTERVAL;VALUE=DURATION:PT1H
X-Robots-Tag:noindex
X-PUBLISHED-TTL:PT1H
BEGIN:VTIMEZONE
TZID:UTC
BEGIN:STANDARD
TZOFFSETFROM:+0000
TZOFFSETTO:+0000
TZNAME:UTC
DTSTART:20170101T000000
END:STANDARD
END:VTIMEZONE
BEGIN:VEVENT
DTSTART;VALUE=DATE:20180426
DTEND;VALUE=DATE:20180428
DTSTAMP:20260419T205659
CREATED:20180131T040130Z
LAST-MODIFIED:20180131T040130Z
UID:10000401-1524700800-1524873599@bectechnologies.net
SUMMARY:Texas Regional HIMSS Conference
DESCRIPTION:The 2018 Texas Regional HIMSS Conference will be held April 26-27\, 2018 in Dallas\, Texas. This is the 10th year for this exciting conference that brings together over 700 health IT professionals\, clinicians\, executives and vendors from around the state of Texas that focus on new innovations\, opportunities and progressive solutions to improve healthcare technology. Exceptional education\, world-class speakers\, cutting-edge health IT products and powerful networking opportunities are hallmarks of this Texas flavored conference.
URL:https://bectechnologies.net/event/texas-regional-himss-conference/
LOCATION:Hyatt Regency Dallas\, 300 Reunion Blvd\, Dallas\, TX\, 75207\, United States
CATEGORIES:Trade Show
ATTACH;FMTTYPE=:
GEO:32.7757814;-96.809279
X-APPLE-STRUCTURED-LOCATION;VALUE=URI;X-ADDRESS=Hyatt Regency Dallas 300 Reunion Blvd Dallas TX 75207 United States;X-APPLE-RADIUS=500;X-TITLE=300 Reunion Blvd:geo:-96.809279,32.7757814
END:VEVENT
END:VCALENDAR