BEGIN:VCALENDAR
VERSION:2.0
PRODID:-//BEC Technologies, Inc. - ECPv6.15.20//NONSGML v1.0//EN
CALSCALE:GREGORIAN
METHOD:PUBLISH
X-ORIGINAL-URL:https://bectechnologies.net
X-WR-CALDESC:Events for BEC Technologies, Inc.
REFRESH-INTERVAL;VALUE=DURATION:PT1H
X-Robots-Tag:noindex
X-PUBLISHED-TTL:PT1H
BEGIN:VTIMEZONE
TZID:America/Chicago
BEGIN:DAYLIGHT
TZOFFSETFROM:-0600
TZOFFSETTO:-0500
TZNAME:CDT
DTSTART:20200308T080000
END:DAYLIGHT
BEGIN:STANDARD
TZOFFSETFROM:-0500
TZOFFSETTO:-0600
TZNAME:CST
DTSTART:20201101T070000
END:STANDARD
BEGIN:DAYLIGHT
TZOFFSETFROM:-0600
TZOFFSETTO:-0500
TZNAME:CDT
DTSTART:20210314T080000
END:DAYLIGHT
BEGIN:STANDARD
TZOFFSETFROM:-0500
TZOFFSETTO:-0600
TZNAME:CST
DTSTART:20211107T070000
END:STANDARD
BEGIN:DAYLIGHT
TZOFFSETFROM:-0600
TZOFFSETTO:-0500
TZNAME:CDT
DTSTART:20220313T080000
END:DAYLIGHT
BEGIN:STANDARD
TZOFFSETFROM:-0500
TZOFFSETTO:-0600
TZNAME:CST
DTSTART:20221106T070000
END:STANDARD
END:VTIMEZONE
BEGIN:VEVENT
DTSTART;VALUE=DATE:20211004
DTEND;VALUE=DATE:20211008
DTSTAMP:20260419T191053
CREATED:20210616T153015Z
LAST-MODIFIED:20210616T153015Z
UID:10000480-1633305600-1633651199@bectechnologies.net
SUMMARY:Connect (X) 2021 Booth #307
DESCRIPTION:As the connectivity industry continues to develop and devices evolve with more computing power\, the focus shifts to the infrastructure to support 5G. The next wave of deployment will require an expanded community of network infrastructure – public and private – to usher in a new era of universal broadband applications and services to anyone\, anywhere\, in real-time. \nConnect (X) showcases the leaders in 5G infrastructure: innovative technology\, supporting professional services\, and a partner ecosystem that enables ubiquitous communications between people\, devices\, machines\, and tools that support 21st-century communications.
URL:https://bectechnologies.net/event/connect-x-2021-booth-307/
LOCATION:Hyatt Regency Orlando\, 9801 International Dr\, Orlando\, FL\, 32819\, United States
CATEGORIES:Trade Show
ATTACH;FMTTYPE=image/png:https://bectechnologies.net/wp-content/uploads/2021/06/ConnectX_logo.png
ORGANIZER;CN="The Wireless Infrastructure Association (WIA)":MAILTO:matt.mandel@wia.org
END:VEVENT
END:VCALENDAR