BEGIN:VCALENDAR
VERSION:2.0
PRODID:-//BEC Technologies, Inc. - ECPv6.15.20//NONSGML v1.0//EN
CALSCALE:GREGORIAN
METHOD:PUBLISH
X-ORIGINAL-URL:https://bectechnologies.net
X-WR-CALDESC:Events for BEC Technologies, Inc.
REFRESH-INTERVAL;VALUE=DURATION:PT1H
X-Robots-Tag:noindex
X-PUBLISHED-TTL:PT1H
BEGIN:VTIMEZONE
TZID:UTC
BEGIN:STANDARD
TZOFFSETFROM:+0000
TZOFFSETTO:+0000
TZNAME:UTC
DTSTART:20140101T000000
END:STANDARD
END:VTIMEZONE
BEGIN:VEVENT
DTSTART;VALUE=DATE:20151117
DTEND;VALUE=DATE:20151120
DTSTAMP:20260420T052631
CREATED:20151021T222848Z
LAST-MODIFIED:20151021T222848Z
UID:10000332-1447718400-1447977599@bectechnologies.net
SUMMARY:LTE North America 2015
DESCRIPTION:The 8th Annual LTE North America summit is the industry’s meeting point to discuss the present and future of cellular networks in the region. Featuring keynote presentations from the likes of AT&T\, Sprint\, Verizon\, FirstNet the FCC\, the summit attracts the entire cellular ecosystem to build the next generations of LTE networks.\nIn partnership with 4G Americas\, the co-located 5G World North America will give attendees an exclusive opportunity to hear from the leading carriers in the region about their requirements\, vision and expectations for 5G networks. Additionally\, our partnerships with the Rural Wireless Association and the Competitive Carriers Association and iCERT will give delegates and sponsors the opportunity to hear from and network with key rural carriers and LTE public safety officials.
URL:https://bectechnologies.net/event/lte-north-america-2015/
LOCATION:INTERCONTINENTAL HOTEL\, 15201 Dallas Pkwy\, \, Addison\, TX\, 75001\, United States
CATEGORIES:Trade Show
ATTACH;FMTTYPE=image/jpeg:https://bectechnologies.net/wp-content/uploads/2019/10/casestudy_onering.jpg
GEO:32.9567037;-96.823151
X-APPLE-STRUCTURED-LOCATION;VALUE=URI;X-ADDRESS=INTERCONTINENTAL HOTEL 15201 Dallas Pkwy  Addison TX 75001 United States;X-APPLE-RADIUS=500;X-TITLE=15201 Dallas Pkwy\,:geo:-96.823151,32.9567037
END:VEVENT
END:VCALENDAR