BEGIN:VCALENDAR
VERSION:2.0
PRODID:-//BEC Technologies, Inc. - ECPv6.15.20//NONSGML v1.0//EN
CALSCALE:GREGORIAN
METHOD:PUBLISH
X-WR-CALNAME:BEC Technologies, Inc.
X-ORIGINAL-URL:https://bectechnologies.net
X-WR-CALDESC:Events for BEC Technologies, Inc.
REFRESH-INTERVAL;VALUE=DURATION:PT1H
X-Robots-Tag:noindex
X-PUBLISHED-TTL:PT1H
BEGIN:VTIMEZONE
TZID:America/Chicago
BEGIN:DAYLIGHT
TZOFFSETFROM:-0600
TZOFFSETTO:-0500
TZNAME:CDT
DTSTART:20220313T080000
END:DAYLIGHT
BEGIN:STANDARD
TZOFFSETFROM:-0500
TZOFFSETTO:-0600
TZNAME:CST
DTSTART:20221106T070000
END:STANDARD
BEGIN:DAYLIGHT
TZOFFSETFROM:-0600
TZOFFSETTO:-0500
TZNAME:CDT
DTSTART:20230312T080000
END:DAYLIGHT
BEGIN:STANDARD
TZOFFSETFROM:-0500
TZOFFSETTO:-0600
TZNAME:CST
DTSTART:20231105T070000
END:STANDARD
BEGIN:DAYLIGHT
TZOFFSETFROM:-0600
TZOFFSETTO:-0500
TZNAME:CDT
DTSTART:20240310T080000
END:DAYLIGHT
BEGIN:STANDARD
TZOFFSETFROM:-0500
TZOFFSETTO:-0600
TZNAME:CST
DTSTART:20241103T070000
END:STANDARD
END:VTIMEZONE
BEGIN:VEVENT
DTSTART;VALUE=DATE:20230306
DTEND;VALUE=DATE:20230310
DTSTAMP:20260419T135137
CREATED:20230227T230515Z
LAST-MODIFIED:20230227T230515Z
UID:10000506-1678060800-1678406399@bectechnologies.net
SUMMARY:WISPAMERICA 2023 – Booth #606
DESCRIPTION:WISPAMERICA Louisville brings over 1\,500 people together to learn\, experience new technology\, and network with colleagues\, all geared toward growing the vibrant and evolutionary WISP industry. \nCentrally located in the heartland of the country\, the budget-conscious\, four-day gathering features 90+ expert sessions and demonstrations\, over 100 exhibitors\, and access to more than 1\,200 industry leaders. Want to know more about important legal and regulatory trends? See the latest fixed wireless and fiber technology? Hear how to make your business more profitable for you and better for your customers. Hit it out of the park by attending\, sponsoring\, or exhibiting at WISPAMERICA Louisville – held at the Kentucky International Convention Center\, March 6 – 9\, 2023\, with exclusive early bird discounts on attendance and hotel stay.
URL:https://bectechnologies.net/event/wispamerica-2023-booth-606/
LOCATION:Kentucky International Convention Center\, 221 S. 4th St\, Louisville\, KY\, 40202\, United States
CATEGORIES:Trade Show
ATTACH;FMTTYPE=image/png:https://bectechnologies.net/wp-content/uploads/2023/02/WISPAMERICA2023.png
ORGANIZER;CN="WISPA":MAILTO:showinfo@wispa.org
END:VEVENT
END:VCALENDAR