BEGIN:VCALENDAR
VERSION:2.0
PRODID:-//BEC Technologies, Inc. - ECPv6.15.20//NONSGML v1.0//EN
CALSCALE:GREGORIAN
METHOD:PUBLISH
X-ORIGINAL-URL:https://bectechnologies.net
X-WR-CALDESC:Events for BEC Technologies, Inc.
REFRESH-INTERVAL;VALUE=DURATION:PT1H
X-Robots-Tag:noindex
X-PUBLISHED-TTL:PT1H
BEGIN:VTIMEZONE
TZID:America/Chicago
BEGIN:DAYLIGHT
TZOFFSETFROM:-0600
TZOFFSETTO:-0500
TZNAME:CDT
DTSTART:20190310T080000
END:DAYLIGHT
BEGIN:STANDARD
TZOFFSETFROM:-0500
TZOFFSETTO:-0600
TZNAME:CST
DTSTART:20191103T070000
END:STANDARD
BEGIN:DAYLIGHT
TZOFFSETFROM:-0600
TZOFFSETTO:-0500
TZNAME:CDT
DTSTART:20200308T080000
END:DAYLIGHT
BEGIN:STANDARD
TZOFFSETFROM:-0500
TZOFFSETTO:-0600
TZNAME:CST
DTSTART:20201101T070000
END:STANDARD
BEGIN:DAYLIGHT
TZOFFSETFROM:-0600
TZOFFSETTO:-0500
TZNAME:CDT
DTSTART:20210314T080000
END:DAYLIGHT
BEGIN:STANDARD
TZOFFSETFROM:-0500
TZOFFSETTO:-0600
TZNAME:CST
DTSTART:20211107T070000
END:STANDARD
BEGIN:DAYLIGHT
TZOFFSETFROM:-0600
TZOFFSETTO:-0500
TZNAME:CDT
DTSTART:20220313T080000
END:DAYLIGHT
BEGIN:STANDARD
TZOFFSETFROM:-0500
TZOFFSETTO:-0600
TZNAME:CST
DTSTART:20221106T070000
END:STANDARD
BEGIN:DAYLIGHT
TZOFFSETFROM:-0600
TZOFFSETTO:-0500
TZNAME:CDT
DTSTART:20230312T080000
END:DAYLIGHT
BEGIN:STANDARD
TZOFFSETFROM:-0500
TZOFFSETTO:-0600
TZNAME:CST
DTSTART:20231105T070000
END:STANDARD
BEGIN:DAYLIGHT
TZOFFSETFROM:-0600
TZOFFSETTO:-0500
TZNAME:CDT
DTSTART:20240310T080000
END:DAYLIGHT
BEGIN:STANDARD
TZOFFSETFROM:-0500
TZOFFSETTO:-0600
TZNAME:CST
DTSTART:20241103T070000
END:STANDARD
BEGIN:DAYLIGHT
TZOFFSETFROM:-0600
TZOFFSETTO:-0500
TZNAME:CDT
DTSTART:20250309T080000
END:DAYLIGHT
BEGIN:STANDARD
TZOFFSETFROM:-0500
TZOFFSETTO:-0600
TZNAME:CST
DTSTART:20251102T070000
END:STANDARD
BEGIN:DAYLIGHT
TZOFFSETFROM:-0600
TZOFFSETTO:-0500
TZNAME:CDT
DTSTART:20260308T080000
END:DAYLIGHT
BEGIN:STANDARD
TZOFFSETFROM:-0500
TZOFFSETTO:-0600
TZNAME:CST
DTSTART:20261101T070000
END:STANDARD
BEGIN:DAYLIGHT
TZOFFSETFROM:-0600
TZOFFSETTO:-0500
TZNAME:CDT
DTSTART:20270314T080000
END:DAYLIGHT
BEGIN:STANDARD
TZOFFSETFROM:-0500
TZOFFSETTO:-0600
TZNAME:CST
DTSTART:20271107T070000
END:STANDARD
END:VTIMEZONE
BEGIN:VEVENT
DTSTART;VALUE=DATE:20260319
DTEND;VALUE=DATE:20260320
DTSTAMP:20260419T153543
CREATED:20260217T211800Z
LAST-MODIFIED:20260217T211936Z
UID:10000554-1773878400-1773964799@bectechnologies.net
SUMMARY:IWCE 2026 – Booth #2224
DESCRIPTION:IWCE 2026: The Essential Gathering for Mission-Critical Technology \nIndustry connection starts here. IWCE serves as the premier annual gathering point for the critical communications community\, providing a centralized location to explore innovative solutions and share experiences with colleagues facing similar operational challenges. \nVisit the BEC Technologies team at Booth 2224. Stop by to discover how our professional connectivity solutions can scale and grow your business.
URL:https://bectechnologies.net/event/iwce-2026-booth-2224/
LOCATION:Las Vegas Convention Center\, 3150 Paradise Rd\, Las Vegas\, NV\, 89109\, United States
CATEGORIES:Trade Show
ATTACH;FMTTYPE=image/png:https://bectechnologies.net/wp-content/uploads/2026/02/IWCE-2026-banner.png
ORGANIZER;CN="Informa":MAILTO:informamarkets@informa.com
GEO:36.1311282;-115.1511192
X-APPLE-STRUCTURED-LOCATION;VALUE=URI;X-ADDRESS=Las Vegas Convention Center 3150 Paradise Rd Las Vegas NV 89109 United States;X-APPLE-RADIUS=500;X-TITLE=3150 Paradise Rd:geo:-115.1511192,36.1311282
END:VEVENT
BEGIN:VEVENT
DTSTART;VALUE=DATE:20241008
DTEND;VALUE=DATE:20241011
DTSTAMP:20260419T153543
CREATED:20240626T214217Z
LAST-MODIFIED:20240626T214217Z
UID:10000525-1728345600-1728604799@bectechnologies.net
SUMMARY:MWC Las Vegas 2024 – Booth #1017
DESCRIPTION:MWC Las Vegas 2024 will feature the biggest names and current leaders in 5G-enabled technology. The event will showcase real-life use cases and case studies demonstrating how 5G is essential to the future of enterprise across three themes: Enterprise Transformation\, AI Networks\, and 5G EdgeCloud. \nExperience firsthand how this technology can solve your biggest current challenges at MWC Las Vegas. Insights will be shared by 5G leaders\, architects\, systems integrators\, and CIOs from successful 5G enterprises.
URL:https://bectechnologies.net/event/mwc-las-vegas-2024-booth-1017/
LOCATION:Las Vegas Convention Center\, 3150 Paradise Rd\, Las Vegas\, NV\, 89109\, United States
CATEGORIES:Trade Show
ATTACH;FMTTYPE=image/png:https://bectechnologies.net/wp-content/uploads/2024/06/MWC-Las-Vegas-2024.png
ORGANIZER;CN="GSMA":MAILTO:info@gsma.com
GEO:36.1311282;-115.1511192
X-APPLE-STRUCTURED-LOCATION;VALUE=URI;X-ADDRESS=Las Vegas Convention Center 3150 Paradise Rd Las Vegas NV 89109 United States;X-APPLE-RADIUS=500;X-TITLE=3150 Paradise Rd:geo:-115.1511192,36.1311282
END:VEVENT
BEGIN:VEVENT
DTSTART;VALUE=DATE:20230926
DTEND;VALUE=DATE:20230929
DTSTAMP:20260419T153543
CREATED:20230711T155348Z
LAST-MODIFIED:20230711T155348Z
UID:10000403-1695686400-1695945599@bectechnologies.net
SUMMARY:MWC Las Vegas 2023 – Booth #1017
DESCRIPTION:North America is one of the countries at the forefront of 5G innovation and MWC Las Vegas gives you access to its biggest enterprise opportunities. For 2023\, MWC is back in Las Vegas and it’s bigger\, better\, and bolder than ever before. This is where the mobile ecosystem\, technology industry\, and vertical industries affected by connectivity\, come to explore the themes that are shaping our world. \nGet ready to rebuild\, reimagine\, and reconnect at the industry’s most influential connectivity event.
URL:https://bectechnologies.net/event/mwc-las-vegas-2023-booth-1017/
LOCATION:Las Vegas Convention Center\, 3150 Paradise Rd\, Las Vegas\, NV\, 89109\, United States
CATEGORIES:Trade Show
ATTACH;FMTTYPE=image/jpeg:https://bectechnologies.net/wp-content/uploads/2023/07/MWC-Las-Vegas-2023-banner.jpg
ORGANIZER;CN="GSMA":MAILTO:info@gsma.com
GEO:36.1311282;-115.1511192
X-APPLE-STRUCTURED-LOCATION;VALUE=URI;X-ADDRESS=Las Vegas Convention Center 3150 Paradise Rd Las Vegas NV 89109 United States;X-APPLE-RADIUS=500;X-TITLE=3150 Paradise Rd:geo:-115.1511192,36.1311282
END:VEVENT
BEGIN:VEVENT
DTSTART;VALUE=DATE:20220928
DTEND;VALUE=DATE:20221001
DTSTAMP:20260419T153543
CREATED:20220309T215831Z
LAST-MODIFIED:20220912T212232Z
UID:10000495-1664323200-1664582399@bectechnologies.net
SUMMARY:MWC Las Vegas 2022 Booth #W1.719
DESCRIPTION:MWC Las Vegas 2022\, in partnership with CTIA\, showcases the hottest trends in connectivity and mobile innovation. It’s where the ecosystem meets face-to-face to build strong relationships\, to discover the latest trends and technology—as well as learn from the thought leaders who guide our industry forward. This is where the mobile ecosystem\, technology industry\, and vertical industries affected by connectivity come to explore the themes that are shaping our world. \nSo\, get ready to reconnect\, reimagine and reinvent at North America’s largest and most influential connectivity event.
URL:https://bectechnologies.net/event/mwc-las-vegas-2022/
LOCATION:Las Vegas Convention Center\, 3150 Paradise Rd\, Las Vegas\, NV\, 89109\, United States
CATEGORIES:Trade Show
ATTACH;FMTTYPE=image/png:https://bectechnologies.net/wp-content/uploads/2022/03/MWC_LasVegas_2022.png
ORGANIZER;CN="GSMA":MAILTO:info@gsma.com
GEO:36.1311282;-115.1511192
X-APPLE-STRUCTURED-LOCATION;VALUE=URI;X-ADDRESS=Las Vegas Convention Center 3150 Paradise Rd Las Vegas NV 89109 United States;X-APPLE-RADIUS=500;X-TITLE=3150 Paradise Rd:geo:-115.1511192,36.1311282
END:VEVENT
BEGIN:VEVENT
DTSTART;VALUE=DATE:20220321
DTEND;VALUE=DATE:20220325
DTSTAMP:20260419T153543
CREATED:20211207T231639Z
LAST-MODIFIED:20220318T151454Z
UID:10000386-1647820800-1648166399@bectechnologies.net
SUMMARY:IWCE 2022 Booth #2418
DESCRIPTION:IWCE is back in Vegas during your favorite time of year – March! But don’t let the timing fool you. This show will be unlike any other IWCE you’ve attended before. That’s because we’re upping the ante on all that you’ve come to expect. \nHere’s what we have in store for you: \n\nCutting-edge tech on our keynote stage\, in the expo hall\, and in our all-new Drone Zone\nA top-rated speaker lineup addressing what’s new and next in the industry\nUnique networking opportunities\, like our college basketball-themed networking reception with special surprises\n300+ sponsors and exhibitors alongside new experience areas throughout the show floor\nIn-depth workshops and ETA training that allow you to roll up your sleeves and learn\nPLUS: more announcements & features to come!
URL:https://bectechnologies.net/event/iwce-2022/
LOCATION:Las Vegas Convention Center\, 3150 Paradise Rd\, Las Vegas\, NV\, 89109\, United States
CATEGORIES:Trade Show
ATTACH;FMTTYPE=image/jpeg:https://bectechnologies.net/wp-content/uploads/2020/01/iwce-logo1-e1546984363144.jpg
ORGANIZER;CN="IWCE%E2%80%99s Urgent Communications":MAILTO:stacey.orlick@penton.com
GEO:36.1311282;-115.1511192
X-APPLE-STRUCTURED-LOCATION;VALUE=URI;X-ADDRESS=Las Vegas Convention Center 3150 Paradise Rd Las Vegas NV 89109 United States;X-APPLE-RADIUS=500;X-TITLE=3150 Paradise Rd:geo:-115.1511192,36.1311282
END:VEVENT
BEGIN:VEVENT
DTSTART;VALUE=DATE:20200330
DTEND;VALUE=DATE:20200404
DTSTAMP:20260419T153543
CREATED:20191217T155136Z
LAST-MODIFIED:20200106T221725Z
UID:10000359-1585526400-1585958399@bectechnologies.net
SUMMARY:IWCE 2020 - Booth#: 1755
DESCRIPTION:For over 40 years the International Wireless Communications Expo (IWCE) has been North America’s premier critical communications event. It is the one place where critical communication technology professionals gather to evaluate\, learn and network with industry leaders. \nIt features a five-day conference program and an 80\,000 square foot exhibit hall filled with nearly 400 exhibitors. 6\,500+ industry professionals from around the world attend from government\, public safety\, utilities\, transportation\, enterprise\, professional services and the dealer community. With 17 tracks\, including 4 exciting new tracks on 5G\, Safe Cities\, In-Building Wireless and Smart X\, IWCE 2020 offers plenty of opportunities to expand your knowledge and discover emerging technologies in critical communications. See full list of tracks and preview the agenda here.
URL:https://bectechnologies.net/event/iwce-2020-booth-1755/
LOCATION:Solutions: Public Safety\, NV
CATEGORIES:Conference,Trade Show
ATTACH;FMTTYPE=image/jpeg:https://bectechnologies.net/wp-content/uploads/2020/01/iwce-logo1-e1546984363144.jpg
END:VEVENT
END:VCALENDAR