BEGIN:VCALENDAR
VERSION:2.0
PRODID:-//BEC Technologies, Inc. - ECPv6.15.20//NONSGML v1.0//EN
CALSCALE:GREGORIAN
METHOD:PUBLISH
X-ORIGINAL-URL:https://bectechnologies.net
X-WR-CALDESC:Events for BEC Technologies, Inc.
REFRESH-INTERVAL;VALUE=DURATION:PT1H
X-Robots-Tag:noindex
X-PUBLISHED-TTL:PT1H
BEGIN:VTIMEZONE
TZID:America/Chicago
BEGIN:DAYLIGHT
TZOFFSETFROM:-0600
TZOFFSETTO:-0500
TZNAME:CDT
DTSTART:20200308T080000
END:DAYLIGHT
BEGIN:STANDARD
TZOFFSETFROM:-0500
TZOFFSETTO:-0600
TZNAME:CST
DTSTART:20201101T070000
END:STANDARD
BEGIN:DAYLIGHT
TZOFFSETFROM:-0600
TZOFFSETTO:-0500
TZNAME:CDT
DTSTART:20210314T080000
END:DAYLIGHT
BEGIN:STANDARD
TZOFFSETFROM:-0500
TZOFFSETTO:-0600
TZNAME:CST
DTSTART:20211107T070000
END:STANDARD
BEGIN:DAYLIGHT
TZOFFSETFROM:-0600
TZOFFSETTO:-0500
TZNAME:CDT
DTSTART:20220313T080000
END:DAYLIGHT
BEGIN:STANDARD
TZOFFSETFROM:-0500
TZOFFSETTO:-0600
TZNAME:CST
DTSTART:20221106T070000
END:STANDARD
END:VTIMEZONE
BEGIN:VEVENT
DTSTART;VALUE=DATE:20211026
DTEND;VALUE=DATE:20211029
DTSTAMP:20260419T205748
CREATED:20210617T173046Z
LAST-MODIFIED:20211007T151626Z
UID:10000481-1635206400-1635465599@bectechnologies.net
SUMMARY:MWC Los Angeles Booth #1737
DESCRIPTION:Whether you’re looking for the latest ideas\, highlighting your company\, or expanding your network – MWC Los Angeles will be the center of the connectivity and technology world where you can rebuild\, reinvent\, and reimagine the future of your business. Attendees from around the world come to Los Angeles to learn from North America’s leaders about the future of 5G Era\, IoT Connectivity\, Disruptive Innovation and Telco Cloud.
URL:https://bectechnologies.net/event/mwc-los-angeles-booth-1925/
LOCATION:Los Angeles Convention Center\, 1201 S Figueroa St.\, Los Angeles\, CA\, 90015\, United States
CATEGORIES:Trade Show
ATTACH;FMTTYPE=image/png:https://bectechnologies.net/wp-content/uploads/2021/06/mwc21_la_black@2x.png
ORGANIZER;CN="GSMA":MAILTO:info@gsma.com
END:VEVENT
END:VCALENDAR