BEGIN:VCALENDAR
VERSION:2.0
PRODID:-//BEC Technologies, Inc. - ECPv6.15.20//NONSGML v1.0//EN
CALSCALE:GREGORIAN
METHOD:PUBLISH
X-ORIGINAL-URL:https://bectechnologies.net
X-WR-CALDESC:Events for BEC Technologies, Inc.
REFRESH-INTERVAL;VALUE=DURATION:PT1H
X-Robots-Tag:noindex
X-PUBLISHED-TTL:PT1H
BEGIN:VTIMEZONE
TZID:UTC
BEGIN:STANDARD
TZOFFSETFROM:+0000
TZOFFSETTO:+0000
TZNAME:UTC
DTSTART:20150101T000000
END:STANDARD
END:VTIMEZONE
BEGIN:VEVENT
DTSTART;VALUE=DATE:20160709
DTEND;VALUE=DATE:20160714
DTSTAMP:20260420T043456
CREATED:20160321T214318Z
LAST-MODIFIED:20160321T214318Z
UID:10000356-1468022400-1468454399@bectechnologies.net
SUMMARY:Southeastern States Pupil Transportation Conference
DESCRIPTION:In conjunction with the 2016 conference\, the board says that it will host a Southeastern regional transportation issues forum for state directors and state association leaders (two per state). The moderated forum will provide an opportunity for leaders in the fourteen member states to discuss some of the most relevant issues facing pupil transportation today\, including occupant protection; driver licensing/hiring/retention; and\, many more important topics.\nInformation sharing among the key players in our industry will be the key to success at next year’s conference. State Directors and State Leaders\, we need all of you there as well as the people in your state that are involved in transporting students. Everyone has seen something or done something in the profession that works in making it safer for students. These are the ideas and solutions we need to be sharing with each other. The thing I have learned in this profession is that it is not about getting credit for something\, but it is about keeping students safe. If someone has special knowledge that increases the safety of our students\, then we need to share it with all who will listen. Please plan on attending this event\, because the information you have to offer will make a positive difference in this profession.\nI challenge every transportation leader in each of the 14 states to seek out the needs of our profession that will make us better at what we do throughout the year. I realize we offer the safest form of transportation in the world\, but if we are not progressing forward\, then we are backing up. Our goal as transportation professionals should be to improve daily to make it safer for the students we transport. The world is changing daily; so must we.
URL:https://bectechnologies.net/event/southeastern-states-pupil-transportation-conference/
LOCATION:Marriott Hotel and Charleston Civic Center\, 200 Lee Street East\, Charleston\, WV\, 25301\, United States
CATEGORIES:Trade Show
ATTACH;FMTTYPE=:
ORGANIZER;CN="Southeastern States Pupil Transportation Conference board of directors":MAILTO:sesptc@verizon.net
GEO:38.3555309;-81.6373668
X-APPLE-STRUCTURED-LOCATION;VALUE=URI;X-ADDRESS=Marriott Hotel and Charleston Civic Center 200 Lee Street East Charleston WV 25301 United States;X-APPLE-RADIUS=500;X-TITLE=200 Lee Street East:geo:-81.6373668,38.3555309
END:VEVENT
END:VCALENDAR