BEGIN:VCALENDAR
VERSION:2.0
PRODID:-//BEC Technologies, Inc. - ECPv6.15.20//NONSGML v1.0//EN
CALSCALE:GREGORIAN
METHOD:PUBLISH
X-WR-CALNAME:BEC Technologies, Inc.
X-ORIGINAL-URL:https://bectechnologies.net
X-WR-CALDESC:Events for BEC Technologies, Inc.
REFRESH-INTERVAL;VALUE=DURATION:PT1H
X-Robots-Tag:noindex
X-PUBLISHED-TTL:PT1H
BEGIN:VTIMEZONE
TZID:America/Chicago
BEGIN:DAYLIGHT
TZOFFSETFROM:-0600
TZOFFSETTO:-0500
TZNAME:CDT
DTSTART:20200308T080000
END:DAYLIGHT
BEGIN:STANDARD
TZOFFSETFROM:-0500
TZOFFSETTO:-0600
TZNAME:CST
DTSTART:20201101T070000
END:STANDARD
BEGIN:DAYLIGHT
TZOFFSETFROM:-0600
TZOFFSETTO:-0500
TZNAME:CDT
DTSTART:20210314T080000
END:DAYLIGHT
BEGIN:STANDARD
TZOFFSETFROM:-0500
TZOFFSETTO:-0600
TZNAME:CST
DTSTART:20211107T070000
END:STANDARD
BEGIN:DAYLIGHT
TZOFFSETFROM:-0600
TZOFFSETTO:-0500
TZNAME:CDT
DTSTART:20220313T080000
END:DAYLIGHT
BEGIN:STANDARD
TZOFFSETFROM:-0500
TZOFFSETTO:-0600
TZNAME:CST
DTSTART:20221106T070000
END:STANDARD
END:VTIMEZONE
BEGIN:VEVENT
DTSTART;VALUE=DATE:20210216
DTEND;VALUE=DATE:20210218
DTSTAMP:20260419T205726
CREATED:20201218T175451Z
LAST-MODIFIED:20210105T224911Z
UID:10000473-1613433600-1613606399@bectechnologies.net
SUMMARY:GTA’s Annual Vendor Showcase - Georgia Telecommunications Association
DESCRIPTION:We are pleased to exhibit at GTA’s 24th Annual Vendor Showcase scheduled for February 16-17\, 2021\, at the Marriott Macon City Center\, Macon\, Georgia. The showcase will take place in the Centre plex Convention Center directly connected to the hotel.\nThis is a unique opportunity for Associate members to share and promote new technologies\, products and services in the telecommunications industry
URL:https://bectechnologies.net/event/gta-2021-vendor-showcase/
LOCATION:Marriott Macon City Center\, 240 Coliseum Dr\, Macon\, GA\, 31217\, United States
CATEGORIES:Conference,Trade Show
ATTACH;FMTTYPE=image/gif:https://bectechnologies.net/wp-content/uploads/2020/01/gtalogo.gif
ORGANIZER;CN="Georgia Telecommunications Association":MAILTO:gta@gta.org
GEO:32.8427249;-83.6181014
X-APPLE-STRUCTURED-LOCATION;VALUE=URI;X-ADDRESS=Marriott Macon City Center 240 Coliseum Dr Macon GA 31217 United States;X-APPLE-RADIUS=500;X-TITLE=240 Coliseum Dr:geo:-83.6181014,32.8427249
END:VEVENT
END:VCALENDAR