BEGIN:VCALENDAR
VERSION:2.0
PRODID:-//BEC Technologies, Inc. - ECPv6.15.20//NONSGML v1.0//EN
CALSCALE:GREGORIAN
METHOD:PUBLISH
X-WR-CALNAME:BEC Technologies, Inc.
X-ORIGINAL-URL:https://bectechnologies.net
X-WR-CALDESC:Events for BEC Technologies, Inc.
REFRESH-INTERVAL;VALUE=DURATION:PT1H
X-Robots-Tag:noindex
X-PUBLISHED-TTL:PT1H
BEGIN:VTIMEZONE
TZID:America/Chicago
BEGIN:DAYLIGHT
TZOFFSETFROM:-0600
TZOFFSETTO:-0500
TZNAME:CDT
DTSTART:20220313T080000
END:DAYLIGHT
BEGIN:STANDARD
TZOFFSETFROM:-0500
TZOFFSETTO:-0600
TZNAME:CST
DTSTART:20221106T070000
END:STANDARD
BEGIN:DAYLIGHT
TZOFFSETFROM:-0600
TZOFFSETTO:-0500
TZNAME:CDT
DTSTART:20230312T080000
END:DAYLIGHT
BEGIN:STANDARD
TZOFFSETFROM:-0500
TZOFFSETTO:-0600
TZNAME:CST
DTSTART:20231105T070000
END:STANDARD
BEGIN:DAYLIGHT
TZOFFSETFROM:-0600
TZOFFSETTO:-0500
TZNAME:CDT
DTSTART:20240310T080000
END:DAYLIGHT
BEGIN:STANDARD
TZOFFSETFROM:-0500
TZOFFSETTO:-0600
TZNAME:CST
DTSTART:20241103T070000
END:STANDARD
END:VTIMEZONE
BEGIN:VTIMEZONE
TZID:UTC
BEGIN:STANDARD
TZOFFSETFROM:+0000
TZOFFSETTO:+0000
TZNAME:UTC
DTSTART:20170101T000000
END:STANDARD
END:VTIMEZONE
BEGIN:VEVENT
DTSTART;VALUE=DATE:20230520
DTEND;VALUE=DATE:20230524
DTSTAMP:20260419T113359
CREATED:20230403T164819Z
LAST-MODIFIED:20230511T201035Z
UID:10000513-1684540800-1684886399@bectechnologies.net
SUMMARY:National Restaurant Association Show – Booth #5736
DESCRIPTION:The National Restaurant Association Show is the largest annual gathering in the western hemisphere where over 35\,000 decision-making operators\, dealers\, and distributors representing the commercial chain\, commercial independent\, non-commercial\, retail\, and lodging segments gather to find the latest innovations in food\, beverage\, equipment\, supplies\, and more. Join us in 2023 to meet innovative thinkers\, get the latest insights on trends and discover all you can be and where you can go in food service.
URL:https://bectechnologies.net/event/national-restaurant-association-show/
LOCATION:McCormick Place\, 2301 S King Dr\, Chicago\, IL\, 60616\, United States
CATEGORIES:Trade Show
ATTACH;FMTTYPE=image/jpeg:https://bectechnologies.net/wp-content/uploads/2023/04/National_Restaurant_Association_show.jpg
ORGANIZER;CN="Winsight":MAILTO:mlindahl@winsightmedia.com
GEO:41.8512289;-87.617034
X-APPLE-STRUCTURED-LOCATION;VALUE=URI;X-ADDRESS=McCormick Place 2301 S King Dr Chicago IL 60616 United States;X-APPLE-RADIUS=500;X-TITLE=2301 S King Dr:geo:-87.617034,41.8512289
END:VEVENT
BEGIN:VEVENT
DTSTART;TZID=UTC:20180429T080000
DTEND;TZID=UTC:20180501T170000
DTSTAMP:20260419T113359
CREATED:20171109T004430Z
LAST-MODIFIED:20171109T004430Z
UID:10000305-1524988800-1525194000@bectechnologies.net
SUMMARY:American Telemedicine Association
DESCRIPTION:ATA18 is the world’s largest and most comprehensive meeting focused on telemedicine\, digital\, connected and mobile health. For 25 years\, the American Telemedicine Association’s (ATA) Annual Conference & Expo has been the premier forum for healthcare professionals and entrepreneurs designing the future of healthcare in the telemedicine\, telehealth and mHealth space.\n \nVisit BEC at booth # 1730
URL:https://bectechnologies.net/event/american-telemedicine-association/
LOCATION:McCormick Place\, 2301 S King Dr\, Chicago\, IL\, 60616\, United States
ATTACH;FMTTYPE=:
GEO:41.8512289;-87.617034
X-APPLE-STRUCTURED-LOCATION;VALUE=URI;X-ADDRESS=McCormick Place 2301 S King Dr Chicago IL 60616 United States;X-APPLE-RADIUS=500;X-TITLE=2301 S King Dr:geo:-87.617034,41.8512289
END:VEVENT
END:VCALENDAR