BEGIN:VCALENDAR
VERSION:2.0
PRODID:-//BEC Technologies, Inc. - ECPv6.15.20//NONSGML v1.0//EN
CALSCALE:GREGORIAN
METHOD:PUBLISH
X-ORIGINAL-URL:https://bectechnologies.net
X-WR-CALDESC:Events for BEC Technologies, Inc.
REFRESH-INTERVAL;VALUE=DURATION:PT1H
X-Robots-Tag:noindex
X-PUBLISHED-TTL:PT1H
BEGIN:VTIMEZONE
TZID:America/Chicago
BEGIN:DAYLIGHT
TZOFFSETFROM:-0600
TZOFFSETTO:-0500
TZNAME:CDT
DTSTART:20190310T080000
END:DAYLIGHT
BEGIN:STANDARD
TZOFFSETFROM:-0500
TZOFFSETTO:-0600
TZNAME:CST
DTSTART:20191103T070000
END:STANDARD
BEGIN:DAYLIGHT
TZOFFSETFROM:-0600
TZOFFSETTO:-0500
TZNAME:CDT
DTSTART:20200308T080000
END:DAYLIGHT
BEGIN:STANDARD
TZOFFSETFROM:-0500
TZOFFSETTO:-0600
TZNAME:CST
DTSTART:20201101T070000
END:STANDARD
BEGIN:DAYLIGHT
TZOFFSETFROM:-0600
TZOFFSETTO:-0500
TZNAME:CDT
DTSTART:20210314T080000
END:DAYLIGHT
BEGIN:STANDARD
TZOFFSETFROM:-0500
TZOFFSETTO:-0600
TZNAME:CST
DTSTART:20211107T070000
END:STANDARD
END:VTIMEZONE
BEGIN:VEVENT
DTSTART;VALUE=DATE:20200518
DTEND;VALUE=DATE:20200522
DTSTAMP:20260419T210223
CREATED:20200309T154246Z
LAST-MODIFIED:20200309T155412Z
UID:10000366-1589760000-1590105599@bectechnologies.net
SUMMARY:Connect (X) - CBRS On-Go Pavilion
DESCRIPTION:Connect (X) is the leading 5G infrastructure event in North America\, convening executives from commercial carriers\, fixed and mobile network operators\, enterprises and their infrastructure partners to invest\, design\, deploy and operate next generation public and private 5G networks.
URL:https://bectechnologies.net/event/connect-x-cbrs-on-go-pavilion/
LOCATION:Miami Beach Convention Center\, 1901 Convention Center Dr\, Miami Beach\,\, FL\, 33139\, United States\, 1700 Convention Center Dr\, United States
CATEGORIES:Trade Show
ATTACH;FMTTYPE=image/png:https://bectechnologies.net/wp-content/uploads/2020/03/ConnectX-1024x123-1.png
ORGANIZER;CN="Wireless Infrastructure Association":MAILTO:maggie.langan@wia.org
GEO:25.793301;-80.134902
X-APPLE-STRUCTURED-LOCATION;VALUE=URI;X-ADDRESS=Miami Beach Convention Center 1901 Convention Center Dr Miami Beach FL 33139 United States 1700 Convention Center Dr United States;X-APPLE-RADIUS=500;X-TITLE=1700 Convention Center Dr:geo:-80.134902,25.793301
END:VEVENT
END:VCALENDAR