BEGIN:VCALENDAR
VERSION:2.0
PRODID:-//BEC Technologies, Inc. - ECPv6.15.20//NONSGML v1.0//EN
CALSCALE:GREGORIAN
METHOD:PUBLISH
X-WR-CALNAME:BEC Technologies, Inc.
X-ORIGINAL-URL:https://bectechnologies.net
X-WR-CALDESC:Events for BEC Technologies, Inc.
REFRESH-INTERVAL;VALUE=DURATION:PT1H
X-Robots-Tag:noindex
X-PUBLISHED-TTL:PT1H
BEGIN:VTIMEZONE
TZID:America/Chicago
BEGIN:DAYLIGHT
TZOFFSETFROM:-0600
TZOFFSETTO:-0500
TZNAME:CDT
DTSTART:20210314T080000
END:DAYLIGHT
BEGIN:STANDARD
TZOFFSETFROM:-0500
TZOFFSETTO:-0600
TZNAME:CST
DTSTART:20211107T070000
END:STANDARD
BEGIN:DAYLIGHT
TZOFFSETFROM:-0600
TZOFFSETTO:-0500
TZNAME:CDT
DTSTART:20220313T080000
END:DAYLIGHT
BEGIN:STANDARD
TZOFFSETFROM:-0500
TZOFFSETTO:-0600
TZNAME:CST
DTSTART:20221106T070000
END:STANDARD
BEGIN:DAYLIGHT
TZOFFSETFROM:-0600
TZOFFSETTO:-0500
TZNAME:CDT
DTSTART:20230312T080000
END:DAYLIGHT
BEGIN:STANDARD
TZOFFSETFROM:-0500
TZOFFSETTO:-0600
TZNAME:CST
DTSTART:20231105T070000
END:STANDARD
BEGIN:DAYLIGHT
TZOFFSETFROM:-0600
TZOFFSETTO:-0500
TZNAME:CDT
DTSTART:20240310T080000
END:DAYLIGHT
BEGIN:STANDARD
TZOFFSETFROM:-0500
TZOFFSETTO:-0600
TZNAME:CST
DTSTART:20241103T070000
END:STANDARD
BEGIN:DAYLIGHT
TZOFFSETFROM:-0600
TZOFFSETTO:-0500
TZNAME:CDT
DTSTART:20250309T080000
END:DAYLIGHT
BEGIN:STANDARD
TZOFFSETFROM:-0500
TZOFFSETTO:-0600
TZNAME:CST
DTSTART:20251102T070000
END:STANDARD
BEGIN:DAYLIGHT
TZOFFSETFROM:-0600
TZOFFSETTO:-0500
TZNAME:CDT
DTSTART:20260308T080000
END:DAYLIGHT
BEGIN:STANDARD
TZOFFSETFROM:-0500
TZOFFSETTO:-0600
TZNAME:CST
DTSTART:20261101T070000
END:STANDARD
END:VTIMEZONE
BEGIN:VEVENT
DTSTART;VALUE=DATE:20250324
DTEND;VALUE=DATE:20250328
DTSTAMP:20260419T172318
CREATED:20250115T215025Z
LAST-MODIFIED:20250115T220855Z
UID:10000534-1742774400-1743119999@bectechnologies.net
SUMMARY:WISPAMERICA 2025 – Booth #626
DESCRIPTION:WISPAMERICA 2025 is the event you can’t afford to miss! Join industry leaders and innovators at WISPAMERICA 2025\, hosted by WISPA\, at the Oklahoma City Convention Center from March 24–27\, 2025. This premier trade show and conference is your ultimate destination to discover cutting-edge technologies\, build valuable partnerships\, and gain exclusive insights into the future of our industry. \nVisit us at Booth #626—we look forward to seeing you there!
URL:https://bectechnologies.net/event/wispamerica-2025-booth-626/
LOCATION:Oklahoma City Convention Center\, 100 Mick Cornett Dr\, \, OK\, Oklahoma City\, OK\, 73109\, United States
CATEGORIES:Trade Show
ATTACH;FMTTYPE=image/png:https://bectechnologies.net/wp-content/uploads/2025/01/WISPAMERICA-2025-banner.png
ORGANIZER;CN="WISPA":MAILTO:showinfo@wispa.org
END:VEVENT
BEGIN:VEVENT
DTSTART;VALUE=DATE:20220516
DTEND;VALUE=DATE:20220521
DTSTAMP:20260419T172318
CREATED:20211206T204032Z
LAST-MODIFIED:20211206T204256Z
UID:10000380-1652659200-1653091199@bectechnologies.net
SUMMARY:UTC Telecom & Technology 2022 Booth #607
DESCRIPTION:UTC Telecom & Technology 2022\, the trail to utility education. This is your opportunity to network\, explore and gain knowledge and insight into the world of Information & Communications Technology (ICT). Enjoy a plethora of sessions\, webinars\, and forums that go in-depth into the world of telecommunications and technology. Connecting you with more than 1\,500 key decision-makers at utilities working to serve critical infrastructure needs!
URL:https://bectechnologies.net/event/utc-telecom-technology-2022/
LOCATION:Oklahoma City Convention Center\, 100 Mick Cornett Dr\, \, OK\, Oklahoma City\, OK\, 73109\, United States
CATEGORIES:Trade Show
ATTACH;FMTTYPE=image/png:https://bectechnologies.net/wp-content/uploads/2021/12/UTC_Conference-2022.png
ORGANIZER;CN="Utilities Technology Council":MAILTO:https://utc.org/get-in-touch-with-us/
END:VEVENT
END:VCALENDAR