BEGIN:VCALENDAR
VERSION:2.0
PRODID:-//BEC Technologies, Inc. - ECPv6.15.20//NONSGML v1.0//EN
CALSCALE:GREGORIAN
METHOD:PUBLISH
X-ORIGINAL-URL:https://bectechnologies.net
X-WR-CALDESC:Events for BEC Technologies, Inc.
REFRESH-INTERVAL;VALUE=DURATION:PT1H
X-Robots-Tag:noindex
X-PUBLISHED-TTL:PT1H
BEGIN:VTIMEZONE
TZID:America/Chicago
BEGIN:DAYLIGHT
TZOFFSETFROM:-0600
TZOFFSETTO:-0500
TZNAME:CDT
DTSTART:20200308T080000
END:DAYLIGHT
BEGIN:STANDARD
TZOFFSETFROM:-0500
TZOFFSETTO:-0600
TZNAME:CST
DTSTART:20201101T070000
END:STANDARD
BEGIN:DAYLIGHT
TZOFFSETFROM:-0600
TZOFFSETTO:-0500
TZNAME:CDT
DTSTART:20210314T080000
END:DAYLIGHT
BEGIN:STANDARD
TZOFFSETFROM:-0500
TZOFFSETTO:-0600
TZNAME:CST
DTSTART:20211107T070000
END:STANDARD
BEGIN:DAYLIGHT
TZOFFSETFROM:-0600
TZOFFSETTO:-0500
TZNAME:CDT
DTSTART:20220313T080000
END:DAYLIGHT
BEGIN:STANDARD
TZOFFSETFROM:-0500
TZOFFSETTO:-0600
TZNAME:CST
DTSTART:20221106T070000
END:STANDARD
BEGIN:DAYLIGHT
TZOFFSETFROM:-0600
TZOFFSETTO:-0500
TZNAME:CDT
DTSTART:20230312T080000
END:DAYLIGHT
BEGIN:STANDARD
TZOFFSETFROM:-0500
TZOFFSETTO:-0600
TZNAME:CST
DTSTART:20231105T070000
END:STANDARD
BEGIN:DAYLIGHT
TZOFFSETFROM:-0600
TZOFFSETTO:-0500
TZNAME:CDT
DTSTART:20240310T080000
END:DAYLIGHT
BEGIN:STANDARD
TZOFFSETFROM:-0500
TZOFFSETTO:-0600
TZNAME:CST
DTSTART:20241103T070000
END:STANDARD
BEGIN:DAYLIGHT
TZOFFSETFROM:-0600
TZOFFSETTO:-0500
TZNAME:CDT
DTSTART:20250309T080000
END:DAYLIGHT
BEGIN:STANDARD
TZOFFSETFROM:-0500
TZOFFSETTO:-0600
TZNAME:CST
DTSTART:20251102T070000
END:STANDARD
BEGIN:DAYLIGHT
TZOFFSETFROM:-0600
TZOFFSETTO:-0500
TZNAME:CDT
DTSTART:20260308T080000
END:DAYLIGHT
BEGIN:STANDARD
TZOFFSETFROM:-0500
TZOFFSETTO:-0600
TZNAME:CST
DTSTART:20261101T070000
END:STANDARD
BEGIN:DAYLIGHT
TZOFFSETFROM:-0600
TZOFFSETTO:-0500
TZNAME:CDT
DTSTART:20270314T080000
END:DAYLIGHT
BEGIN:STANDARD
TZOFFSETFROM:-0500
TZOFFSETTO:-0600
TZNAME:CST
DTSTART:20271107T070000
END:STANDARD
END:VTIMEZONE
BEGIN:VEVENT
DTSTART;VALUE=DATE:20260414
DTEND;VALUE=DATE:20260417
DTSTAMP:20260419T105512
CREATED:20260217T233517Z
LAST-MODIFIED:20260217T233517Z
UID:10000557-1776124800-1776383999@bectechnologies.net
SUMMARY:2026 ENGINEERING & OPERATIONS CONFERENCE AND TRADE SHOW – Booth #233
DESCRIPTION:Join more than 1\,000 public power professionals from across the West for the region’s largest electric utility event. Over three days\, you’ll gain practical insights from 26 breakout sessions\, explore the latest products and innovations with more than 250 exhibitors\, and connect with peers from utilities across the Western U.S. Strengthen your skills\, earn continuing education credits\, and experience the energy of the industry through live equipment displays\, networking events\, and hands-on pre-conference workshops. \nMeet our team at Booth 233\, see you there!
URL:https://bectechnologies.net/event/2026-engineering-operations-conference-and-trade-show-booth-233/
LOCATION:Oregon Convention Center\, 777 NE Martin Luther King Jr. Blvd.\, Portland\, OR\, 97232\, United States
CATEGORIES:Trade Show
ATTACH;FMTTYPE=image/png:https://bectechnologies.net/wp-content/uploads/2026/02/EO2026-banner.png
ORGANIZER;CN="NWPPA":MAILTO:nwppa@nwppa.org
END:VEVENT
BEGIN:VEVENT
DTSTART;VALUE=DATE:20210823
DTEND;VALUE=DATE:20210828
DTSTAMP:20260419T105512
CREATED:20210805T200259Z
LAST-MODIFIED:20210806T154453Z
UID:10000489-1629676800-1630108799@bectechnologies.net
SUMMARY:UTC Telecom & Technology 2021 Booth #1153
DESCRIPTION:UTC Telecom & Technology 2021\, the trail to utility education. This is your opportunity to network\, explore and gain knowledge and insight into the world of Information & Communications Technology (ICT). Enjoy a plethora of sessions\, webinars\, and forums that go in-depth into the world of telecommunications and technology. Each day is filled with opportunities to learn from global experts who aren’t solely talking about modernizing utilities – they’re putting it to work.
URL:https://bectechnologies.net/event/utc-telecom-technology-2021/
LOCATION:Oregon Convention Center\, 777 NE Martin Luther King Jr. Blvd.\, Portland\, OR\, 97232\, United States
CATEGORIES:Trade Show
ATTACH;FMTTYPE=image/jpeg:https://bectechnologies.net/wp-content/uploads/2021/08/UTC-2021-banner.jpg
ORGANIZER;CN="Utilities Technology Council":MAILTO:https://utc.org/get-in-touch-with-us/
END:VEVENT
END:VCALENDAR