BEGIN:VCALENDAR
VERSION:2.0
PRODID:-//BEC Technologies, Inc. - ECPv6.15.20//NONSGML v1.0//EN
CALSCALE:GREGORIAN
METHOD:PUBLISH
X-ORIGINAL-URL:https://bectechnologies.net
X-WR-CALDESC:Events for BEC Technologies, Inc.
REFRESH-INTERVAL;VALUE=DURATION:PT1H
X-Robots-Tag:noindex
X-PUBLISHED-TTL:PT1H
BEGIN:VTIMEZONE
TZID:America/Chicago
BEGIN:DAYLIGHT
TZOFFSETFROM:-0600
TZOFFSETTO:-0500
TZNAME:CDT
DTSTART:20210314T080000
END:DAYLIGHT
BEGIN:STANDARD
TZOFFSETFROM:-0500
TZOFFSETTO:-0600
TZNAME:CST
DTSTART:20211107T070000
END:STANDARD
BEGIN:DAYLIGHT
TZOFFSETFROM:-0600
TZOFFSETTO:-0500
TZNAME:CDT
DTSTART:20220313T080000
END:DAYLIGHT
BEGIN:STANDARD
TZOFFSETFROM:-0500
TZOFFSETTO:-0600
TZNAME:CST
DTSTART:20221106T070000
END:STANDARD
BEGIN:DAYLIGHT
TZOFFSETFROM:-0600
TZOFFSETTO:-0500
TZNAME:CDT
DTSTART:20230312T080000
END:DAYLIGHT
BEGIN:STANDARD
TZOFFSETFROM:-0500
TZOFFSETTO:-0600
TZNAME:CST
DTSTART:20231105T070000
END:STANDARD
END:VTIMEZONE
BEGIN:VEVENT
DTSTART;VALUE=DATE:20221018
DTEND;VALUE=DATE:20221021
DTSTAMP:20260419T153544
CREATED:20220818T162441Z
LAST-MODIFIED:20220912T212144Z
UID:10000500-1666051200-1666310399@bectechnologies.net
SUMMARY:Futurecom Booth # F30
DESCRIPTION:Futurecom is the biggest event in Technology\, transformation\, and digital telecommunications in Latin America and becomes a hybrid event\, integrating the physical environment and its digital platform\, expanding its reach\, and enhancing the possibilities of relationships. \nIt will be a 360º experience specially prepared for you! The in-person event will be held at São Paulo Expo from October 18th to 20th\, 2022\, with an extension of content and networking on our online platform. \nThe last edition of the event had more than 250 exhibiting brands and brought together more than 30\,000 qualified visitors from all regions of Brazil and several countries. With high-level content\, it brought together about 4\,800 delegates and several attractions of lectures and free content\, which added up to more than 240 hours of content.
URL:https://bectechnologies.net/event/futurecom-booth-f30/
LOCATION:São Paulo Expo\, Rodovia dos Imigrantes\, 1\,5 km - Jabaquara\, São Paulo\, SP\, 04329-900\, Brazil
CATEGORIES:Trade Show
ATTACH;FMTTYPE=image/jpeg:https://bectechnologies.net/wp-content/uploads/2022/08/BRA20FUC-SEO-1024x404_EN.jpg
ORGANIZER;CN="Informa":MAILTO:informamarkets@informa.com
END:VEVENT
END:VCALENDAR