BEGIN:VCALENDAR
VERSION:2.0
PRODID:-//BEC Technologies, Inc. - ECPv6.15.20//NONSGML v1.0//EN
CALSCALE:GREGORIAN
METHOD:PUBLISH
X-WR-CALNAME:BEC Technologies, Inc.
X-ORIGINAL-URL:https://bectechnologies.net
X-WR-CALDESC:Events for BEC Technologies, Inc.
REFRESH-INTERVAL;VALUE=DURATION:PT1H
X-Robots-Tag:noindex
X-PUBLISHED-TTL:PT1H
BEGIN:VTIMEZONE
TZID:UTC
BEGIN:STANDARD
TZOFFSETFROM:+0000
TZOFFSETTO:+0000
TZNAME:UTC
DTSTART:20170101T000000
END:STANDARD
END:VTIMEZONE
BEGIN:VEVENT
DTSTART;VALUE=DATE:20180306
DTEND;VALUE=DATE:20180309
DTSTAMP:20260420T020505
CREATED:20180116T035611Z
LAST-MODIFIED:20180116T035611Z
UID:10000397-1520294400-1520553599@bectechnologies.net
SUMMARY:WISPAMERICA
DESCRIPTION:For the 6th year\, WISPA is bringing together Internet Service Providers\, industry experts and leading suppliers for WISPAMERICA 2018.  This 3-day event is sure to be one of the largest of the year and will feature some of the brightest minds and hottest new innovations for the ISP world.  The Exhibit Hall will feature 90+ Exhibitors showcasing a wide array of products and services: From wireless gear to fiber-optics\, tower infrastructure\, software\, cloud services\, VoIP solutions\, consultants\, mapping services and more.\nVisit BEC at booth #315
URL:https://bectechnologies.net/event/wispamerica/
LOCATION:Sheraton Birmingham\, 2101 Richard Arrington Jr. Boulevard North\, Birmingham\, AL\, 35203\, United States
CATEGORIES:Trade Show
ATTACH;FMTTYPE=:
GEO:33.5246156;-86.8105664
X-APPLE-STRUCTURED-LOCATION;VALUE=URI;X-ADDRESS=Sheraton Birmingham 2101 Richard Arrington Jr. Boulevard North Birmingham AL 35203 United States;X-APPLE-RADIUS=500;X-TITLE=2101 Richard Arrington Jr. Boulevard North:geo:-86.8105664,33.5246156
END:VEVENT
END:VCALENDAR