BEGIN:VCALENDAR
VERSION:2.0
PRODID:-//BEC Technologies, Inc. - ECPv6.15.20//NONSGML v1.0//EN
CALSCALE:GREGORIAN
METHOD:PUBLISH
X-WR-CALNAME:BEC Technologies, Inc.
X-ORIGINAL-URL:https://bectechnologies.net
X-WR-CALDESC:Events for BEC Technologies, Inc.
REFRESH-INTERVAL;VALUE=DURATION:PT1H
X-Robots-Tag:noindex
X-PUBLISHED-TTL:PT1H
BEGIN:VTIMEZONE
TZID:America/Chicago
BEGIN:DAYLIGHT
TZOFFSETFROM:-0600
TZOFFSETTO:-0500
TZNAME:CDT
DTSTART:20200308T080000
END:DAYLIGHT
BEGIN:STANDARD
TZOFFSETFROM:-0500
TZOFFSETTO:-0600
TZNAME:CST
DTSTART:20201101T070000
END:STANDARD
BEGIN:DAYLIGHT
TZOFFSETFROM:-0600
TZOFFSETTO:-0500
TZNAME:CDT
DTSTART:20210314T080000
END:DAYLIGHT
BEGIN:STANDARD
TZOFFSETFROM:-0500
TZOFFSETTO:-0600
TZNAME:CST
DTSTART:20211107T070000
END:STANDARD
BEGIN:DAYLIGHT
TZOFFSETFROM:-0600
TZOFFSETTO:-0500
TZNAME:CDT
DTSTART:20220313T080000
END:DAYLIGHT
BEGIN:STANDARD
TZOFFSETFROM:-0500
TZOFFSETTO:-0600
TZNAME:CST
DTSTART:20221106T070000
END:STANDARD
END:VTIMEZONE
BEGIN:VEVENT
DTSTART;VALUE=DATE:20211019
DTEND;VALUE=DATE:20211022
DTSTAMP:20260419T192609
CREATED:20210707T191950Z
LAST-MODIFIED:20210803T194137Z
UID:10000485-1634601600-1634860799@bectechnologies.net
SUMMARY:UBBA Summit & Plugfest 2021 #22
DESCRIPTION:Meet us in St. Louis and See Interoperability in Action! UBBA will bring the first-ever Private LTE Plugfest to St. Louis in October to showcase the interoperability of IoT devices and utility use cases on private LTE networks. \nJoin us in St. Louis in October for an exciting event aimed at examining the interoperability\, security\, and scale of private LTE for utilities. If you’re looking to build the utility of the future and want to see what one looks like\, this is the place for you. We’ll explore the key challenges facing electric utilities and set the stage for real collaboration as we analyze private broadband as a critical information infrastructure for utilities.
URL:https://bectechnologies.net/event/ubba-summit-plugfest-2021/
LOCATION:St. Louis Hilton at the Ballpark\, 1 S Broadway\, St. Louis\, MO\, 63102\, United States
CATEGORIES:Trade Show
ATTACH;FMTTYPE=image/png:https://bectechnologies.net/wp-content/uploads/2021/07/UBBA-logo-web-color.png
ORGANIZER;CN="UBBA":MAILTO:bharris@ubba.com
END:VEVENT
END:VCALENDAR