BEGIN:VCALENDAR
VERSION:2.0
PRODID:-//BEC Technologies, Inc. - ECPv6.15.20//NONSGML v1.0//EN
CALSCALE:GREGORIAN
METHOD:PUBLISH
X-ORIGINAL-URL:https://bectechnologies.net
X-WR-CALDESC:Events for BEC Technologies, Inc.
REFRESH-INTERVAL;VALUE=DURATION:PT1H
X-Robots-Tag:noindex
X-PUBLISHED-TTL:PT1H
BEGIN:VTIMEZONE
TZID:America/Chicago
BEGIN:DAYLIGHT
TZOFFSETFROM:-0600
TZOFFSETTO:-0500
TZNAME:CDT
DTSTART:20220313T080000
END:DAYLIGHT
BEGIN:STANDARD
TZOFFSETFROM:-0500
TZOFFSETTO:-0600
TZNAME:CST
DTSTART:20221106T070000
END:STANDARD
BEGIN:DAYLIGHT
TZOFFSETFROM:-0600
TZOFFSETTO:-0500
TZNAME:CDT
DTSTART:20230312T080000
END:DAYLIGHT
BEGIN:STANDARD
TZOFFSETFROM:-0500
TZOFFSETTO:-0600
TZNAME:CST
DTSTART:20231105T070000
END:STANDARD
BEGIN:DAYLIGHT
TZOFFSETFROM:-0600
TZOFFSETTO:-0500
TZNAME:CDT
DTSTART:20240310T080000
END:DAYLIGHT
BEGIN:STANDARD
TZOFFSETFROM:-0500
TZOFFSETTO:-0600
TZNAME:CST
DTSTART:20241103T070000
END:STANDARD
END:VTIMEZONE
BEGIN:VEVENT
DTSTART;VALUE=DATE:20230411
DTEND;VALUE=DATE:20230414
DTSTAMP:20260419T135052
CREATED:20230309T210940Z
LAST-MODIFIED:20230309T210940Z
UID:10000509-1681171200-1681430399@bectechnologies.net
SUMMARY:OnGo Alliance April Members Meeting
DESCRIPTION:The OnGo Alliance April 2023 Members Event will be bigger and better than ever before. This year the Alliance is looking to push the CBRS ecosystem further. Members can expect a great show with networking opportunities\, business promotions\, and ecosystem development. Non-members on the other hand can come and learn more about the Alliance\, its members’ solutions\, and how you can get more done for less using CBRS for your private networks. \nAttendees will walk away understanding how they can gain increased performance & better results for their business with their own secure CBRS private network and learn why cellular private networks are the future of networking for organizations.
URL:https://bectechnologies.net/event/ongo-alliance-april-members-meeting/
LOCATION:The Statler Dallas\, 1914 Commerce St\, Dallas\, TX\, 75201\, United States
CATEGORIES:Trade Show
ATTACH;FMTTYPE=image/png:https://bectechnologies.net/wp-content/uploads/2023/03/OnGo_Alliance_logo.png
ORGANIZER;CN="OnGo Alliance":MAILTO:admin@ongoalliance.org
END:VEVENT
END:VCALENDAR