BEGIN:VCALENDAR
VERSION:2.0
PRODID:-//BEC Technologies, Inc. - ECPv6.15.20//NONSGML v1.0//EN
CALSCALE:GREGORIAN
METHOD:PUBLISH
X-WR-CALNAME:BEC Technologies, Inc.
X-ORIGINAL-URL:https://bectechnologies.net
X-WR-CALDESC:Events for BEC Technologies, Inc.
REFRESH-INTERVAL;VALUE=DURATION:PT1H
X-Robots-Tag:noindex
X-PUBLISHED-TTL:PT1H
BEGIN:VTIMEZONE
TZID:America/Chicago
BEGIN:DAYLIGHT
TZOFFSETFROM:-0600
TZOFFSETTO:-0500
TZNAME:CDT
DTSTART:20240310T080000
END:DAYLIGHT
BEGIN:STANDARD
TZOFFSETFROM:-0500
TZOFFSETTO:-0600
TZNAME:CST
DTSTART:20241103T070000
END:STANDARD
BEGIN:DAYLIGHT
TZOFFSETFROM:-0600
TZOFFSETTO:-0500
TZNAME:CDT
DTSTART:20250309T080000
END:DAYLIGHT
BEGIN:STANDARD
TZOFFSETFROM:-0500
TZOFFSETTO:-0600
TZNAME:CST
DTSTART:20251102T070000
END:STANDARD
BEGIN:DAYLIGHT
TZOFFSETFROM:-0600
TZOFFSETTO:-0500
TZNAME:CDT
DTSTART:20260308T080000
END:DAYLIGHT
BEGIN:STANDARD
TZOFFSETFROM:-0500
TZOFFSETTO:-0600
TZNAME:CST
DTSTART:20261101T070000
END:STANDARD
BEGIN:DAYLIGHT
TZOFFSETFROM:-0600
TZOFFSETTO:-0500
TZNAME:CDT
DTSTART:20270314T080000
END:DAYLIGHT
BEGIN:STANDARD
TZOFFSETFROM:-0500
TZOFFSETTO:-0600
TZNAME:CST
DTSTART:20271107T070000
END:STANDARD
END:VTIMEZONE
BEGIN:VEVENT
DTSTART;VALUE=DATE:20260413
DTEND;VALUE=DATE:20260417
DTSTAMP:20260424T141644
CREATED:20260217T224152Z
LAST-MODIFIED:20260312T220831Z
UID:10000556-1776038400-1776383999@bectechnologies.net
SUMMARY:Channel Partners Conference & Expo\, Booth #1560
DESCRIPTION:Channel Partners Conference & Expo\, the largest independent channel event in the world\, has united top partners\, providers\, and innovators to shape what’s next. Alongside it\, #MSPSummit has become a cornerstone for the managed-services community\, now expanding into a year-round series with spring and fall events. Together\, they deliver the most complete view of the channel’s evolution. \nIn 2026\, Channel Velocity: Acceleration Through Intelligence takes center stage: featuring the return of the AI Symposium\, a new CEO Track\, and sessions on automation\, data-driven strategy\, and customer intelligence. With partner playbooks and actionable frameworks to drive ROI\, this is where you’ll move faster\, think smarter\, and grow stronger. \nSpecial offer: Discount applied when you use promo code BEC  \n\nFREE Expo + Keynote Pass (Does not include meals)\n$269 Standard Pass (Includes meals)\n$429 Premium Pass (Includes meals)\n\nSee you there!
URL:https://bectechnologies.net/event/channel-partners-conference-expo-booth-1469/
LOCATION:The Venetian Convention Center & Expo\, 201 Sands Ave\, Las Vegas\, NV\, 89109\, United States
CATEGORIES:Trade Show
ATTACH;FMTTYPE=image/jpeg:https://bectechnologies.net/wp-content/uploads/2026/02/Channel-partners-expo-2026-banner.jpg
ORGANIZER;CN="Informa Telecoms &amp%3B Media":MAILTO: itmevents@informa.com
END:VEVENT
BEGIN:VEVENT
DTSTART;VALUE=DATE:20250908
DTEND;VALUE=DATE:20250912
DTSTAMP:20260424T141644
CREATED:20250808T163123Z
LAST-MODIFIED:20250808T163123Z
UID:10000433-1757289600-1757635199@bectechnologies.net
SUMMARY:RE+2025 – Booth #V2849
DESCRIPTION:RE+ hosts the most comprehensive event for the renewable energy industry\, 20 years running. By recognizing that energy sources and their infrastructure are most efficient and productive when working in tandem\, RE+ is helping the renewable energy industry pave the way for a modern\, resilient grid. \nThe event offers unparalleled business opportunities and education across key sectors of the energy landscape—including solar\, energy storage\, wind energy\, electric vehicles and infrastructure\, microgrids\, and hydrogen and fuel cells. \nMeet BEC team at the Venetian Expo Center\, Level 1\, Booth #V2849. We look forward to connecting with you and showcasing our solutions for a smarter\, more connected energy future.
URL:https://bectechnologies.net/event/re2025-booth-v2849/
LOCATION:The Venetian Convention Center & Expo\, 201 Sands Ave\, Las Vegas\, NV\, 89109\, United States
CATEGORIES:Trade Show
ATTACH;FMTTYPE=image/webp:https://bectechnologies.net/wp-content/uploads/2025/08/RE25-banner-webp.webp
END:VEVENT
END:VCALENDAR