BEGIN:VCALENDAR
VERSION:2.0
PRODID:-//BEC Technologies, Inc. - ECPv6.15.20//NONSGML v1.0//EN
CALSCALE:GREGORIAN
METHOD:PUBLISH
X-ORIGINAL-URL:https://bectechnologies.net
X-WR-CALDESC:Events for BEC Technologies, Inc.
REFRESH-INTERVAL;VALUE=DURATION:PT1H
X-Robots-Tag:noindex
X-PUBLISHED-TTL:PT1H
BEGIN:VTIMEZONE
TZID:UTC
BEGIN:STANDARD
TZOFFSETFROM:+0000
TZOFFSETTO:+0000
TZNAME:UTC
DTSTART:20160101T000000
END:STANDARD
END:VTIMEZONE
BEGIN:VEVENT
DTSTART;TZID=UTC:20171005T080000
DTEND;TZID=UTC:20171005T170000
DTSTAMP:20260420T061252
CREATED:20170928T203543Z
LAST-MODIFIED:20170928T203543Z
UID:10000297-1507190400-1507222800@bectechnologies.net
SUMMARY:Verizon Connected Technology Tour - Norman
DESCRIPTION:This luncheon and Verizon partner introduction is our 1st Annual event held at the Las Vegas SLS Hotel\, and offers you a great opportunity to discover new solutions for your business offered by Verizon and our valued partners.\nThis is a great time to learn what is out there\, and speak with some technology partners that can help you and your business drive productivity\, efficiencies\, and profitability with the use of technology. We are excited to have you attend and network with the local Verizon team and our trusted Technology Partners.
URL:https://bectechnologies.net/event/verizon-connected-technology-tour-norman/
LOCATION:University of Oklahoma – Thurman J. White Forum Building\, 1704 Asp Avenue\, Norman\, OK\, 73072\, United States
ATTACH;FMTTYPE=:
END:VEVENT
END:VCALENDAR