BEGIN:VCALENDAR
VERSION:2.0
PRODID:-//BEC Technologies, Inc. - ECPv6.15.20//NONSGML v1.0//EN
CALSCALE:GREGORIAN
METHOD:PUBLISH
X-ORIGINAL-URL:https://bectechnologies.net
X-WR-CALDESC:Events for BEC Technologies, Inc.
REFRESH-INTERVAL;VALUE=DURATION:PT1H
X-Robots-Tag:noindex
X-PUBLISHED-TTL:PT1H
BEGIN:VTIMEZONE
TZID:America/Chicago
BEGIN:DAYLIGHT
TZOFFSETFROM:-0600
TZOFFSETTO:-0500
TZNAME:CDT
DTSTART:20190310T080000
END:DAYLIGHT
BEGIN:STANDARD
TZOFFSETFROM:-0500
TZOFFSETTO:-0600
TZNAME:CST
DTSTART:20191103T070000
END:STANDARD
BEGIN:DAYLIGHT
TZOFFSETFROM:-0600
TZOFFSETTO:-0500
TZNAME:CDT
DTSTART:20200308T080000
END:DAYLIGHT
BEGIN:STANDARD
TZOFFSETFROM:-0500
TZOFFSETTO:-0600
TZNAME:CST
DTSTART:20201101T070000
END:STANDARD
BEGIN:DAYLIGHT
TZOFFSETFROM:-0600
TZOFFSETTO:-0500
TZNAME:CDT
DTSTART:20210314T080000
END:DAYLIGHT
BEGIN:STANDARD
TZOFFSETFROM:-0500
TZOFFSETTO:-0600
TZNAME:CST
DTSTART:20211107T070000
END:STANDARD
BEGIN:DAYLIGHT
TZOFFSETFROM:-0600
TZOFFSETTO:-0500
TZNAME:CDT
DTSTART:20220313T080000
END:DAYLIGHT
BEGIN:STANDARD
TZOFFSETFROM:-0500
TZOFFSETTO:-0600
TZNAME:CST
DTSTART:20221106T070000
END:STANDARD
END:VTIMEZONE
BEGIN:VEVENT
DTSTART;TZID=America/Chicago:20210715T083000
DTEND;TZID=America/Chicago:20210715T170000
DTSTAMP:20260419T204257
CREATED:20210702T165927Z
LAST-MODIFIED:20210803T194314Z
UID:10000484-1626337800-1626368400@bectechnologies.net
SUMMARY:Ericsson Utilities Virtual Innovation Day
DESCRIPTION:The Ericsson Utilities Virtual Innovation Day is an exciting\, immersive experience\, with interactive demonstrations and presentations. You’ll learn about the newest connectivity and communications developments for utilities from Ericsson and industry experts. Join our panel: \nExplore the capabilities of LTE/5G that are enhancing the spectrum of use cases within utilities \nWireless technologies enable wide area coverage that can flex between latency and speed. This allows for a diversity of use cases including slow devices like meters\, quick response intelligent devices\, and high throughput hungry video cameras. This panel will explore the new capabilities LTE/5G brings to utilities\, including: \n\nwireless portability to existing sensor systems\nbridging existing legacy systems into mobile access\nresilience\, multiple priorities\, and integration into wireless technology evolution
URL:https://bectechnologies.net/event/ericsson-utilities-virtual-innovation-day/
LOCATION:Virtual Event
CATEGORIES:Conference
ATTACH;FMTTYPE=image/jpeg:https://bectechnologies.net/wp-content/uploads/2020/01/300X200partners_ericsson.jpg
ORGANIZER;CN="Ericsson":MAILTO:https://www.ericsson.com/en/about-us/company-facts/ericsson-worldwide/united-states
END:VEVENT
BEGIN:VEVENT
DTSTART;VALUE=DATE:20210330
DTEND;VALUE=DATE:20210401
DTSTAMP:20260419T204257
CREATED:20210303T215203Z
LAST-MODIFIED:20210303T215203Z
UID:10000475-1617062400-1617235199@bectechnologies.net
SUMMARY:CCA’s Mobile Carriers Show 2021 Virtual
DESCRIPTION:CCA’s Mobile Carriers Show is the only North American event to focus exclusively on smart strategies\, technology innovations\, and business opportunities for carriers in this increasingly mobile world. As a result\, it brings together more senior decision-makers from more carrier organizations than any other tradeshow in the United States. \nThe educational program at MCS 2021\, along with its networking opportunities and exhibit hall\, will explore technology trends that are changing the way we work and live\, and will provide a platform for companies to reach the lucrative competitive carrier market\, which spends $15 billion annually on products and services.
URL:https://bectechnologies.net/event/ccas-mobile-carriers-show-2021-virtual/
LOCATION:Virtual Event
CATEGORIES:Trade Show
ATTACH;FMTTYPE=image/png:https://bectechnologies.net/wp-content/uploads/2020/01/CCA.png
ORGANIZER;CN="Competitive Carriers Association (CCA)":MAILTO:administrator@competitivecarriers.org
END:VEVENT
BEGIN:VEVENT
DTSTART;VALUE=DATE:20210302
DTEND;VALUE=DATE:20210305
DTSTAMP:20260419T204257
CREATED:20210105T230254Z
LAST-MODIFIED:20210105T230352Z
UID:10000474-1614643200-1614902399@bectechnologies.net
SUMMARY:Channel Partner Conference and Expo 2021 Virtual
DESCRIPTION:For nearly 25 years\, Channel Partners has been the leader in bringing together the best of the best and enabling the channel to build relationships\, showcase top solutions\, and stay up-to-date on the latest trends. \nBEC Technologies will be virtually showcasing in Channel Partners Virtual 2021 to help partners persevere\, overcome and progress.
URL:https://bectechnologies.net/event/channel-partner-conference-and-expo-2021-virtual/
LOCATION:Virtual Event
CATEGORIES:Conference,Trade Show
ATTACH;FMTTYPE=image/png:https://bectechnologies.net/wp-content/uploads/2020/01/CP_Expo-2020.png
ORGANIZER;CN="Informa Telecoms &amp%3B Media":MAILTO: itmevents@informa.com
END:VEVENT
BEGIN:VEVENT
DTSTART;VALUE=DATE:20201116
DTEND;VALUE=DATE:20201121
DTSTAMP:20260419T204257
CREATED:20200927T223354Z
LAST-MODIFIED:20200927T223817Z
UID:10000472-1605484800-1605916799@bectechnologies.net
SUMMARY:2020 CITE ANNUAL CONFERENCE
DESCRIPTION:California IT in Education is a not-for-profit\, professional membership association supporting the IT Professionals working in schools. Our members are dedicated individuals supporting hardware\, software\, help desk\, data\, WiFi\, providing training\, and installing and maintaining the infrastructure as the technology used in schools in now part of the Internet of Things (IoT). \nThe 2020 CITE Annual Conference is scheduled to take place Monday\, November 16- Friday\, November 20\, 2020\, and will be fully virtual.
URL:https://bectechnologies.net/event/2020-cite-annual-conference/
LOCATION:Virtual Event
CATEGORIES:Trade Show
ATTACH;FMTTYPE=image/png:https://bectechnologies.net/wp-content/uploads/2020/09/CITE-Conference.png
ORGANIZER;CN="CITE - California IT in Education":MAILTO:conference@cite.org
END:VEVENT
BEGIN:VEVENT
DTSTART;VALUE=DATE:20201027
DTEND;VALUE=DATE:20201030
DTSTAMP:20260419T204257
CREATED:20200927T222519Z
LAST-MODIFIED:20200927T222519Z
UID:10000471-1603756800-1604015999@bectechnologies.net
SUMMARY:GSMA Thrive North America featuring the CTIA 5G Summit
DESCRIPTION:GSMA creates the largest mobile technology events in the world – in Barcelona\, Los Angeles\, and Shanghai – and now online for North America. \nThrive North America brings together our industry’s leaders for deep discussion\, unearthing the insights that will transform the new wave of disruptive innovation\, it will host forums to create policy\, networking to forge partnerships\, and a cutting edge exhibition to inform your business strategy. \nAs the world experiences radical transformation through new technologies\, North America leads the way in discovering the true potential of a connected ecosystem\, the world watches to see “what’s next” in the most connected continent on the planet.
URL:https://bectechnologies.net/event/gsma-thrive-north-america/
LOCATION:Virtual Event
CATEGORIES:Trade Show
ATTACH;FMTTYPE=image/png:https://bectechnologies.net/wp-content/uploads/2020/09/GSMA-Thrive-Logo.png
ORGANIZER;CN="GSMA":MAILTO:info@gsma.com
END:VEVENT
BEGIN:VEVENT
DTSTART;VALUE=DATE:20201021
DTEND;VALUE=DATE:20201022
DTSTAMP:20260419T204257
CREATED:20200927T221400Z
LAST-MODIFIED:20200927T221424Z
UID:10000470-1603238400-1603324799@bectechnologies.net
SUMMARY:CCA Annual Convention
DESCRIPTION:CCA’s Annual Convention is the only North American event to focus exclusively on smart strategies\, technology innovations\, and business opportunities for carriers in this increasingly mobile world. As a result\, it brings together more senior decision-makers from more carrier organizations than any other tradeshow in the United States.\n​\nCCA’s Annual Convention educational program\, networking opportunities\, and exhibit floor will explore technology trends that are changing the way we work and live\, and will provide a platform for companies to reach the lucrative competitive carrier market\, which spends $15 billion annually on products and services.
URL:https://bectechnologies.net/event/cca-convention/
LOCATION:Virtual Event
CATEGORIES:Trade Show
ATTACH;FMTTYPE=image/png:https://bectechnologies.net/wp-content/uploads/2020/09/CCA-annual-convention-Virtual.png
ORGANIZER;CN="Competitive Carriers Association (CCA)":MAILTO:administrator@competitivecarriers.org
END:VEVENT
BEGIN:VEVENT
DTSTART;VALUE=DATE:20201020
DTEND;VALUE=DATE:20201023
DTSTAMP:20260419T204257
CREATED:20200927T220056Z
LAST-MODIFIED:20200927T220056Z
UID:10000367-1603152000-1603411199@bectechnologies.net
SUMMARY:WISPA2020 Stronger Together
DESCRIPTION:WISPA has chosen a hybrid in-person and live stream format for their upcoming event\, WISPA2020 Stronger Together. The in-person attendance and sessions will be held at The Flamingo Hotel in Las Vegas\, NV. \nBEC Technologies will showcase its latest fixed wireless broadband connectivity solutions during the virtual vendor exhibiting session.
URL:https://bectechnologies.net/event/wispa2020-stronger-together/
LOCATION:Virtual Event
CATEGORIES:Trade Show
ATTACH;FMTTYPE=image/png:https://bectechnologies.net/wp-content/uploads/2020/09/WISPA2020-StrongerTogether.png
ORGANIZER;CN="WISPA":MAILTO:showinfo@wispa.org
END:VEVENT
END:VCALENDAR